Workbook
Name Conceptos: '[1]Conceptos de Gastos'!$C$5:$C$306
Name fechas: Datos!$D$6:$Y$6
Name Lista: Datos!#REF!
Name Rango: [2]Datos!$E$4:$E$5,[2]Datos!$E$7:$H$9,[2]Datos!$E$12:$G$16,[2]Datos!$E$18:$H$19,[2]Datos!$F$21,[2]Datos!$H$21,[2]Datos!$E$25:$F$33,[2]Datos!$E$36:$H$44,[2]Datos!$H$46
Name tabla: Datos!$D$6:$Y$18

Sheet Menú

Sheet Datos
B2: Cotización Comparativa
C4: Moneda de referencia: | D4: Dólar
D5: FECHAS >>
B6: País | C6: Nombre
B7: Argentina | C7: Peso Argentino
B8: Uruguay | C8: Peso Uruguayo
B9: Colombia | C9: Peso Colombiano
B10: Brasil | C10: Real
B11: Chile | C11: Peso Chileno
B12: Venezuela | C12: Bolivar
B13: Paraguay | C13: Guaraní
B14: Perú | C14: Nuevo Sol
B15: Mexico | C15: Peso Mexicano
B16: Nicaragua | C16: Cordobas Nicaraguense

Sheet Análisis de Variación
B2: Análisis de variación
D4: Período 1 | E4: Período 2 | F4: Período 3 | H4: Período 4 | J4: Período 5 | L4: Período 6 | N4: Período 7 | P4: Período 8 | R4: Período 9 | T4: Período 10 | V4: Período 11 | X4: Período 12 | Z4: Período 13 | AB4: Período 14 | AD4: Período 15 | AF4: Período 16 | AH4: Período 17 | AJ4: Período 18 | AL4: Período 19 | AN4: Período 20 | AP4: Período 21 | AR4: Período 22
D5: =+Datos!D6 -> 0 | E5: =IF(Datos!E6="","",Datos!E6) | F5: =IF(Datos!F6="","",Datos!F6) | H5: =IF(Datos!G6="","",Datos!G6) | J5: =IF(Datos!H6="","",Datos!H6) | L5: =IF(Datos!I6="","",Datos!I6) | N5: =IF(Datos!J6="","",Datos!J6) | P5: =IF(Datos!K6="","",Datos!K6) | R5: =IF(Datos!L6="","",Datos!L6) | T5: =IF(Datos!M6="","",Datos!M6) | V5: =IF(Datos!N6="","",Datos!N6) | X5: =IF(Datos!O6="","",Datos!O6) | Z5: =IF(Datos!P6="","",Datos!P6) | AB5: =IF(Datos!Q6="","",Datos!Q6) | AD5: =IF(Datos!R6="","",Datos!R6) | AF5: =IF(Datos!S6="","",Datos!S6) | AH5: =IF(Datos!T6="","",Datos!T6) | AJ5: =IF(Datos!U6="","",Datos!U6) | AL5: =IF(Datos!V6="","",Datos!V6) | AN5: =IF(Datos!W6="","",Datos!W6) | AP5: =IF(Datos!X6="","",Datos!X6) | AR5: =IF(Datos!Y6="","",Datos!Y6)
E6: =+Datos!E6-Datos!$D$6&" días acumulados" -> 0 días acumulados | F6: =+Datos!F6-Datos!$D$6&" días acumulados" -> 0 días acumulados | H6: =+Datos!G6-Datos!$D$6&" días acumulados" -> 0 días acumulados | J6: =+Datos!H6-Datos!$D$6&" días acumulados" -> 0 días acumulados | L6: =+Datos!I6-Datos!$D$6&" días acumulados" -> 0 días acumulados | N6: =+Datos!J6-Datos!$D$6&" días acumulados" -> 0 días acumulados | P6: =+Datos!K6-Datos!$D$6&" días acumulados" -> 0 días acumulados | R6: =+Datos!L6-Datos!$D$6&" días acumulados" -> 0 días acumulados | T6: =+Datos!M6-Datos!$D$6&" días acumulados" -> 0 días acumulados | V6: =+Datos!N6-Datos!$D$6&" días acumulados" -> 0 días acumulados | X6: =+Datos!O6-Datos!$D$6&" días acumulados" -> 0 días acumulados | Z6: =+Datos!P6-Datos!$D$6&" días acumulados" -> 0 días acumulados | AB6: =+Datos!Q6-Datos!$D$6&" días acumulados" -> 0 días acumulados | AD6: =+Datos!R6-Datos!$D$6&" días acumulados" -> 0 días acumulados | AF6: =+Datos!S6-Datos!$D$6&" días acumulados" -> 0 días acumulados | AH6: =+Datos!T6-Datos!$D$6&" días acumulados" -> 0 días acumulados | AJ6: =+Datos!U6-Datos!$D$6&" días acumulados" -> 0 días acumulados | AL6: =+Datos!V6-Datos!$D$6&" días acumulados" -> 0 días acumulados | AN6: =+Datos!W6-Datos!$D$6&" días acumulados" -> 0 días acumulados | AP6: =+Datos!X6-Datos!$D$6&" días acumulados" -> 0 días acumulados | AR6: =+Datos!Y6-Datos!$D$6&" días acumulados" -> 0 días acumulados
B7: =Datos!B6 -> País | C7: =Datos!C6 -> Nombre | D7: Valor Inicial de la serie | E7: Variación | F7: Variación | G7: Variación Acumulada | H7: Variación | I7: Variación Acumulada | J7: Variación | K7: Variación Acumulada | L7: Variación | M7: Variación Acumulada | N7: Variación | O7: Variación Acumulada | P7: Variación | Q7: Variación Acumulada | R7: Variación | S7: Variación Acumulada | T7: Variación | U7: Variación Acumulada | V7: Variación | W7: Variación Acumulada | X7: Variación | Y7: Variación Acumulada | Z7: Variación | AA7: Variación Acumulada | AB7: Variación | AC7: Variación Acumulada | AD7: Variación | AE7: Variación Acumulada | AF7: Variación | AG7: Variación Acumulada | AH7: Variación | AI7: Variación Acumulada | AJ7: Variación | AK7: Variación Acumulada | AL7: Variación | AM7: Variación Acumulada | AN7: Variación | AO7: Variación Acumulada | AP7: Variación | AQ7: Variación Acumulada | AR7: Variación | AS7: Variación Acumulada
B8: =IF(Datos!B7="","",Datos!B7) -> Argentina | C8: =IF(Datos!C7="","",Datos!C7) -> Peso Argentino | D8: =IF((Datos!D7)="","",(Datos!D7)) | E8: =IF(ISERROR(Datos!E7/Datos!$D7),"",IF((Datos!E7/Datos!$D7-1)=-1,"",Datos!E7/Datos!$D7-1)) | F8: =IF(ISERROR(Datos!F7/Datos!E7),"",IF((Datos!F7/Datos!E7-1)=-1,"",(Datos!F7/Datos!E7-1))) | G8: =IF(ISERROR((Datos!F7/Datos!$D7)),"",IF((Datos!F7/Datos!$D7-1)=-1,"",(Datos!F7/Datos!$D7-1))) | H8: =IF(ISERROR(Datos!G7/Datos!F7),"",IF((Datos!G7/Datos!F7-1)=-1,"",(Datos!G7/Datos!F7-1))) | I8: =IF(ISERROR((Datos!G7/Datos!$D7)),"",IF((Datos!G7/Datos!$D7-1)=-1,"",(Datos!G7/Datos!$D7-1))) | J8: =IF(ISERROR(Datos!H7/Datos!G7),"",IF((Datos!H7/Datos!G7-1)=-1,"",(Datos!H7/Datos!G7-1))) | K8: =IF(ISERROR((Datos!H7/Datos!$D7)),"",IF((Datos!H7/Datos!$D7-1)=-1,"",(Datos!H7/Datos!$D7-1))) | L8: =IF(ISERROR(Datos!I7/Datos!H7),"",IF((Datos!I7/Datos!H7-1)=-1,"",(Datos!I7/Datos!H7-1))) | M8: =IF(ISERROR((Datos!I7/Datos!$D7)),"",IF((Datos!I7/Datos!$D7-1)=-1,"",(Datos!I7/Datos!$D7-1))) | N8: =IF(ISERROR(Datos!J7/Datos!I7),"",IF((Datos!J7/Datos!I7-1)=-1,"",Datos!J7/Datos!I7-1)) | O8: =IF(ISERROR((Datos!J7/Datos!$D7)),"",IF((Datos!J7/Datos!$D7-1)=-1,"",(Datos!J7/Datos!$D7-1))) | P8: =IF(ISERROR(Datos!K7/Datos!J7),"",IF((Datos!K7/Datos!J7-1)=-1,"",(Datos!K7/Datos!J7-1))) | Q8: =IF(ISERROR((Datos!K7/Datos!$D7)),"",IF((Datos!K7/Datos!$D7-1)=-1,"",(Datos!K7/Datos!$D7-1))) | R8: =IF(ISERROR(Datos!L7/Datos!K7),"",IF((Datos!L7/Datos!K7-1)=-1,"",Datos!L7/Datos!K7-1)) | S8: =IF(ISERROR((Datos!L7/Datos!$D7)),"",IF((Datos!L7/Datos!$D7-1)=-1,"",(Datos!L7/Datos!$D7-1))) | T8: =IF(ISERROR(Datos!M7/Datos!L7),"",IF((Datos!M7/Datos!L7-1)=-1,"",Datos!M7/Datos!L7-1)) | U8: =IF(ISERROR((Datos!M7/Datos!$D7)),"",IF((Datos!M7/Datos!$D7-1)=-1,"",(Datos!M7/Datos!$D7-1))) | V8: =IF(ISERROR(Datos!N7/Datos!M7),"",IF((Datos!N7/Datos!M7-1)=-1,"",Datos!N7/Datos!M7-1)) | W8: =IF(ISERROR((Datos!N7/Datos!$D7)),"",IF((Datos!N7/Datos!$D7-1)=-1,"",(Datos!N7/Datos!$D7-1))) | X8: =IF(ISERROR(Datos!O7/Datos!N7),"",IF((Datos!O7/Datos!N7-1)=-1,"",Datos!O7/Datos!N7-1)) | Y8: =IF(ISERROR((Datos!O7/Datos!$D7)),"",IF((Datos!O7/Datos!$D7-1)=-1,"",(Datos!O7/Datos!$D7-1))) | Z8: =IF(ISERROR(Datos!P7/Datos!O7),"",IF((Datos!P7/Datos!O7-1)=-1,"",Datos!P7/Datos!O7-1)) | AA8: =IF(ISERROR((Datos!P7/Datos!$D7)),"",IF((Datos!P7/Datos!$D7-1)=-1,"",(Datos!P7/Datos!$D7-1))) | AB8: =IF(ISERROR(Datos!Q7/Datos!P7),"",IF((Datos!Q7/Datos!P7-1)=-1,"",Datos!Q7/Datos!P7-1)) | AC8: =IF(ISERROR((Datos!Q7/Datos!$D7)),"",IF((Datos!Q7/Datos!$D7-1)=-1,"",(Datos!Q7/Datos!$D7-1))) | AD8: =IF(ISERROR(Datos!R7/Datos!Q7),"",IF((Datos!R7/Datos!Q7-1)=-1,"",Datos!R7/Datos!Q7-1)) | AE8: =IF(ISERROR((Datos!R7/Datos!$D7)),"",IF((Datos!R7/Datos!$D7-1)=-1,"",(Datos!R7/Datos!$D7-1))) | AF8: =IF(ISERROR(Datos!S7/Datos!R7),"",IF((Datos!S7/Datos!R7-1)=-1,"",Datos!S7/Datos!R7-1)) | AG8: =IF(ISERROR((Datos!S7/Datos!$D7)),"",IF((Datos!S7/Datos!$D7-1)=-1,"",(Datos!S7/Datos!$D7-1))) | AH8: =IF(ISERROR(Datos!T7/Datos!S7),"",IF((Datos!T7/Datos!S7-1)=-1,"",Datos!T7/Datos!S7-1)) | AI8: =IF(ISERROR((Datos!T7/Datos!$D7)),"",IF((Datos!T7/Datos!$D7-1)=-1,"",(Datos!T7/Datos!$D7-1))) | AJ8: =IF(ISERROR(Datos!U7/Datos!T7),"",IF((Datos!U7/Datos!T7-1)=-1,"",Datos!U7/Datos!T7-1)) | AK8: =IF(ISERROR((Datos!U7/Datos!$D7)),"",IF((Datos!U7/Datos!$D7-1)=-1,"",(Datos!U7/Datos!$D7-1))) | AL8: =IF(ISERROR(Datos!V7/Datos!U7),"",IF((Datos!V7/Datos!U7-1)=-1,"",Datos!V7/Datos!U7-1)) | AM8: =IF(ISERROR((Datos!V7/Datos!$D7)),"",IF((Datos!V7/Datos!$D7-1)=-1,"",(Datos!V7/Datos!$D7-1))) | AN8: =IF(ISERROR(Datos!W7/Datos!V7),"",IF((Datos!W7/Datos!V7-1)=-1,"",Datos!W7/Datos!V7-1)) | AO8: =IF(ISERROR((Datos!W7/Datos!$D7)),"",IF((Datos!W7/Datos!$D7-1)=-1,"",(Datos!W7/Datos!$D7-1))) | AP8: =IF(ISERROR(Datos!X7/Datos!W7),"",IF((Datos!X7/Datos!W7-1)=-1,"",Datos!X7/Datos!W7-1)) | AQ8: =IF(ISERROR((Datos!X7/Datos!$D7)),"",IF((Datos!X7/Datos!$D7-1)=-1,"",(Datos!X7/Datos!$D7-1))) | AR8: =IF(ISERROR(Datos!Y7/Datos!X7),"",IF((Datos!Y7/Datos!X7-1)=-1,"",Datos!Y7/Datos!X7-1)) | AS8: =IF(ISERROR((Datos!Y7/Datos!$D7)),"",IF((Datos!Y7/Datos!$D7-1)=-1,"",(Datos!Y7/Datos!$D7-1)))
B9: =IF(Datos!B8="","",Datos!B8) -> Uruguay | C9: =IF(Datos!C8="","",Datos!C8) -> Peso Uruguayo | D9: =IF((Datos!D8)="","",(Datos!D8)) | E9: =IF(ISERROR(Datos!E8/Datos!$D8),"",IF((Datos!E8/Datos!$D8-1)=-1,"",Datos!E8/Datos!$D8-1)) | F9: =IF(ISERROR(Datos!F8/Datos!E8),"",IF((Datos!F8/Datos!E8-1)=-1,"",(Datos!F8/Datos!E8-1))) | G9: =IF(ISERROR((Datos!F8/Datos!$D8)),"",IF((Datos!F8/Datos!$D8-1)=-1,"",(Datos!F8/Datos!$D8-1))) | H9: =IF(ISERROR(Datos!G8/Datos!F8),"",IF((Datos!G8/Datos!F8-1)=-1,"",(Datos!G8/Datos!F8-1))) | I9: =IF(ISERROR((Datos!G8/Datos!$D8)),"",IF((Datos!G8/Datos!$D8-1)=-1,"",(Datos!G8/Datos!$D8-1))) | J9: =IF(ISERROR(Datos!H8/Datos!G8),"",IF((Datos!H8/Datos!G8-1)=-1,"",(Datos!H8/Datos!G8-1))) | K9: =IF(ISERROR((Datos!H8/Datos!$D8)),"",IF((Datos!H8/Datos!$D8-1)=-1,"",(Datos!H8/Datos!$D8-1))) | L9: =IF(ISERROR(Datos!I8/Datos!H8),"",IF((Datos!I8/Datos!H8-1)=-1,"",(Datos!I8/Datos!H8-1))) | M9: =IF(ISERROR((Datos!I8/Datos!$D8)),"",IF((Datos!I8/Datos!$D8-1)=-1,"",(Datos!I8/Datos!$D8-1))) | N9: =IF(ISERROR(Datos!J8/Datos!I8),"",IF((Datos!J8/Datos!I8-1)=-1,"",Datos!J8/Datos!I8-1)) | O9: =IF(ISERROR((Datos!J8/Datos!$D8)),"",IF((Datos!J8/Datos!$D8-1)=-1,"",(Datos!J8/Datos!$D8-1))) | P9: =IF(ISERROR(Datos!K8/Datos!J8),"",IF((Datos!K8/Datos!J8-1)=-1,"",(Datos!K8/Datos!J8-1))) | Q9: =IF(ISERROR((Datos!K8/Datos!$D8)),"",IF((Datos!K8/Datos!$D8-1)=-1,"",(Datos!K8/Datos!$D8-1))) | R9: =IF(ISERROR(Datos!L8/Datos!K8),"",IF((Datos!L8/Datos!K8-1)=-1,"",Datos!L8/Datos!K8-1)) | S9: =IF(ISERROR((Datos!L8/Datos!$D8)),"",IF((Datos!L8/Datos!$D8-1)=-1,"",(Datos!L8/Datos!$D8-1))) | T9: =IF(ISERROR(Datos!M8/Datos!L8),"",IF((Datos!M8/Datos!L8-1)=-1,"",Datos!M8/Datos!L8-1)) | U9: =IF(ISERROR((Datos!M8/Datos!$D8)),"",IF((Datos!M8/Datos!$D8-1)=-1,"",(Datos!M8/Datos!$D8-1))) | V9: =IF(ISERROR(Datos!N8/Datos!M8),"",IF((Datos!N8/Datos!M8-1)=-1,"",Datos!N8/Datos!M8-1)) | W9: =IF(ISERROR((Datos!N8/Datos!$D8)),"",IF((Datos!N8/Datos!$D8-1)=-1,"",(Datos!N8/Datos!$D8-1))) | X9: =IF(ISERROR(Datos!O8/Datos!N8),"",IF((Datos!O8/Datos!N8-1)=-1,"",Datos!O8/Datos!N8-1)) | Y9: =IF(ISERROR((Datos!O8/Datos!$D8)),"",IF((Datos!O8/Datos!$D8-1)=-1,"",(Datos!O8/Datos!$D8-1))) | Z9: =IF(ISERROR(Datos!P8/Datos!O8),"",IF((Datos!P8/Datos!O8-1)=-1,"",Datos!P8/Datos!O8-1)) | AA9: =IF(ISERROR((Datos!P8/Datos!$D8)),"",IF((Datos!P8/Datos!$D8-1)=-1,"",(Datos!P8/Datos!$D8-1))) | AB9: =IF(ISERROR(Datos!Q8/Datos!P8),"",IF((Datos!Q8/Datos!P8-1)=-1,"",Datos!Q8/Datos!P8-1)) | AC9: =IF(ISERROR((Datos!Q8/Datos!$D8)),"",IF((Datos!Q8/Datos!$D8-1)=-1,"",(Datos!Q8/Datos!$D8-1))) | AD9: =IF(ISERROR(Datos!R8/Datos!Q8),"",IF((Datos!R8/Datos!Q8-1)=-1,"",Datos!R8/Datos!Q8-1)) | AE9: =IF(ISERROR((Datos!R8/Datos!$D8)),"",IF((Datos!R8/Datos!$D8-1)=-1,"",(Datos!R8/Datos!$D8-1))) | AF9: =IF(ISERROR(Datos!S8/Datos!R8),"",IF((Datos!S8/Datos!R8-1)=-1,"",Datos!S8/Datos!R8-1)) | AG9: =IF(ISERROR((Datos!S8/Datos!$D8)),"",IF((Datos!S8/Datos!$D8-1)=-1,"",(Datos!S8/Datos!$D8-1))) | AH9: =IF(ISERROR(Datos!T8/Datos!S8),"",IF((Datos!T8/Datos!S8-1)=-1,"",Datos!T8/Datos!S8-1)) | AI9: =IF(ISERROR((Datos!T8/Datos!$D8)),"",IF((Datos!T8/Datos!$D8-1)=-1,"",(Datos!T8/Datos!$D8-1))) | AJ9: =IF(ISERROR(Datos!U8/Datos!T8),"",IF((Datos!U8/Datos!T8-1)=-1,"",Datos!U8/Datos!T8-1)) | AK9: =IF(ISERROR((Datos!U8/Datos!$D8)),"",IF((Datos!U8/Datos!$D8-1)=-1,"",(Datos!U8/Datos!$D8-1))) | AL9: =IF(ISERROR(Datos!V8/Datos!U8),"",IF((Datos!V8/Datos!U8-1)=-1,"",Datos!V8/Datos!U8-1)) | AM9: =IF(ISERROR((Datos!V8/Datos!$D8)),"",IF((Datos!V8/Datos!$D8-1)=-1,"",(Datos!V8/Datos!$D8-1))) | AN9: =IF(ISERROR(Datos!W8/Datos!V8),"",IF((Datos!W8/Datos!V8-1)=-1,"",Datos!W8/Datos!V8-1)) | AO9: =IF(ISERROR((Datos!W8/Datos!$D8)),"",IF((Datos!W8/Datos!$D8-1)=-1,"",(Datos!W8/Datos!$D8-1))) | AP9: =IF(ISERROR(Datos!X8/Datos!W8),"",IF((Datos!X8/Datos!W8-1)=-1,"",Datos!X8/Datos!W8-1)) | AQ9: =IF(ISERROR((Datos!X8/Datos!$D8)),"",IF((Datos!X8/Datos!$D8-1)=-1,"",(Datos!X8/Datos!$D8-1))) | AR9: =IF(ISERROR(Datos!Y8/Datos!X8),"",IF((Datos!Y8/Datos!X8-1)=-1,"",Datos!Y8/Datos!X8-1)) | AS9: =IF(ISERROR((Datos!Y8/Datos!$D8)),"",IF((Datos!Y8/Datos!$D8-1)=-1,"",(Datos!Y8/Datos!$D8-1)))
B10: =IF(Datos!B9="","",Datos!B9) -> Colombia | C10: =IF(Datos!C9="","",Datos!C9) -> Peso Colombiano | D10: =IF((Datos!D9)="","",(Datos!D9)) | E10: =IF(ISERROR(Datos!E9/Datos!$D9),"",IF((Datos!E9/Datos!$D9-1)=-1,"",Datos!E9/Datos!$D9-1)) | F10: =IF(ISERROR(Datos!F9/Datos!E9),"",IF((Datos!F9/Datos!E9-1)=-1,"",(Datos!F9/Datos!E9-1))) | G10: =IF(ISERROR((Datos!F9/Datos!$D9)),"",IF((Datos!F9/Datos!$D9-1)=-1,"",(Datos!F9/Datos!$D9-1))) | H10: =IF(ISERROR(Datos!G9/Datos!F9),"",IF((Datos!G9/Datos!F9-1)=-1,"",(Datos!G9/Datos!F9-1))) | I10: =IF(ISERROR((Datos!G9/Datos!$D9)),"",IF((Datos!G9/Datos!$D9-1)=-1,"",(Datos!G9/Datos!$D9-1))) | J10: =IF(ISERROR(Datos!H9/Datos!G9),"",IF((Datos!H9/Datos!G9-1)=-1,"",(Datos!H9/Datos!G9-1))) | K10: =IF(ISERROR((Datos!H9/Datos!$D9)),"",IF((Datos!H9/Datos!$D9-1)=-1,"",(Datos!H9/Datos!$D9-1))) | L10: =IF(ISERROR(Datos!I9/Datos!H9),"",IF((Datos!I9/Datos!H9-1)=-1,"",(Datos!I9/Datos!H9-1))) | M10: =IF(ISERROR((Datos!I9/Datos!$D9)),"",IF((Datos!I9/Datos!$D9-1)=-1,"",(Datos!I9/Datos!$D9-1))) | N10: =IF(ISERROR(Datos!J9/Datos!I9),"",IF((Datos!J9/Datos!I9-1)=-1,"",Datos!J9/Datos!I9-1)) | O10: =IF(ISERROR((Datos!J9/Datos!$D9)),"",IF((Datos!J9/Datos!$D9-1)=-1,"",(Datos!J9/Datos!$D9-1))) | P10: =IF(ISERROR(Datos!K9/Datos!J9),"",IF((Datos!K9/Datos!J9-1)=-1,"",(Datos!K9/Datos!J9-1))) | Q10: =IF(ISERROR((Datos!K9/Datos!$D9)),"",IF((Datos!K9/Datos!$D9-1)=-1,"",(Datos!K9/Datos!$D9-1))) | R10: =IF(ISERROR(Datos!L9/Datos!K9),"",IF((Datos!L9/Datos!K9-1)=-1,"",Datos!L9/Datos!K9-1)) | S10: =IF(ISERROR((Datos!L9/Datos!$D9)),"",IF((Datos!L9/Datos!$D9-1)=-1,"",(Datos!L9/Datos!$D9-1))) | T10: =IF(ISERROR(Datos!M9/Datos!L9),"",IF((Datos!M9/Datos!L9-1)=-1,"",Datos!M9/Datos!L9-1)) | U10: =IF(ISERROR((Datos!M9/Datos!$D9)),"",IF((Datos!M9/Datos!$D9-1)=-1,"",(Datos!M9/Datos!$D9-1))) | V10: =IF(ISERROR(Datos!N9/Datos!M9),"",IF((Datos!N9/Datos!M9-1)=-1,"",Datos!N9/Datos!M9-1)) | W10: =IF(ISERROR((Datos!N9/Datos!$D9)),"",IF((Datos!N9/Datos!$D9-1)=-1,"",(Datos!N9/Datos!$D9-1))) | X10: =IF(ISERROR(Datos!O9/Datos!N9),"",IF((Datos!O9/Datos!N9-1)=-1,"",Datos!O9/Datos!N9-1)) | Y10: =IF(ISERROR((Datos!O9/Datos!$D9)),"",IF((Datos!O9/Datos!$D9-1)=-1,"",(Datos!O9/Datos!$D9-1))) | Z10: =IF(ISERROR(Datos!P9/Datos!O9),"",IF((Datos!P9/Datos!O9-1)=-1,"",Datos!P9/Datos!O9-1)) | AA10: =IF(ISERROR((Datos!P9/Datos!$D9)),"",IF((Datos!P9/Datos!$D9-1)=-1,"",(Datos!P9/Datos!$D9-1))) | AB10: =IF(ISERROR(Datos!Q9/Datos!P9),"",IF((Datos!Q9/Datos!P9-1)=-1,"",Datos!Q9/Datos!P9-1)) | AC10: =IF(ISERROR((Datos!Q9/Datos!$D9)),"",IF((Datos!Q9/Datos!$D9-1)=-1,"",(Datos!Q9/Datos!$D9-1))) | AD10: =IF(ISERROR(Datos!R9/Datos!Q9),"",IF((Datos!R9/Datos!Q9-1)=-1,"",Datos!R9/Datos!Q9-1)) | AE10: =IF(ISERROR((Datos!R9/Datos!$D9)),"",IF((Datos!R9/Datos!$D9-1)=-1,"",(Datos!R9/Datos!$D9-1))) | AF10: =IF(ISERROR(Datos!S9/Datos!R9),"",IF((Datos!S9/Datos!R9-1)=-1,"",Datos!S9/Datos!R9-1)) | AG10: =IF(ISERROR((Datos!S9/Datos!$D9)),"",IF((Datos!S9/Datos!$D9-1)=-1,"",(Datos!S9/Datos!$D9-1))) | AH10: =IF(ISERROR(Datos!T9/Datos!S9),"",IF((Datos!T9/Datos!S9-1)=-1,"",Datos!T9/Datos!S9-1)) | AI10: =IF(ISERROR((Datos!T9/Datos!$D9)),"",IF((Datos!T9/Datos!$D9-1)=-1,"",(Datos!T9/Datos!$D9-1))) | AJ10: =IF(ISERROR(Datos!U9/Datos!T9),"",IF((Datos!U9/Datos!T9-1)=-1,"",Datos!U9/Datos!T9-1)) | AK10: =IF(ISERROR((Datos!U9/Datos!$D9)),"",IF((Datos!U9/Datos!$D9-1)=-1,"",(Datos!U9/Datos!$D9-1))) | AL10: =IF(ISERROR(Datos!V9/Datos!U9),"",IF((Datos!V9/Datos!U9-1)=-1,"",Datos!V9/Datos!U9-1)) | AM10: =IF(ISERROR((Datos!V9/Datos!$D9)),"",IF((Datos!V9/Datos!$D9-1)=-1,"",(Datos!V9/Datos!$D9-1))) | AN10: =IF(ISERROR(Datos!W9/Datos!V9),"",IF((Datos!W9/Datos!V9-1)=-1,"",Datos!W9/Datos!V9-1)) | AO10: =IF(ISERROR((Datos!W9/Datos!$D9)),"",IF((Datos!W9/Datos!$D9-1)=-1,"",(Datos!W9/Datos!$D9-1))) | AP10: =IF(ISERROR(Datos!X9/Datos!W9),"",IF((Datos!X9/Datos!W9-1)=-1,"",Datos!X9/Datos!W9-1)) | AQ10: =IF(ISERROR((Datos!X9/Datos!$D9)),"",IF((Datos!X9/Datos!$D9-1)=-1,"",(Datos!X9/Datos!$D9-1))) | AR10: =IF(ISERROR(Datos!Y9/Datos!X9),"",IF((Datos!Y9/Datos!X9-1)=-1,"",Datos!Y9/Datos!X9-1)) | AS10: =IF(ISERROR((Datos!Y9/Datos!$D9)),"",IF((Datos!Y9/Datos!$D9-1)=-1,"",(Datos!Y9/Datos!$D9-1)))
B11: =IF(Datos!B10="","",Datos!B10) -> Brasil | C11: =IF(Datos!C10="","",Datos!C10) -> Real | D11: =IF((Datos!D10)="","",(Datos!D10)) | E11: =IF(ISERROR(Datos!E10/Datos!$D10),"",IF((Datos!E10/Datos!$D10-1)=-1,"",Datos!E10/Datos!$D10-1)) | F11: =IF(ISERROR(Datos!F10/Datos!E10),"",IF((Datos!F10/Datos!E10-1)=-1,"",(Datos!F10/Datos!E10-1))) | G11: =IF(ISERROR((Datos!F10/Datos!$D10)),"",IF((Datos!F10/Datos!$D10-1)=-1,"",(Datos!F10/Datos!$D10-1))) | H11: =IF(ISERROR(Datos!G10/Datos!F10),"",IF((Datos!G10/Datos!F10-1)=-1,"",(Datos!G10/Datos!F10-1))) | I11: =IF(ISERROR((Datos!G10/Datos!$D10)),"",IF((Datos!G10/Datos!$D10-1)=-1,"",(Datos!G10/Datos!$D10-1))) | J11: =IF(ISERROR(Datos!H10/Datos!G10),"",IF((Datos!H10/Datos!G10-1)=-1,"",(Datos!H10/Datos!G10-1))) | K11: =IF(ISERROR((Datos!H10/Datos!$D10)),"",IF((Datos!H10/Datos!$D10-1)=-1,"",(Datos!H10/Datos!$D10-1))) | L11: =IF(ISERROR(Datos!I10/Datos!H10),"",IF((Datos!I10/Datos!H10-1)=-1,"",(Datos!I10/Datos!H10-1))) | M11: =IF(ISERROR((Datos!I10/Datos!$D10)),"",IF((Datos!I10/Datos!$D10-1)=-1,"",(Datos!I10/Datos!$D10-1))) | N11: =IF(ISERROR(Datos!J10/Datos!I10),"",IF((Datos!J10/Datos!I10-1)=-1,"",Datos!J10/Datos!I10-1)) | O11: =IF(ISERROR((Datos!J10/Datos!$D10)),"",IF((Datos!J10/Datos!$D10-1)=-1,"",(Datos!J10/Datos!$D10-1))) | P11: =IF(ISERROR(Datos!K10/Datos!J10),"",IF((Datos!K10/Datos!J10-1)=-1,"",(Datos!K10/Datos!J10-1))) | Q11: =IF(ISERROR((Datos!K10/Datos!$D10)),"",IF((Datos!K10/Datos!$D10-1)=-1,"",(Datos!K10/Datos!$D10-1))) | R11: =IF(ISERROR(Datos!L10/Datos!K10),"",IF((Datos!L10/Datos!K10-1)=-1,"",Datos!L10/Datos!K10-1)) | S11: =IF(ISERROR((Datos!L10/Datos!$D10)),"",IF((Datos!L10/Datos!$D10-1)=-1,"",(Datos!L10/Datos!$D10-1))) | T11: =IF(ISERROR(Datos!M10/Datos!L10),"",IF((Datos!M10/Datos!L10-1)=-1,"",Datos!M10/Datos!L10-1)) | U11: =IF(ISERROR((Datos!M10/Datos!$D10)),"",IF((Datos!M10/Datos!$D10-1)=-1,"",(Datos!M10/Datos!$D10-1))) | V11: =IF(ISERROR(Datos!N10/Datos!M10),"",IF((Datos!N10/Datos!M10-1)=-1,"",Datos!N10/Datos!M10-1)) | W11: =IF(ISERROR((Datos!N10/Datos!$D10)),"",IF((Datos!N10/Datos!$D10-1)=-1,"",(Datos!N10/Datos!$D10-1))) | X11: =IF(ISERROR(Datos!O10/Datos!N10),"",IF((Datos!O10/Datos!N10-1)=-1,"",Datos!O10/Datos!N10-1)) | Y11: =IF(ISERROR((Datos!O10/Datos!$D10)),"",IF((Datos!O10/Datos!$D10-1)=-1,"",(Datos!O10/Datos!$D10-1))) | Z11: =IF(ISERROR(Datos!P10/Datos!O10),"",IF((Datos!P10/Datos!O10-1)=-1,"",Datos!P10/Datos!O10-1)) | AA11: =IF(ISERROR((Datos!P10/Datos!$D10)),"",IF((Datos!P10/Datos!$D10-1)=-1,"",(Datos!P10/Datos!$D10-1))) | AB11: =IF(ISERROR(Datos!Q10/Datos!P10),"",IF((Datos!Q10/Datos!P10-1)=-1,"",Datos!Q10/Datos!P10-1)) | AC11: =IF(ISERROR((Datos!Q10/Datos!$D10)),"",IF((Datos!Q10/Datos!$D10-1)=-1,"",(Datos!Q10/Datos!$D10-1))) | AD11: =IF(ISERROR(Datos!R10/Datos!Q10),"",IF((Datos!R10/Datos!Q10-1)=-1,"",Datos!R10/Datos!Q10-1)) | AE11: =IF(ISERROR((Datos!R10/Datos!$D10)),"",IF((Datos!R10/Datos!$D10-1)=-1,"",(Datos!R10/Datos!$D10-1))) | AF11: =IF(ISERROR(Datos!S10/Datos!R10),"",IF((Datos!S10/Datos!R10-1)=-1,"",Datos!S10/Datos!R10-1)) | AG11: =IF(ISERROR((Datos!S10/Datos!$D10)),"",IF((Datos!S10/Datos!$D10-1)=-1,"",(Datos!S10/Datos!$D10-1))) | AH11: =IF(ISERROR(Datos!T10/Datos!S10),"",IF((Datos!T10/Datos!S10-1)=-1,"",Datos!T10/Datos!S10-1)) | AI11: =IF(ISERROR((Datos!T10/Datos!$D10)),"",IF((Datos!T10/Datos!$D10-1)=-1,"",(Datos!T10/Datos!$D10-1))) | AJ11: =IF(ISERROR(Datos!U10/Datos!T10),"",IF((Datos!U10/Datos!T10-1)=-1,"",Datos!U10/Datos!T10-1)) | AK11: =IF(ISERROR((Datos!U10/Datos!$D10)),"",IF((Datos!U10/Datos!$D10-1)=-1,"",(Datos!U10/Datos!$D10-1))) | AL11: =IF(ISERROR(Datos!V10/Datos!U10),"",IF((Datos!V10/Datos!U10-1)=-1,"",Datos!V10/Datos!U10-1)) | AM11: =IF(ISERROR((Datos!V10/Datos!$D10)),"",IF((Datos!V10/Datos!$D10-1)=-1,"",(Datos!V10/Datos!$D10-1))) | AN11: =IF(ISERROR(Datos!W10/Datos!V10),"",IF((Datos!W10/Datos!V10-1)=-1,"",Datos!W10/Datos!V10-1)) | AO11: =IF(ISERROR((Datos!W10/Datos!$D10)),"",IF((Datos!W10/Datos!$D10-1)=-1,"",(Datos!W10/Datos!$D10-1))) | AP11: =IF(ISERROR(Datos!X10/Datos!W10),"",IF((Datos!X10/Datos!W10-1)=-1,"",Datos!X10/Datos!W10-1)) | AQ11: =IF(ISERROR((Datos!X10/Datos!$D10)),"",IF((Datos!X10/Datos!$D10-1)=-1,"",(Datos!X10/Datos!$D10-1))) | AR11: =IF(ISERROR(Datos!Y10/Datos!X10),"",IF((Datos!Y10/Datos!X10-1)=-1,"",Datos!Y10/Datos!X10-1)) | AS11: =IF(ISERROR((Datos!Y10/Datos!$D10)),"",IF((Datos!Y10/Datos!$D10-1)=-1,"",(Datos!Y10/Datos!$D10-1)))
B12: =IF(Datos!B11="","",Datos!B11) -> Chile | C12: =IF(Datos!C11="","",Datos!C11) -> Peso Chileno | D12: =IF((Datos!D11)="","",(Datos!D11)) | E12: =IF(ISERROR(Datos!E11/Datos!$D11),"",IF((Datos!E11/Datos!$D11-1)=-1,"",Datos!E11/Datos!$D11-1)) | F12: =IF(ISERROR(Datos!F11/Datos!E11),"",IF((Datos!F11/Datos!E11-1)=-1,"",(Datos!F11/Datos!E11-1))) | G12: =IF(ISERROR((Datos!F11/Datos!$D11)),"",IF((Datos!F11/Datos!$D11-1)=-1,"",(Datos!F11/Datos!$D11-1))) | H12: =IF(ISERROR(Datos!G11/Datos!F11),"",IF((Datos!G11/Datos!F11-1)=-1,"",(Datos!G11/Datos!F11-1))) | I12: =IF(ISERROR((Datos!G11/Datos!$D11)),"",IF((Datos!G11/Datos!$D11-1)=-1,"",(Datos!G11/Datos!$D11-1))) | J12: =IF(ISERROR(Datos!H11/Datos!G11),"",IF((Datos!H11/Datos!G11-1)=-1,"",(Datos!H11/Datos!G11-1))) | K12: =IF(ISERROR((Datos!H11/Datos!$D11)),"",IF((Datos!H11/Datos!$D11-1)=-1,"",(Datos!H11/Datos!$D11-1))) | L12: =IF(ISERROR(Datos!I11/Datos!H11),"",IF((Datos!I11/Datos!H11-1)=-1,"",(Datos!I11/Datos!H11-1))) | M12: =IF(ISERROR((Datos!I11/Datos!$D11)),"",IF((Datos!I11/Datos!$D11-1)=-1,"",(Datos!I11/Datos!$D11-1))) | N12: =IF(ISERROR(Datos!J11/Datos!I11),"",IF((Datos!J11/Datos!I11-1)=-1,"",Datos!J11/Datos!I11-1)) | O12: =IF(ISERROR((Datos!J11/Datos!$D11)),"",IF((Datos!J11/Datos!$D11-1)=-1,"",(Datos!J11/Datos!$D11-1))) | P12: =IF(ISERROR(Datos!K11/Datos!J11),"",IF((Datos!K11/Datos!J11-1)=-1,"",(Datos!K11/Datos!J11-1))) | Q12: =IF(ISERROR((Datos!K11/Datos!$D11)),"",IF((Datos!K11/Datos!$D11-1)=-1,"",(Datos!K11/Datos!$D11-1))) | R12: =IF(ISERROR(Datos!L11/Datos!K11),"",IF((Datos!L11/Datos!K11-1)=-1,"",Datos!L11/Datos!K11-1)) | S12: =IF(ISERROR((Datos!L11/Datos!$D11)),"",IF((Datos!L11/Datos!$D11-1)=-1,"",(Datos!L11/Datos!$D11-1))) | T12: =IF(ISERROR(Datos!M11/Datos!L11),"",IF((Datos!M11/Datos!L11-1)=-1,"",Datos!M11/Datos!L11-1)) | U12: =IF(ISERROR((Datos!M11/Datos!$D11)),"",IF((Datos!M11/Datos!$D11-1)=-1,"",(Datos!M11/Datos!$D11-1))) | V12: =IF(ISERROR(Datos!N11/Datos!M11),"",IF((Datos!N11/Datos!M11-1)=-1,"",Datos!N11/Datos!M11-1)) | W12: =IF(ISERROR((Datos!N11/Datos!$D11)),"",IF((Datos!N11/Datos!$D11-1)=-1,"",(Datos!N11/Datos!$D11-1))) | X12: =IF(ISERROR(Datos!O11/Datos!N11),"",IF((Datos!O11/Datos!N11-1)=-1,"",Datos!O11/Datos!N11-1)) | Y12: =IF(ISERROR((Datos!O11/Datos!$D11)),"",IF((Datos!O11/Datos!$D11-1)=-1,"",(Datos!O11/Datos!$D11-1))) | Z12: =IF(ISERROR(Datos!P11/Datos!O11),"",IF((Datos!P11/Datos!O11-1)=-1,"",Datos!P11/Datos!O11-1)) | AA12: =IF(ISERROR((Datos!P11/Datos!$D11)),"",IF((Datos!P11/Datos!$D11-1)=-1,"",(Datos!P11/Datos!$D11-1))) | AB12: =IF(ISERROR(Datos!Q11/Datos!P11),"",IF((Datos!Q11/Datos!P11-1)=-1,"",Datos!Q11/Datos!P11-1)) | AC12: =IF(ISERROR((Datos!Q11/Datos!$D11)),"",IF((Datos!Q11/Datos!$D11-1)=-1,"",(Datos!Q11/Datos!$D11-1))) | AD12: =IF(ISERROR(Datos!R11/Datos!Q11),"",IF((Datos!R11/Datos!Q11-1)=-1,"",Datos!R11/Datos!Q11-1)) | AE12: =IF(ISERROR((Datos!R11/Datos!$D11)),"",IF((Datos!R11/Datos!$D11-1)=-1,"",(Datos!R11/Datos!$D11-1))) | AF12: =IF(ISERROR(Datos!S11/Datos!R11),"",IF((Datos!S11/Datos!R11-1)=-1,"",Datos!S11/Datos!R11-1)) | AG12: =IF(ISERROR((Datos!S11/Datos!$D11)),"",IF((Datos!S11/Datos!$D11-1)=-1,"",(Datos!S11/Datos!$D11-1))) | AH12: =IF(ISERROR(Datos!T11/Datos!S11),"",IF((Datos!T11/Datos!S11-1)=-1,"",Datos!T11/Datos!S11-1)) | AI12: =IF(ISERROR((Datos!T11/Datos!$D11)),"",IF((Datos!T11/Datos!$D11-1)=-1,"",(Datos!T11/Datos!$D11-1))) | AJ12: =IF(ISERROR(Datos!U11/Datos!T11),"",IF((Datos!U11/Datos!T11-1)=-1,"",Datos!U11/Datos!T11-1)) | AK12: =IF(ISERROR((Datos!U11/Datos!$D11)),"",IF((Datos!U11/Datos!$D11-1)=-1,"",(Datos!U11/Datos!$D11-1))) | AL12: =IF(ISERROR(Datos!V11/Datos!U11),"",IF((Datos!V11/Datos!U11-1)=-1,"",Datos!V11/Datos!U11-1)) | AM12: =IF(ISERROR((Datos!V11/Datos!$D11)),"",IF((Datos!V11/Datos!$D11-1)=-1,"",(Datos!V11/Datos!$D11-1))) | AN12: =IF(ISERROR(Datos!W11/Datos!V11),"",IF((Datos!W11/Datos!V11-1)=-1,"",Datos!W11/Datos!V11-1)) | AO12: =IF(ISERROR((Datos!W11/Datos!$D11)),"",IF((Datos!W11/Datos!$D11-1)=-1,"",(Datos!W11/Datos!$D11-1))) | AP12: =IF(ISERROR(Datos!X11/Datos!W11),"",IF((Datos!X11/Datos!W11-1)=-1,"",Datos!X11/Datos!W11-1)) | AQ12: =IF(ISERROR((Datos!X11/Datos!$D11)),"",IF((Datos!X11/Datos!$D11-1)=-1,"",(Datos!X11/Datos!$D11-1))) | AR12: =IF(ISERROR(Datos!Y11/Datos!X11),"",IF((Datos!Y11/Datos!X11-1)=-1,"",Datos!Y11/Datos!X11-1)) | AS12: =IF(ISERROR((Datos!Y11/Datos!$D11)),"",IF((Datos!Y11/Datos!$D11-1)=-1,"",(Datos!Y11/Datos!$D11-1)))
B13: =IF(Datos!B12="","",Datos!B12) -> Venezuela | C13: =IF(Datos!C12="","",Datos!C12) -> Bolivar | D13: =IF((Datos!D12)="","",(Datos!D12)) | E13: =IF(ISERROR(Datos!E12/Datos!$D12),"",IF((Datos!E12/Datos!$D12-1)=-1,"",Datos!E12/Datos!$D12-1)) | F13: =IF(ISERROR(Datos!F12/Datos!E12),"",IF((Datos!F12/Datos!E12-1)=-1,"",(Datos!F12/Datos!E12-1))) | G13: =IF(ISERROR((Datos!F12/Datos!$D12)),"",IF((Datos!F12/Datos!$D12-1)=-1,"",(Datos!F12/Datos!$D12-1))) | H13: =IF(ISERROR(Datos!G12/Datos!F12),"",IF((Datos!G12/Datos!F12-1)=-1,"",(Datos!G12/Datos!F12-1))) | I13: =IF(ISERROR((Datos!G12/Datos!$D12)),"",IF((Datos!G12/Datos!$D12-1)=-1,"",(Datos!G12/Datos!$D12-1))) | J13: =IF(ISERROR(Datos!H12/Datos!G12),"",IF((Datos!H12/Datos!G12-1)=-1,"",(Datos!H12/Datos!G12-1))) | K13: =IF(ISERROR((Datos!H12/Datos!$D12)),"",IF((Datos!H12/Datos!$D12-1)=-1,"",(Datos!H12/Datos!$D12-1))) | L13: =IF(ISERROR(Datos!I12/Datos!H12),"",IF((Datos!I12/Datos!H12-1)=-1,"",(Datos!I12/Datos!H12-1))) | M13: =IF(ISERROR((Datos!I12/Datos!$D12)),"",IF((Datos!I12/Datos!$D12-1)=-1,"",(Datos!I12/Datos!$D12-1))) | N13: =IF(ISERROR(Datos!J12/Datos!I12),"",IF((Datos!J12/Datos!I12-1)=-1,"",Datos!J12/Datos!I12-1)) | O13: =IF(ISERROR((Datos!J12/Datos!$D12)),"",IF((Datos!J12/Datos!$D12-1)=-1,"",(Datos!J12/Datos!$D12-1))) | P13: =IF(ISERROR(Datos!K12/Datos!J12),"",IF((Datos!K12/Datos!J12-1)=-1,"",(Datos!K12/Datos!J12-1))) | Q13: =IF(ISERROR((Datos!K12/Datos!$D12)),"",IF((Datos!K12/Datos!$D12-1)=-1,"",(Datos!K12/Datos!$D12-1))) | R13: =IF(ISERROR(Datos!L12/Datos!K12),"",IF((Datos!L12/Datos!K12-1)=-1,"",Datos!L12/Datos!K12-1)) | S13: =IF(ISERROR((Datos!L12/Datos!$D12)),"",IF((Datos!L12/Datos!$D12-1)=-1,"",(Datos!L12/Datos!$D12-1))) | T13: =IF(ISERROR(Datos!M12/Datos!L12),"",IF((Datos!M12/Datos!L12-1)=-1,"",Datos!M12/Datos!L12-1)) | U13: =IF(ISERROR((Datos!M12/Datos!$D12)),"",IF((Datos!M12/Datos!$D12-1)=-1,"",(Datos!M12/Datos!$D12-1))) | V13: =IF(ISERROR(Datos!N12/Datos!M12),"",IF((Datos!N12/Datos!M12-1)=-1,"",Datos!N12/Datos!M12-1)) | W13: =IF(ISERROR((Datos!N12/Datos!$D12)),"",IF((Datos!N12/Datos!$D12-1)=-1,"",(Datos!N12/Datos!$D12-1))) | X13: =IF(ISERROR(Datos!O12/Datos!N12),"",IF((Datos!O12/Datos!N12-1)=-1,"",Datos!O12/Datos!N12-1)) | Y13: =IF(ISERROR((Datos!O12/Datos!$D12)),"",IF((Datos!O12/Datos!$D12-1)=-1,"",(Datos!O12/Datos!$D12-1))) | Z13: =IF(ISERROR(Datos!P12/Datos!O12),"",IF((Datos!P12/Datos!O12-1)=-1,"",Datos!P12/Datos!O12-1)) | AA13: =IF(ISERROR((Datos!P12/Datos!$D12)),"",IF((Datos!P12/Datos!$D12-1)=-1,"",(Datos!P12/Datos!$D12-1))) | AB13: =IF(ISERROR(Datos!Q12/Datos!P12),"",IF((Datos!Q12/Datos!P12-1)=-1,"",Datos!Q12/Datos!P12-1)) | AC13: =IF(ISERROR((Datos!Q12/Datos!$D12)),"",IF((Datos!Q12/Datos!$D12-1)=-1,"",(Datos!Q12/Datos!$D12-1))) | AD13: =IF(ISERROR(Datos!R12/Datos!Q12),"",IF((Datos!R12/Datos!Q12-1)=-1,"",Datos!R12/Datos!Q12-1)) | AE13: =IF(ISERROR((Datos!R12/Datos!$D12)),"",IF((Datos!R12/Datos!$D12-1)=-1,"",(Datos!R12/Datos!$D12-1))) | AF13: =IF(ISERROR(Datos!S12/Datos!R12),"",IF((Datos!S12/Datos!R12-1)=-1,"",Datos!S12/Datos!R12-1)) | AG13: =IF(ISERROR((Datos!S12/Datos!$D12)),"",IF((Datos!S12/Datos!$D12-1)=-1,"",(Datos!S12/Datos!$D12-1))) | AH13: =IF(ISERROR(Datos!T12/Datos!S12),"",IF((Datos!T12/Datos!S12-1)=-1,"",Datos!T12/Datos!S12-1)) | AI13: =IF(ISERROR((Datos!T12/Datos!$D12)),"",IF((Datos!T12/Datos!$D12-1)=-1,"",(Datos!T12/Datos!$D12-1))) | AJ13: =IF(ISERROR(Datos!U12/Datos!T12),"",IF((Datos!U12/Datos!T12-1)=-1,"",Datos!U12/Datos!T12-1)) | AK13: =IF(ISERROR((Datos!U12/Datos!$D12)),"",IF((Datos!U12/Datos!$D12-1)=-1,"",(Datos!U12/Datos!$D12-1))) | AL13: =IF(ISERROR(Datos!V12/Datos!U12),"",IF((Datos!V12/Datos!U12-1)=-1,"",Datos!V12/Datos!U12-1)) | AM13: =IF(ISERROR((Datos!V12/Datos!$D12)),"",IF((Datos!V12/Datos!$D12-1)=-1,"",(Datos!V12/Datos!$D12-1))) | AN13: =IF(ISERROR(Datos!W12/Datos!V12),"",IF((Datos!W12/Datos!V12-1)=-1,"",Datos!W12/Datos!V12-1)) | AO13: =IF(ISERROR((Datos!W12/Datos!$D12)),"",IF((Datos!W12/Datos!$D12-1)=-1,"",(Datos!W12/Datos!$D12-1))) | AP13: =IF(ISERROR(Datos!X12/Datos!W12),"",IF((Datos!X12/Datos!W12-1)=-1,"",Datos!X12/Datos!W12-1)) | AQ13: =IF(ISERROR((Datos!X12/Datos!$D12)),"",IF((Datos!X12/Datos!$D12-1)=-1,"",(Datos!X12/Datos!$D12-1))) | AR13: =IF(ISERROR(Datos!Y12/Datos!X12),"",IF((Datos!Y12/Datos!X12-1)=-1,"",Datos!Y12/Datos!X12-1)) | AS13: =IF(ISERROR((Datos!Y12/Datos!$D12)),"",IF((Datos!Y12/Datos!$D12-1)=-1,"",(Datos!Y12/Datos!$D12-1)))
B14: =IF(Datos!B13="","",Datos!B13) -> Paraguay | C14: =IF(Datos!C13="","",Datos!C13) -> Guaraní | D14: =IF((Datos!D13)="","",(Datos!D13)) | E14: =IF(ISERROR(Datos!E13/Datos!$D13),"",IF((Datos!E13/Datos!$D13-1)=-1,"",Datos!E13/Datos!$D13-1)) | F14: =IF(ISERROR(Datos!F13/Datos!E13),"",IF((Datos!F13/Datos!E13-1)=-1,"",(Datos!F13/Datos!E13-1))) | G14: =IF(ISERROR((Datos!F13/Datos!$D13)),"",IF((Datos!F13/Datos!$D13-1)=-1,"",(Datos!F13/Datos!$D13-1))) | H14: =IF(ISERROR(Datos!G13/Datos!F13),"",IF((Datos!G13/Datos!F13-1)=-1,"",(Datos!G13/Datos!F13-1))) | I14: =IF(ISERROR((Datos!G13/Datos!$D13)),"",IF((Datos!G13/Datos!$D13-1)=-1,"",(Datos!G13/Datos!$D13-1))) | J14: =IF(ISERROR(Datos!H13/Datos!G13),"",IF((Datos!H13/Datos!G13-1)=-1,"",(Datos!H13/Datos!G13-1))) | K14: =IF(ISERROR((Datos!H13/Datos!$D13)),"",IF((Datos!H13/Datos!$D13-1)=-1,"",(Datos!H13/Datos!$D13-1))) | L14: =IF(ISERROR(Datos!I13/Datos!H13),"",IF((Datos!I13/Datos!H13-1)=-1,"",(Datos!I13/Datos!H13-1))) | M14: =IF(ISERROR((Datos!I13/Datos!$D13)),"",IF((Datos!I13/Datos!$D13-1)=-1,"",(Datos!I13/Datos!$D13-1))) | N14: =IF(ISERROR(Datos!J13/Datos!I13),"",IF((Datos!J13/Datos!I13-1)=-1,"",Datos!J13/Datos!I13-1)) | O14: =IF(ISERROR((Datos!J13/Datos!$D13)),"",IF((Datos!J13/Datos!$D13-1)=-1,"",(Datos!J13/Datos!$D13-1))) | P14: =IF(ISERROR(Datos!K13/Datos!J13),"",IF((Datos!K13/Datos!J13-1)=-1,"",(Datos!K13/Datos!J13-1))) | Q14: =IF(ISERROR((Datos!K13/Datos!$D13)),"",IF((Datos!K13/Datos!$D13-1)=-1,"",(Datos!K13/Datos!$D13-1))) | R14: =IF(ISERROR(Datos!L13/Datos!K13),"",IF((Datos!L13/Datos!K13-1)=-1,"",Datos!L13/Datos!K13-1)) | S14: =IF(ISERROR((Datos!L13/Datos!$D13)),"",IF((Datos!L13/Datos!$D13-1)=-1,"",(Datos!L13/Datos!$D13-1))) | T14: =IF(ISERROR(Datos!M13/Datos!L13),"",IF((Datos!M13/Datos!L13-1)=-1,"",Datos!M13/Datos!L13-1)) | U14: =IF(ISERROR((Datos!M13/Datos!$D13)),"",IF((Datos!M13/Datos!$D13-1)=-1,"",(Datos!M13/Datos!$D13-1))) | V14: =IF(ISERROR(Datos!N13/Datos!M13),"",IF((Datos!N13/Datos!M13-1)=-1,"",Datos!N13/Datos!M13-1)) | W14: =IF(ISERROR((Datos!N13/Datos!$D13)),"",IF((Datos!N13/Datos!$D13-1)=-1,"",(Datos!N13/Datos!$D13-1))) | X14: =IF(ISERROR(Datos!O13/Datos!N13),"",IF((Datos!O13/Datos!N13-1)=-1,"",Datos!O13/Datos!N13-1)) | Y14: =IF(ISERROR((Datos!O13/Datos!$D13)),"",IF((Datos!O13/Datos!$D13-1)=-1,"",(Datos!O13/Datos!$D13-1))) | Z14: =IF(ISERROR(Datos!P13/Datos!O13),"",IF((Datos!P13/Datos!O13-1)=-1,"",Datos!P13/Datos!O13-1)) | AA14: =IF(ISERROR((Datos!P13/Datos!$D13)),"",IF((Datos!P13/Datos!$D13-1)=-1,"",(Datos!P13/Datos!$D13-1))) | AB14: =IF(ISERROR(Datos!Q13/Datos!P13),"",IF((Datos!Q13/Datos!P13-1)=-1,"",Datos!Q13/Datos!P13-1)) | AC14: =IF(ISERROR((Datos!Q13/Datos!$D13)),"",IF((Datos!Q13/Datos!$D13-1)=-1,"",(Datos!Q13/Datos!$D13-1))) | AD14: =IF(ISERROR(Datos!R13/Datos!Q13),"",IF((Datos!R13/Datos!Q13-1)=-1,"",Datos!R13/Datos!Q13-1)) | AE14: =IF(ISERROR((Datos!R13/Datos!$D13)),"",IF((Datos!R13/Datos!$D13-1)=-1,"",(Datos!R13/Datos!$D13-1))) | AF14: =IF(ISERROR(Datos!S13/Datos!R13),"",IF((Datos!S13/Datos!R13-1)=-1,"",Datos!S13/Datos!R13-1)) | AG14: =IF(ISERROR((Datos!S13/Datos!$D13)),"",IF((Datos!S13/Datos!$D13-1)=-1,"",(Datos!S13/Datos!$D13-1))) | AH14: =IF(ISERROR(Datos!T13/Datos!S13),"",IF((Datos!T13/Datos!S13-1)=-1,"",Datos!T13/Datos!S13-1)) | AI14: =IF(ISERROR((Datos!T13/Datos!$D13)),"",IF((Datos!T13/Datos!$D13-1)=-1,"",(Datos!T13/Datos!$D13-1))) | AJ14: =IF(ISERROR(Datos!U13/Datos!T13),"",IF((Datos!U13/Datos!T13-1)=-1,"",Datos!U13/Datos!T13-1)) | AK14: =IF(ISERROR((Datos!U13/Datos!$D13)),"",IF((Datos!U13/Datos!$D13-1)=-1,"",(Datos!U13/Datos!$D13-1))) | AL14: =IF(ISERROR(Datos!V13/Datos!U13),"",IF((Datos!V13/Datos!U13-1)=-1,"",Datos!V13/Datos!U13-1)) | AM14: =IF(ISERROR((Datos!V13/Datos!$D13)),"",IF((Datos!V13/Datos!$D13-1)=-1,"",(Datos!V13/Datos!$D13-1))) | AN14: =IF(ISERROR(Datos!W13/Datos!V13),"",IF((Datos!W13/Datos!V13-1)=-1,"",Datos!W13/Datos!V13-1)) | AO14: =IF(ISERROR((Datos!W13/Datos!$D13)),"",IF((Datos!W13/Datos!$D13-1)=-1,"",(Datos!W13/Datos!$D13-1))) | AP14: =IF(ISERROR(Datos!X13/Datos!W13),"",IF((Datos!X13/Datos!W13-1)=-1,"",Datos!X13/Datos!W13-1)) | AQ14: =IF(ISERROR((Datos!X13/Datos!$D13)),"",IF((Datos!X13/Datos!$D13-1)=-1,"",(Datos!X13/Datos!$D13-1))) | AR14: =IF(ISERROR(Datos!Y13/Datos!X13),"",IF((Datos!Y13/Datos!X13-1)=-1,"",Datos!Y13/Datos!X13-1)) | AS14: =IF(ISERROR((Datos!Y13/Datos!$D13)),"",IF((Datos!Y13/Datos!$D13-1)=-1,"",(Datos!Y13/Datos!$D13-1)))
B15: =IF(Datos!B14="","",Datos!B14) -> Perú | C15: =IF(Datos!C14="","",Datos!C14) -> Nuevo Sol | D15: =IF((Datos!D14)="","",(Datos!D14)) | E15: =IF(ISERROR(Datos!E14/Datos!$D14),"",IF((Datos!E14/Datos!$D14-1)=-1,"",Datos!E14/Datos!$D14-1)) | F15: =IF(ISERROR(Datos!F14/Datos!E14),"",IF((Datos!F14/Datos!E14-1)=-1,"",(Datos!F14/Datos!E14-1))) | G15: =IF(ISERROR((Datos!F14/Datos!$D14)),"",IF((Datos!F14/Datos!$D14-1)=-1,"",(Datos!F14/Datos!$D14-1))) | H15: =IF(ISERROR(Datos!G14/Datos!F14),"",IF((Datos!G14/Datos!F14-1)=-1,"",(Datos!G14/Datos!F14-1))) | I15: =IF(ISERROR((Datos!G14/Datos!$D14)),"",IF((Datos!G14/Datos!$D14-1)=-1,"",(Datos!G14/Datos!$D14-1))) | J15: =IF(ISERROR(Datos!H14/Datos!G14),"",IF((Datos!H14/Datos!G14-1)=-1,"",(Datos!H14/Datos!G14-1))) | K15: =IF(ISERROR((Datos!H14/Datos!$D14)),"",IF((Datos!H14/Datos!$D14-1)=-1,"",(Datos!H14/Datos!$D14-1))) | L15: =IF(ISERROR(Datos!I14/Datos!H14),"",IF((Datos!I14/Datos!H14-1)=-1,"",(Datos!I14/Datos!H14-1))) | M15: =IF(ISERROR((Datos!I14/Datos!$D14)),"",IF((Datos!I14/Datos!$D14-1)=-1,"",(Datos!I14/Datos!$D14-1))) | N15: =IF(ISERROR(Datos!J14/Datos!I14),"",IF((Datos!J14/Datos!I14-1)=-1,"",Datos!J14/Datos!I14-1)) | O15: =IF(ISERROR((Datos!J14/Datos!$D14)),"",IF((Datos!J14/Datos!$D14-1)=-1,"",(Datos!J14/Datos!$D14-1))) | P15: =IF(ISERROR(Datos!K14/Datos!J14),"",IF((Datos!K14/Datos!J14-1)=-1,"",(Datos!K14/Datos!J14-1))) | Q15: =IF(ISERROR((Datos!K14/Datos!$D14)),"",IF((Datos!K14/Datos!$D14-1)=-1,"",(Datos!K14/Datos!$D14-1))) | R15: =IF(ISERROR(Datos!L14/Datos!K14),"",IF((Datos!L14/Datos!K14-1)=-1,"",Datos!L14/Datos!K14-1)) | S15: =IF(ISERROR((Datos!L14/Datos!$D14)),"",IF((Datos!L14/Datos!$D14-1)=-1,"",(Datos!L14/Datos!$D14-1))) | T15: =IF(ISERROR(Datos!M14/Datos!L14),"",IF((Datos!M14/Datos!L14-1)=-1,"",Datos!M14/Datos!L14-1)) | U15: =IF(ISERROR((Datos!M14/Datos!$D14)),"",IF((Datos!M14/Datos!$D14-1)=-1,"",(Datos!M14/Datos!$D14-1))) | V15: =IF(ISERROR(Datos!N14/Datos!M14),"",IF((Datos!N14/Datos!M14-1)=-1,"",Datos!N14/Datos!M14-1)) | W15: =IF(ISERROR((Datos!N14/Datos!$D14)),"",IF((Datos!N14/Datos!$D14-1)=-1,"",(Datos!N14/Datos!$D14-1))) | X15: =IF(ISERROR(Datos!O14/Datos!N14),"",IF((Datos!O14/Datos!N14-1)=-1,"",Datos!O14/Datos!N14-1)) | Y15: =IF(ISERROR((Datos!O14/Datos!$D14)),"",IF((Datos!O14/Datos!$D14-1)=-1,"",(Datos!O14/Datos!$D14-1))) | Z15: =IF(ISERROR(Datos!P14/Datos!O14),"",IF((Datos!P14/Datos!O14-1)=-1,"",Datos!P14/Datos!O14-1)) | AA15: =IF(ISERROR((Datos!P14/Datos!$D14)),"",IF((Datos!P14/Datos!$D14-1)=-1,"",(Datos!P14/Datos!$D14-1))) | AB15: =IF(ISERROR(Datos!Q14/Datos!P14),"",IF((Datos!Q14/Datos!P14-1)=-1,"",Datos!Q14/Datos!P14-1)) | AC15: =IF(ISERROR((Datos!Q14/Datos!$D14)),"",IF((Datos!Q14/Datos!$D14-1)=-1,"",(Datos!Q14/Datos!$D14-1))) | AD15: =IF(ISERROR(Datos!R14/Datos!Q14),"",IF((Datos!R14/Datos!Q14-1)=-1,"",Datos!R14/Datos!Q14-1)) | AE15: =IF(ISERROR((Datos!R14/Datos!$D14)),"",IF((Datos!R14/Datos!$D14-1)=-1,"",(Datos!R14/Datos!$D14-1))) | AF15: =IF(ISERROR(Datos!S14/Datos!R14),"",IF((Datos!S14/Datos!R14-1)=-1,"",Datos!S14/Datos!R14-1)) | AG15: =IF(ISERROR((Datos!S14/Datos!$D14)),"",IF((Datos!S14/Datos!$D14-1)=-1,"",(Datos!S14/Datos!$D14-1))) | AH15: =IF(ISERROR(Datos!T14/Datos!S14),"",IF((Datos!T14/Datos!S14-1)=-1,"",Datos!T14/Datos!S14-1)) | AI15: =IF(ISERROR((Datos!T14/Datos!$D14)),"",IF((Datos!T14/Datos!$D14-1)=-1,"",(Datos!T14/Datos!$D14-1))) | AJ15: =IF(ISERROR(Datos!U14/Datos!T14),"",IF((Datos!U14/Datos!T14-1)=-1,"",Datos!U14/Datos!T14-1)) | AK15: =IF(ISERROR((Datos!U14/Datos!$D14)),"",IF((Datos!U14/Datos!$D14-1)=-1,"",(Datos!U14/Datos!$D14-1))) | AL15: =IF(ISERROR(Datos!V14/Datos!U14),"",IF((Datos!V14/Datos!U14-1)=-1,"",Datos!V14/Datos!U14-1)) | AM15: =IF(ISERROR((Datos!V14/Datos!$D14)),"",IF((Datos!V14/Datos!$D14-1)=-1,"",(Datos!V14/Datos!$D14-1))) | AN15: =IF(ISERROR(Datos!W14/Datos!V14),"",IF((Datos!W14/Datos!V14-1)=-1,"",Datos!W14/Datos!V14-1)) | AO15: =IF(ISERROR((Datos!W14/Datos!$D14)),"",IF((Datos!W14/Datos!$D14-1)=-1,"",(Datos!W14/Datos!$D14-1))) | AP15: =IF(ISERROR(Datos!X14/Datos!W14),"",IF((Datos!X14/Datos!W14-1)=-1,"",Datos!X14/Datos!W14-1)) | AQ15: =IF(ISERROR((Datos!X14/Datos!$D14)),"",IF((Datos!X14/Datos!$D14-1)=-1,"",(Datos!X14/Datos!$D14-1))) | AR15: =IF(ISERROR(Datos!Y14/Datos!X14),"",IF((Datos!Y14/Datos!X14-1)=-1,"",Datos!Y14/Datos!X14-1)) | AS15: =IF(ISERROR((Datos!Y14/Datos!$D14)),"",IF((Datos!Y14/Datos!$D14-1)=-1,"",(Datos!Y14/Datos!$D14-1)))
B16: =IF(Datos!B15="","",Datos!B15) -> Mexico | C16: =IF(Datos!C15="","",Datos!C15) -> Peso Mexicano | D16: =IF((Datos!D15)="","",(Datos!D15)) | E16: =IF(ISERROR(Datos!E15/Datos!$D15),"",IF((Datos!E15/Datos!$D15-1)=-1,"",Datos!E15/Datos!$D15-1)) | F16: =IF(ISERROR(Datos!F15/Datos!E15),"",IF((Datos!F15/Datos!E15-1)=-1,"",(Datos!F15/Datos!E15-1))) | G16: =IF(ISERROR((Datos!F15/Datos!$D15)),"",IF((Datos!F15/Datos!$D15-1)=-1,"",(Datos!F15/Datos!$D15-1))) | H16: =IF(ISERROR(Datos!G15/Datos!F15),"",IF((Datos!G15/Datos!F15-1)=-1,"",(Datos!G15/Datos!F15-1))) | I16: =IF(ISERROR((Datos!G15/Datos!$D15)),"",IF((Datos!G15/Datos!$D15-1)=-1,"",(Datos!G15/Datos!$D15-1))) | J16: =IF(ISERROR(Datos!H15/Datos!G15),"",IF((Datos!H15/Datos!G15-1)=-1,"",(Datos!H15/Datos!G15-1))) | K16: =IF(ISERROR((Datos!H15/Datos!$D15)),"",IF((Datos!H15/Datos!$D15-1)=-1,"",(Datos!H15/Datos!$D15-1))) | L16: =IF(ISERROR(Datos!I15/Datos!H15),"",IF((Datos!I15/Datos!H15-1)=-1,"",(Datos!I15/Datos!H15-1))) | M16: =IF(ISERROR((Datos!I15/Datos!$D15)),"",IF((Datos!I15/Datos!$D15-1)=-1,"",(Datos!I15/Datos!$D15-1))) | N16: =IF(ISERROR(Datos!J15/Datos!I15),"",IF((Datos!J15/Datos!I15-1)=-1,"",Datos!J15/Datos!I15-1)) | O16: =IF(ISERROR((Datos!J15/Datos!$D15)),"",IF((Datos!J15/Datos!$D15-1)=-1,"",(Datos!J15/Datos!$D15-1))) | P16: =IF(ISERROR(Datos!K15/Datos!J15),"",IF((Datos!K15/Datos!J15-1)=-1,"",(Datos!K15/Datos!J15-1))) | Q16: =IF(ISERROR((Datos!K15/Datos!$D15)),"",IF((Datos!K15/Datos!$D15-1)=-1,"",(Datos!K15/Datos!$D15-1))) | R16: =IF(ISERROR(Datos!L15/Datos!K15),"",IF((Datos!L15/Datos!K15-1)=-1,"",Datos!L15/Datos!K15-1)) | S16: =IF(ISERROR((Datos!L15/Datos!$D15)),"",IF((Datos!L15/Datos!$D15-1)=-1,"",(Datos!L15/Datos!$D15-1))) | T16: =IF(ISERROR(Datos!M15/Datos!L15),"",IF((Datos!M15/Datos!L15-1)=-1,"",Datos!M15/Datos!L15-1)) | U16: =IF(ISERROR((Datos!M15/Datos!$D15)),"",IF((Datos!M15/Datos!$D15-1)=-1,"",(Datos!M15/Datos!$D15-1))) | V16: =IF(ISERROR(Datos!N15/Datos!M15),"",IF((Datos!N15/Datos!M15-1)=-1,"",Datos!N15/Datos!M15-1)) | W16: =IF(ISERROR((Datos!N15/Datos!$D15)),"",IF((Datos!N15/Datos!$D15-1)=-1,"",(Datos!N15/Datos!$D15-1))) | X16: =IF(ISERROR(Datos!O15/Datos!N15),"",IF((Datos!O15/Datos!N15-1)=-1,"",Datos!O15/Datos!N15-1)) | Y16: =IF(ISERROR((Datos!O15/Datos!$D15)),"",IF((Datos!O15/Datos!$D15-1)=-1,"",(Datos!O15/Datos!$D15-1))) | Z16: =IF(ISERROR(Datos!P15/Datos!O15),"",IF((Datos!P15/Datos!O15-1)=-1,"",Datos!P15/Datos!O15-1)) | AA16: =IF(ISERROR((Datos!P15/Datos!$D15)),"",IF((Datos!P15/Datos!$D15-1)=-1,"",(Datos!P15/Datos!$D15-1))) | AB16: =IF(ISERROR(Datos!Q15/Datos!P15),"",IF((Datos!Q15/Datos!P15-1)=-1,"",Datos!Q15/Datos!P15-1)) | AC16: =IF(ISERROR((Datos!Q15/Datos!$D15)),"",IF((Datos!Q15/Datos!$D15-1)=-1,"",(Datos!Q15/Datos!$D15-1))) | AD16: =IF(ISERROR(Datos!R15/Datos!Q15),"",IF((Datos!R15/Datos!Q15-1)=-1,"",Datos!R15/Datos!Q15-1)) | AE16: =IF(ISERROR((Datos!R15/Datos!$D15)),"",IF((Datos!R15/Datos!$D15-1)=-1,"",(Datos!R15/Datos!$D15-1))) | AF16: =IF(ISERROR(Datos!S15/Datos!R15),"",IF((Datos!S15/Datos!R15-1)=-1,"",Datos!S15/Datos!R15-1)) | AG16: =IF(ISERROR((Datos!S15/Datos!$D15)),"",IF((Datos!S15/Datos!$D15-1)=-1,"",(Datos!S15/Datos!$D15-1))) | AH16: =IF(ISERROR(Datos!T15/Datos!S15),"",IF((Datos!T15/Datos!S15-1)=-1,"",Datos!T15/Datos!S15-1)) | AI16: =IF(ISERROR((Datos!T15/Datos!$D15)),"",IF((Datos!T15/Datos!$D15-1)=-1,"",(Datos!T15/Datos!$D15-1))) | AJ16: =IF(ISERROR(Datos!U15/Datos!T15),"",IF((Datos!U15/Datos!T15-1)=-1,"",Datos!U15/Datos!T15-1)) | AK16: =IF(ISERROR((Datos!U15/Datos!$D15)),"",IF((Datos!U15/Datos!$D15-1)=-1,"",(Datos!U15/Datos!$D15-1))) | AL16: =IF(ISERROR(Datos!V15/Datos!U15),"",IF((Datos!V15/Datos!U15-1)=-1,"",Datos!V15/Datos!U15-1)) | AM16: =IF(ISERROR((Datos!V15/Datos!$D15)),"",IF((Datos!V15/Datos!$D15-1)=-1,"",(Datos!V15/Datos!$D15-1))) | AN16: =IF(ISERROR(Datos!W15/Datos!V15),"",IF((Datos!W15/Datos!V15-1)=-1,"",Datos!W15/Datos!V15-1)) | AO16: =IF(ISERROR((Datos!W15/Datos!$D15)),"",IF((Datos!W15/Datos!$D15-1)=-1,"",(Datos!W15/Datos!$D15-1))) | AP16: =IF(ISERROR(Datos!X15/Datos!W15),"",IF((Datos!X15/Datos!W15-1)=-1,"",Datos!X15/Datos!W15-1)) | AQ16: =IF(ISERROR((Datos!X15/Datos!$D15)),"",IF((Datos!X15/Datos!$D15-1)=-1,"",(Datos!X15/Datos!$D15-1))) | AR16: =IF(ISERROR(Datos!Y15/Datos!X15),"",IF((Datos!Y15/Datos!X15-1)=-1,"",Datos!Y15/Datos!X15-1)) | AS16: =IF(ISERROR((Datos!Y15/Datos!$D15)),"",IF((Datos!Y15/Datos!$D15-1)=-1,"",(Datos!Y15/Datos!$D15-1)))
B17: =IF(Datos!B16="","",Datos!B16) -> Nicaragua | C17: =IF(Datos!C16="","",Datos!C16) -> Cordobas Nicaraguense | D17: =IF((Datos!D16)="","",(Datos!D16)) | E17: =IF(ISERROR(Datos!E16/Datos!$D16),"",IF((Datos!E16/Datos!$D16-1)=-1,"",Datos!E16/Datos!$D16-1)) | F17: =IF(ISERROR(Datos!F16/Datos!E16),"",IF((Datos!F16/Datos!E16-1)=-1,"",(Datos!F16/Datos!E16-1))) | G17: =IF(ISERROR((Datos!F16/Datos!$D16)),"",IF((Datos!F16/Datos!$D16-1)=-1,"",(Datos!F16/Datos!$D16-1))) | H17: =IF(ISERROR(Datos!G16/Datos!F16),"",IF((Datos!G16/Datos!F16-1)=-1,"",(Datos!G16/Datos!F16-1))) | I17: =IF(ISERROR((Datos!G16/Datos!$D16)),"",IF((Datos!G16/Datos!$D16-1)=-1,"",(Datos!G16/Datos!$D16-1))) | J17: =IF(ISERROR(Datos!H16/Datos!G16),"",IF((Datos!H16/Datos!G16-1)=-1,"",(Datos!H16/Datos!G16-1))) | K17: =IF(ISERROR((Datos!H16/Datos!$D16)),"",IF((Datos!H16/Datos!$D16-1)=-1,"",(Datos!H16/Datos!$D16-1))) | L17: =IF(ISERROR(Datos!I16/Datos!H16),"",IF((Datos!I16/Datos!H16-1)=-1,"",(Datos!I16/Datos!H16-1))) | M17: =IF(ISERROR((Datos!I16/Datos!$D16)),"",IF((Datos!I16/Datos!$D16-1)=-1,"",(Datos!I16/Datos!$D16-1))) | N17: =IF(ISERROR(Datos!J16/Datos!I16),"",IF((Datos!J16/Datos!I16-1)=-1,"",Datos!J16/Datos!I16-1)) | O17: =IF(ISERROR((Datos!J16/Datos!$D16)),"",IF((Datos!J16/Datos!$D16-1)=-1,"",(Datos!J16/Datos!$D16-1))) | P17: =IF(ISERROR(Datos!K16/Datos!J16),"",IF((Datos!K16/Datos!J16-1)=-1,"",(Datos!K16/Datos!J16-1))) | Q17: =IF(ISERROR((Datos!K16/Datos!$D16)),"",IF((Datos!K16/Datos!$D16-1)=-1,"",(Datos!K16/Datos!$D16-1))) | R17: =IF(ISERROR(Datos!L16/Datos!K16),"",IF((Datos!L16/Datos!K16-1)=-1,"",Datos!L16/Datos!K16-1)) | S17: =IF(ISERROR((Datos!L16/Datos!$D16)),"",IF((Datos!L16/Datos!$D16-1)=-1,"",(Datos!L16/Datos!$D16-1))) | T17: =IF(ISERROR(Datos!M16/Datos!L16),"",IF((Datos!M16/Datos!L16-1)=-1,"",Datos!M16/Datos!L16-1)) | U17: =IF(ISERROR((Datos!M16/Datos!$D16)),"",IF((Datos!M16/Datos!$D16-1)=-1,"",(Datos!M16/Datos!$D16-1))) | V17: =IF(ISERROR(Datos!N16/Datos!M16),"",IF((Datos!N16/Datos!M16-1)=-1,"",Datos!N16/Datos!M16-1)) | W17: =IF(ISERROR((Datos!N16/Datos!$D16)),"",IF((Datos!N16/Datos!$D16-1)=-1,"",(Datos!N16/Datos!$D16-1))) | X17: =IF(ISERROR(Datos!O16/Datos!N16),"",IF((Datos!O16/Datos!N16-1)=-1,"",Datos!O16/Datos!N16-1)) | Y17: =IF(ISERROR((Datos!O16/Datos!$D16)),"",IF((Datos!O16/Datos!$D16-1)=-1,"",(Datos!O16/Datos!$D16-1))) | Z17: =IF(ISERROR(Datos!P16/Datos!O16),"",IF((Datos!P16/Datos!O16-1)=-1,"",Datos!P16/Datos!O16-1)) | AA17: =IF(ISERROR((Datos!P16/Datos!$D16)),"",IF((Datos!P16/Datos!$D16-1)=-1,"",(Datos!P16/Datos!$D16-1))) | AB17: =IF(ISERROR(Datos!Q16/Datos!P16),"",IF((Datos!Q16/Datos!P16-1)=-1,"",Datos!Q16/Datos!P16-1)) | AC17: =IF(ISERROR((Datos!Q16/Datos!$D16)),"",IF((Datos!Q16/Datos!$D16-1)=-1,"",(Datos!Q16/Datos!$D16-1))) | AD17: =IF(ISERROR(Datos!R16/Datos!Q16),"",IF((Datos!R16/Datos!Q16-1)=-1,"",Datos!R16/Datos!Q16-1)) | AE17: =IF(ISERROR((Datos!R16/Datos!$D16)),"",IF((Datos!R16/Datos!$D16-1)=-1,"",(Datos!R16/Datos!$D16-1))) | AF17: =IF(ISERROR(Datos!S16/Datos!R16),"",IF((Datos!S16/Datos!R16-1)=-1,"",Datos!S16/Datos!R16-1)) | AG17: =IF(ISERROR((Datos!S16/Datos!$D16)),"",IF((Datos!S16/Datos!$D16-1)=-1,"",(Datos!S16/Datos!$D16-1))) | AH17: =IF(ISERROR(Datos!T16/Datos!S16),"",IF((Datos!T16/Datos!S16-1)=-1,"",Datos!T16/Datos!S16-1)) | AI17: =IF(ISERROR((Datos!T16/Datos!$D16)),"",IF((Datos!T16/Datos!$D16-1)=-1,"",(Datos!T16/Datos!$D16-1))) | AJ17: =IF(ISERROR(Datos!U16/Datos!T16),"",IF((Datos!U16/Datos!T16-1)=-1,"",Datos!U16/Datos!T16-1)) | AK17: =IF(ISERROR((Datos!U16/Datos!$D16)),"",IF((Datos!U16/Datos!$D16-1)=-1,"",(Datos!U16/Datos!$D16-1))) | AL17: =IF(ISERROR(Datos!V16/Datos!U16),"",IF((Datos!V16/Datos!U16-1)=-1,"",Datos!V16/Datos!U16-1)) | AM17: =IF(ISERROR((Datos!V16/Datos!$D16)),"",IF((Datos!V16/Datos!$D16-1)=-1,"",(Datos!V16/Datos!$D16-1))) | AN17: =IF(ISERROR(Datos!W16/Datos!V16),"",IF((Datos!W16/Datos!V16-1)=-1,"",Datos!W16/Datos!V16-1)) | AO17: =IF(ISERROR((Datos!W16/Datos!$D16)),"",IF((Datos!W16/Datos!$D16-1)=-1,"",(Datos!W16/Datos!$D16-1))) | AP17: =IF(ISERROR(Datos!X16/Datos!W16),"",IF((Datos!X16/Datos!W16-1)=-1,"",Datos!X16/Datos!W16-1)) | AQ17: =IF(ISERROR((Datos!X16/Datos!$D16)),"",IF((Datos!X16/Datos!$D16-1)=-1,"",(Datos!X16/Datos!$D16-1))) | AR17: =IF(ISERROR(Datos!Y16/Datos!X16),"",IF((Datos!Y16/Datos!X16-1)=-1,"",Datos!Y16/Datos!X16-1)) | AS17: =IF(ISERROR((Datos!Y16/Datos!$D16)),"",IF((Datos!Y16/Datos!$D16-1)=-1,"",(Datos!Y16/Datos!$D16-1)))
B18: =IF(Datos!B17="","",Datos!B17) | C18: =IF(Datos!C17="","",Datos!C17) | D18: =IF((Datos!D17)="","",(Datos!D17)) | E18: =IF(ISERROR(Datos!E17/Datos!$D17),"",IF((Datos!E17/Datos!$D17-1)=-1,"",Datos!E17/Datos!$D17-1)) | F18: =IF(ISERROR(Datos!F17/Datos!E17),"",IF((Datos!F17/Datos!E17-1)=-1,"",(Datos!F17/Datos!E17-1))) | G18: =IF(ISERROR((Datos!F17/Datos!$D17)),"",IF((Datos!F17/Datos!$D17-1)=-1,"",(Datos!F17/Datos!$D17-1))) | H18: =IF(ISERROR(Datos!G17/Datos!F17),"",IF((Datos!G17/Datos!F17-1)=-1,"",(Datos!G17/Datos!F17-1))) | I18: =IF(ISERROR((Datos!G17/Datos!$D17)),"",IF((Datos!G17/Datos!$D17-1)=-1,"",(Datos!G17/Datos!$D17-1))) | J18: =IF(ISERROR(Datos!H17/Datos!G17),"",IF((Datos!H17/Datos!G17-1)=-1,"",(Datos!H17/Datos!G17-1))) | K18: =IF(ISERROR((Datos!H17/Datos!$D17)),"",IF((Datos!H17/Datos!$D17-1)=-1,"",(Datos!H17/Datos!$D17-1))) | L18: =IF(ISERROR(Datos!I17/Datos!H17),"",IF((Datos!I17/Datos!H17-1)=-1,"",(Datos!I17/Datos!H17-1))) | M18: =IF(ISERROR((Datos!I17/Datos!$D17)),"",IF((Datos!I17/Datos!$D17-1)=-1,"",(Datos!I17/Datos!$D17-1))) | N18: =IF(ISERROR(Datos!J17/Datos!I17),"",IF((Datos!J17/Datos!I17-1)=-1,"",Datos!J17/Datos!I17-1)) | O18: =IF(ISERROR((Datos!J17/Datos!$D17)),"",IF((Datos!J17/Datos!$D17-1)=-1,"",(Datos!J17/Datos!$D17-1))) | P18: =IF(ISERROR(Datos!K17/Datos!J17),"",IF((Datos!K17/Datos!J17-1)=-1,"",(Datos!K17/Datos!J17-1))) | Q18: =IF(ISERROR((Datos!K17/Datos!$D17)),"",IF((Datos!K17/Datos!$D17-1)=-1,"",(Datos!K17/Datos!$D17-1))) | R18: =IF(ISERROR(Datos!L17/Datos!K17),"",IF((Datos!L17/Datos!K17-1)=-1,"",Datos!L17/Datos!K17-1)) | S18: =IF(ISERROR((Datos!L17/Datos!$D17)),"",IF((Datos!L17/Datos!$D17-1)=-1,"",(Datos!L17/Datos!$D17-1))) | T18: =IF(ISERROR(Datos!M17/Datos!L17),"",IF((Datos!M17/Datos!L17-1)=-1,"",Datos!M17/Datos!L17-1)) | U18: =IF(ISERROR((Datos!M17/Datos!$D17)),"",IF((Datos!M17/Datos!$D17-1)=-1,"",(Datos!M17/Datos!$D17-1))) | V18: =IF(ISERROR(Datos!N17/Datos!M17),"",IF((Datos!N17/Datos!M17-1)=-1,"",Datos!N17/Datos!M17-1)) | W18: =IF(ISERROR((Datos!N17/Datos!$D17)),"",IF((Datos!N17/Datos!$D17-1)=-1,"",(Datos!N17/Datos!$D17-1))) | X18: =IF(ISERROR(Datos!O17/Datos!N17),"",IF((Datos!O17/Datos!N17-1)=-1,"",Datos!O17/Datos!N17-1)) | Y18: =IF(ISERROR((Datos!O17/Datos!$D17)),"",IF((Datos!O17/Datos!$D17-1)=-1,"",(Datos!O17/Datos!$D17-1))) | Z18: =IF(ISERROR(Datos!P17/Datos!O17),"",IF((Datos!P17/Datos!O17-1)=-1,"",Datos!P17/Datos!O17-1)) | AA18: =IF(ISERROR((Datos!P17/Datos!$D17)),"",IF((Datos!P17/Datos!$D17-1)=-1,"",(Datos!P17/Datos!$D17-1))) | AB18: =IF(ISERROR(Datos!Q17/Datos!P17),"",IF((Datos!Q17/Datos!P17-1)=-1,"",Datos!Q17/Datos!P17-1)) | AC18: =IF(ISERROR((Datos!Q17/Datos!$D17)),"",IF((Datos!Q17/Datos!$D17-1)=-1,"",(Datos!Q17/Datos!$D17-1))) | AD18: =IF(ISERROR(Datos!R17/Datos!Q17),"",IF((Datos!R17/Datos!Q17-1)=-1,"",Datos!R17/Datos!Q17-1)) | AE18: =IF(ISERROR((Datos!R17/Datos!$D17)),"",IF((Datos!R17/Datos!$D17-1)=-1,"",(Datos!R17/Datos!$D17-1))) | AF18: =IF(ISERROR(Datos!S17/Datos!R17),"",IF((Datos!S17/Datos!R17-1)=-1,"",Datos!S17/Datos!R17-1)) | AG18: =IF(ISERROR((Datos!S17/Datos!$D17)),"",IF((Datos!S17/Datos!$D17-1)=-1,"",(Datos!S17/Datos!$D17-1))) | AH18: =IF(ISERROR(Datos!T17/Datos!S17),"",IF((Datos!T17/Datos!S17-1)=-1,"",Datos!T17/Datos!S17-1)) | AI18: =IF(ISERROR((Datos!T17/Datos!$D17)),"",IF((Datos!T17/Datos!$D17-1)=-1,"",(Datos!T17/Datos!$D17-1))) | AJ18: =IF(ISERROR(Datos!U17/Datos!T17),"",IF((Datos!U17/Datos!T17-1)=-1,"",Datos!U17/Datos!T17-1)) | AK18: =IF(ISERROR((Datos!U17/Datos!$D17)),"",IF((Datos!U17/Datos!$D17-1)=-1,"",(Datos!U17/Datos!$D17-1))) | AL18: =IF(ISERROR(Datos!V17/Datos!U17),"",IF((Datos!V17/Datos!U17-1)=-1,"",Datos!V17/Datos!U17-1)) | AM18: =IF(ISERROR((Datos!V17/Datos!$D17)),"",IF((Datos!V17/Datos!$D17-1)=-1,"",(Datos!V17/Datos!$D17-1))) | AN18: =IF(ISERROR(Datos!W17/Datos!V17),"",IF((Datos!W17/Datos!V17-1)=-1,"",Datos!W17/Datos!V17-1)) | AO18: =IF(ISERROR((Datos!W17/Datos!$D17)),"",IF((Datos!W17/Datos!$D17-1)=-1,"",(Datos!W17/Datos!$D17-1))) | AP18: =IF(ISERROR(Datos!X17/Datos!W17),"",IF((Datos!X17/Datos!W17-1)=-1,"",Datos!X17/Datos!W17-1)) | AQ18: =IF(ISERROR((Datos!X17/Datos!$D17)),"",IF((Datos!X17/Datos!$D17-1)=-1,"",(Datos!X17/Datos!$D17-1))) | AR18: =IF(ISERROR(Datos!Y17/Datos!X17),"",IF((Datos!Y17/Datos!X17-1)=-1,"",Datos!Y17/Datos!X17-1)) | AS18: =IF(ISERROR((Datos!Y17/Datos!$D17)),"",IF((Datos!Y17/Datos!$D17-1)=-1,"",(Datos!Y17/Datos!$D17-1)))
B19: =IF(Datos!B18="","",Datos!B18) | C19: =IF(Datos!C18="","",Datos!C18) | D19: =IF((Datos!D18)="","",(Datos!D18)) | E19: =IF(ISERROR(Datos!E18/Datos!$D18),"",IF((Datos!E18/Datos!$D18-1)=-1,"",Datos!E18/Datos!$D18-1)) | F19: =IF(ISERROR(Datos!F18/Datos!E18),"",IF((Datos!F18/Datos!E18-1)=-1,"",(Datos!F18/Datos!E18-1))) | G19: =IF(ISERROR((Datos!F18/Datos!$D18)),"",IF((Datos!F18/Datos!$D18-1)=-1,"",(Datos!F18/Datos!$D18-1))) | H19: =IF(ISERROR(Datos!G18/Datos!F18),"",IF((Datos!G18/Datos!F18-1)=-1,"",(Datos!G18/Datos!F18-1))) | I19: =IF(ISERROR((Datos!G18/Datos!$D18)),"",IF((Datos!G18/Datos!$D18-1)=-1,"",(Datos!G18/Datos!$D18-1))) | J19: =IF(ISERROR(Datos!H18/Datos!G18),"",IF((Datos!H18/Datos!G18-1)=-1,"",(Datos!H18/Datos!G18-1))) | K19: =IF(ISERROR((Datos!H18/Datos!$D18)),"",IF((Datos!H18/Datos!$D18-1)=-1,"",(Datos!H18/Datos!$D18-1))) | L19: =IF(ISERROR(Datos!I18/Datos!H18),"",IF((Datos!I18/Datos!H18-1)=-1,"",(Datos!I18/Datos!H18-1))) | M19: =IF(ISERROR((Datos!I18/Datos!$D18)),"",IF((Datos!I18/Datos!$D18-1)=-1,"",(Datos!I18/Datos!$D18-1))) | N19: =IF(ISERROR(Datos!J18/Datos!I18),"",IF((Datos!J18/Datos!I18-1)=-1,"",Datos!J18/Datos!I18-1)) | O19: =IF(ISERROR((Datos!J18/Datos!$D18)),"",IF((Datos!J18/Datos!$D18-1)=-1,"",(Datos!J18/Datos!$D18-1))) | P19: =IF(ISERROR(Datos!K18/Datos!J18),"",IF((Datos!K18/Datos!J18-1)=-1,"",(Datos!K18/Datos!J18-1))) | Q19: =IF(ISERROR((Datos!K18/Datos!$D18)),"",IF((Datos!K18/Datos!$D18-1)=-1,"",(Datos!K18/Datos!$D18-1))) | R19: =IF(ISERROR(Datos!L18/Datos!K18),"",IF((Datos!L18/Datos!K18-1)=-1,"",Datos!L18/Datos!K18-1)) | S19: =IF(ISERROR((Datos!L18/Datos!$D18)),"",IF((Datos!L18/Datos!$D18-1)=-1,"",(Datos!L18/Datos!$D18-1))) | T19: =IF(ISERROR(Datos!M18/Datos!L18),"",IF((Datos!M18/Datos!L18-1)=-1,"",Datos!M18/Datos!L18-1)) | U19: =IF(ISERROR((Datos!M18/Datos!$D18)),"",IF((Datos!M18/Datos!$D18-1)=-1,"",(Datos!M18/Datos!$D18-1))) | V19: =IF(ISERROR(Datos!N18/Datos!M18),"",IF((Datos!N18/Datos!M18-1)=-1,"",Datos!N18/Datos!M18-1)) | W19: =IF(ISERROR((Datos!N18/Datos!$D18)),"",IF((Datos!N18/Datos!$D18-1)=-1,"",(Datos!N18/Datos!$D18-1))) | X19: =IF(ISERROR(Datos!O18/Datos!N18),"",IF((Datos!O18/Datos!N18-1)=-1,"",Datos!O18/Datos!N18-1)) | Y19: =IF(ISERROR((Datos!O18/Datos!$D18)),"",IF((Datos!O18/Datos!$D18-1)=-1,"",(Datos!O18/Datos!$D18-1))) | Z19: =IF(ISERROR(Datos!P18/Datos!O18),"",IF((Datos!P18/Datos!O18-1)=-1,"",Datos!P18/Datos!O18-1)) | AA19: =IF(ISERROR((Datos!P18/Datos!$D18)),"",IF((Datos!P18/Datos!$D18-1)=-1,"",(Datos!P18/Datos!$D18-1))) | AB19: =IF(ISERROR(Datos!Q18/Datos!P18),"",IF((Datos!Q18/Datos!P18-1)=-1,"",Datos!Q18/Datos!P18-1)) | AC19: =IF(ISERROR((Datos!Q18/Datos!$D18)),"",IF((Datos!Q18/Datos!$D18-1)=-1,"",(Datos!Q18/Datos!$D18-1))) | AD19: =IF(ISERROR(Datos!R18/Datos!Q18),"",IF((Datos!R18/Datos!Q18-1)=-1,"",Datos!R18/Datos!Q18-1)) | AE19: =IF(ISERROR((Datos!R18/Datos!$D18)),"",IF((Datos!R18/Datos!$D18-1)=-1,"",(Datos!R18/Datos!$D18-1))) | AF19: =IF(ISERROR(Datos!S18/Datos!R18),"",IF((Datos!S18/Datos!R18-1)=-1,"",Datos!S18/Datos!R18-1)) | AG19: =IF(ISERROR((Datos!S18/Datos!$D18)),"",IF((Datos!S18/Datos!$D18-1)=-1,"",(Datos!S18/Datos!$D18-1))) | AH19: =IF(ISERROR(Datos!T18/Datos!S18),"",IF((Datos!T18/Datos!S18-1)=-1,"",Datos!T18/Datos!S18-1)) | AI19: =IF(ISERROR((Datos!T18/Datos!$D18)),"",IF((Datos!T18/Datos!$D18-1)=-1,"",(Datos!T18/Datos!$D18-1))) | AJ19: =IF(ISERROR(Datos!U18/Datos!T18),"",IF((Datos!U18/Datos!T18-1)=-1,"",Datos!U18/Datos!T18-1)) | AK19: =IF(ISERROR((Datos!U18/Datos!$D18)),"",IF((Datos!U18/Datos!$D18-1)=-1,"",(Datos!U18/Datos!$D18-1))) | AL19: =IF(ISERROR(Datos!V18/Datos!U18),"",IF((Datos!V18/Datos!U18-1)=-1,"",Datos!V18/Datos!U18-1)) | AM19: =IF(ISERROR((Datos!V18/Datos!$D18)),"",IF((Datos!V18/Datos!$D18-1)=-1,"",(Datos!V18/Datos!$D18-1))) | AN19: =IF(ISERROR(Datos!W18/Datos!V18),"",IF((Datos!W18/Datos!V18-1)=-1,"",Datos!W18/Datos!V18-1)) | AO19: =IF(ISERROR((Datos!W18/Datos!$D18)),"",IF((Datos!W18/Datos!$D18-1)=-1,"",(Datos!W18/Datos!$D18-1))) | AP19: =IF(ISERROR(Datos!X18/Datos!W18),"",IF((Datos!X18/Datos!W18-1)=-1,"",Datos!X18/Datos!W18-1)) | AQ19: =IF(ISERROR((Datos!X18/Datos!$D18)),"",IF((Datos!X18/Datos!$D18-1)=-1,"",(Datos!X18/Datos!$D18-1))) | AR19: =IF(ISERROR(Datos!Y18/Datos!X18),"",IF((Datos!Y18/Datos!X18-1)=-1,"",Datos!Y18/Datos!X18-1)) | AS19: =IF(ISERROR((Datos!Y18/Datos!$D18)),"",IF((Datos!Y18/Datos!$D18-1)=-1,"",(Datos!Y18/Datos!$D18-1)))

Sheet Tabla de conversión
B2: Tabla de conversión de monedas
C4: Tabla a la fecha
B6: Unidad | C6: =IF(Datos!C6="","",Datos!C6) -> Nombre | D6: ="Cotización "&Datos!D4 -> Cotización Dólar | E6: =+C7 -> Peso Argentino | F6: =+C8 -> Peso Uruguayo | G6: =+C9 -> Peso Colombiano | H6: =+C10 -> Real | I6: =+C11 -> Peso Chileno | J6: =+C12 -> Bolivar | K6: =+C13 -> Guaraní | L6: =+C14 -> Nuevo Sol | M6: =+C15 -> Peso Mexicano | N6: =+C16 -> Cordobas Nicaraguense | O6: =+C17 | P6: =+C18
C7: =IF(Datos!C7="","",Datos!C7) -> Peso Argentino | D7: =IF(OR(Oculta!C5="",Oculta!C5=0),"",Oculta!C5) | F7: =+IF(OR(Oculta!$C5="",Oculta!$C5=0),"",$B7*Oculta!$C6/Oculta!$C5) | G7: =+IF(OR(Oculta!$C5="",Oculta!$C5=0),"",$B7*Oculta!$C$7/Oculta!$C5) | H7: =+IF(OR(Oculta!$C5="",Oculta!$C5=0),"",$B7*Oculta!$C$8/Oculta!$C5) | I7: =+IF(OR(Oculta!$C5="",Oculta!$C5=0),"",$B7*Oculta!$C$9/Oculta!$C5) | J7: =+IF(OR(Oculta!$C5="",Oculta!$C5=0),"",$B7*Oculta!$C$10/Oculta!$C5) | K7: =+IF(OR(Oculta!$C5="",Oculta!$C5=0),"",$B7*Oculta!$C$11/Oculta!$C5) | L7: =+IF(OR(Oculta!$C5="",Oculta!$C5=0),"",$B7*Oculta!$C$12/Oculta!$C5) | M7: =+IF(OR(Oculta!$C5="",Oculta!$C5=0),"",$B7*Oculta!$C$13/Oculta!$C5) | N7: =+IF(OR(Oculta!$C5="",Oculta!$C5=0),"",$B7*Oculta!$C$14/Oculta!$C5) | O7: =+IF(OR(Oculta!$C5="",Oculta!$C5=0),"",$B7*Oculta!$C$15/Oculta!$C5) | P7: =+IF(OR(Oculta!$C5="",Oculta!$C5=0),"",$B7*Oculta!$C$16/Oculta!$C5)
C8: =IF(Datos!C8="","",Datos!C8) -> Peso Uruguayo | D8: =IF(OR(Oculta!C6="",Oculta!C6=0),"",Oculta!C6) | E8: =IF(OR(Oculta!$C6="",Oculta!$C6=0),"",$B8*Oculta!$C$5/Oculta!$C6) | G8: =+IF(OR(Oculta!$C6="",Oculta!$C6=0),"",$B8*Oculta!$C$7/Oculta!$C6) | H8: =+IF(OR(Oculta!$C6="",Oculta!$C6=0),"",$B8*Oculta!$C$8/Oculta!$C6) | I8: =+IF(OR(Oculta!$C6="",Oculta!$C6=0),"",$B8*Oculta!$C$9/Oculta!$C6) | J8: =+IF(OR(Oculta!$C6="",Oculta!$C6=0),"",$B8*Oculta!$C$10/Oculta!$C6) | K8: =+IF(OR(Oculta!$C6="",Oculta!$C6=0),"",$B8*Oculta!$C$11/Oculta!$C6) | L8: =+IF(OR(Oculta!$C6="",Oculta!$C6=0),"",$B8*Oculta!$C$12/Oculta!$C6) | M8: =+IF(OR(Oculta!$C6="",Oculta!$C6=0),"",$B8*Oculta!$C$13/Oculta!$C6) | N8: =+IF(OR(Oculta!$C6="",Oculta!$C6=0),"",$B8*Oculta!$C$14/Oculta!$C6) | O8: =+IF(OR(Oculta!$C6="",Oculta!$C6=0),"",$B8*Oculta!$C$15/Oculta!$C6) | P8: =+IF(OR(Oculta!$C6="",Oculta!$C6=0),"",$B8*Oculta!$C$16/Oculta!$C6)
C9: =IF(Datos!C9="","",Datos!C9) -> Peso Colombiano | D9: =IF(OR(Oculta!C7="",Oculta!C7=0),"",Oculta!C7) | E9: =IF(OR(Oculta!$C7="",Oculta!$C7=0),"",$B9*Oculta!$C$5/Oculta!$C7) | F9: =IF(OR(Oculta!$C7="",Oculta!$C7=0),"",$B9*Oculta!$C$6/Oculta!$C7) | H9: =+IF(OR(Oculta!$C7="",Oculta!$C7=0),"",$B9*Oculta!$C$8/Oculta!$C7) | I9: =+IF(OR(Oculta!$C7="",Oculta!$C7=0),"",$B9*Oculta!$C$9/Oculta!$C7) | J9: =+IF(OR(Oculta!$C7="",Oculta!$C7=0),"",$B9*Oculta!$C$10/Oculta!$C7) | K9: =+IF(OR(Oculta!$C7="",Oculta!$C7=0),"",$B9*Oculta!$C$11/Oculta!$C7) | L9: =+IF(OR(Oculta!$C7="",Oculta!$C7=0),"",$B9*Oculta!$C$12/Oculta!$C7) | M9: =+IF(OR(Oculta!$C7="",Oculta!$C7=0),"",$B9*Oculta!$C$13/Oculta!$C7) | N9: =+IF(OR(Oculta!$C7="",Oculta!$C7=0),"",$B9*Oculta!$C$14/Oculta!$C7) | O9: =+IF(OR(Oculta!$C7="",Oculta!$C7=0),"",$B9*Oculta!$C$15/Oculta!$C7) | P9: =+IF(OR(Oculta!$C7="",Oculta!$C7=0),"",$B9*Oculta!$C$16/Oculta!$C7)
