Workbook
Name Calendar: daysAndWks + DateOfFirst - WEEKDAY(DateOfFirst,2)
Name dailyEvents: Diario!$C$5:$D$370
Name DateOfFirst: DATE(YEAR(Mini!$B$5),MONTH(Mini!$B1),1)
Name daysAndWks: COLUMN(OFFSET(INDIRECT("$A$1"),0,0,1,42))-1
Name dayTypes: Diario!$N$5:$N$8
Name lstDailyEvents: Diario!$L$5:$L$370
Name lstWeekDays: 'Calendario - color 1'!$B$6:$H$6
Name lstWeekDays: 'Calendiario - color 2'!$B$6:$H$6
Name lstWeekDays: 'Calendiario - color 3'!$B$6:$H$6
Name lstWeekDays: Completo!$B$6:$H$6
Name m1_: Mini!$C$6:$AR$6
Name m10_: Mini!$C$15:$AR$15
Name m11_: Mini!$C$16:$AR$16
Name m12_: Mini!$C$17:$AR$17
Name m2_: Mini!$C$7:$AR$7
Name m3_: Mini!$C$8:$AR$8
Name m4_: Mini!$C$9:$AR$9
Name m5_: Mini!$C$10:$AR$10
Name m6_: Mini!$C$11:$AR$11
Name m7_: Mini!$C$12:$AR$12
Name m8_: Mini!$C$13:$AR$13
Name m9_: Mini!$C$14:$AR$14
Name month1: Mensual!$B$5:$H$10
Name month10: Mensual!$B$86:$H$91
Name month11: Mensual!$B$95:$H$100
Name month12: Mensual!$B$104:$H$109
Name month2: Mensual!$B$14:$H$19
Name month3: Mensual!$B$23:$H$28
Name month4: Mensual!$B$32:$H$37
Name month5: Mensual!$B$41:$H$46
Name month6: Mensual!$B$50:$H$55
Name month7: Mensual!$B$59:$H$64
Name month8: Mensual!$B$68:$H$73
Name month9: Mensual!$B$77:$H$82
Name symAnn: Diario!$O$6
Name symHol: Diario!$O$7
Name symImp: Diario!$O$5
Name symVac: Diario!$O$8
Name valAnn: Diario!$N$6
Name valEventStats: Diario!$S$5
Name valHol: Diario!$N$7
Name valImp: Diario!$N$5
Name valVac: Diario!$N$8
Name valYearStart: Diario!$C$5
Name year: Completo!$J$3

Sheet Completo
B3: Año | J3: 2022 | AA3: Notas
B5: =Mini!B6 -> 44562 | J5: =Mini!B7 -> 44593 | R5: =Mini!B8 -> 44621
B6: Do | C6: Lu | D6: Ma | E6: Mi | F6: Ju | G6: Vi | H6: Sa | J6: Do | K6: Lu | L6: Ma | M6: Mi | N6: Ju | O6: Vi | P6: Sa | R6: Do | S6: Lu | T6: Ma | U6: Mi | V6: Ju | W6: Vi | X6: Sa
B7: =INDEX(m1_,1,(ROWS($B$7:B7)-1)*7+COLUMNS($B$7:B7)) -> 44556 | C7: =INDEX(m1_,1,(ROWS($B$7:C7)-1)*7+COLUMNS($B$7:C7)) -> 44557 | D7: =INDEX(m1_,1,(ROWS($B$7:D7)-1)*7+COLUMNS($B$7:D7)) -> 44558 | E7: =INDEX(m1_,1,(ROWS($B$7:E7)-1)*7+COLUMNS($B$7:E7)) -> 44559 | F7: =INDEX(m1_,1,(ROWS($B$7:F7)-1)*7+COLUMNS($B$7:F7)) -> 44560 | G7: =INDEX(m1_,1,(ROWS($B$7:G7)-1)*7+COLUMNS($B$7:G7)) -> 44561 | H7: =INDEX(m1_,1,(ROWS($B$7:H7)-1)*7+COLUMNS($B$7:H7)) -> 44562 | J7: =INDEX(m2_,1,(ROWS($J$7:J7)-1)*7+COLUMNS($J$7:J7)) -> 44591 | K7: =INDEX(m2_,1,(ROWS($J$7:K7)-1)*7+COLUMNS($J$7:K7)) -> 44592 | L7: =INDEX(m2_,1,(ROWS($J$7:L7)-1)*7+COLUMNS($J$7:L7)) -> 44593 | M7: =INDEX(m2_,1,(ROWS($J$7:M7)-1)*7+COLUMNS($J$7:M7)) -> 44594 | N7: =INDEX(m2_,1,(ROWS($J$7:N7)-1)*7+COLUMNS($J$7:N7)) -> 44595 | O7: =INDEX(m2_,1,(ROWS($J$7:O7)-1)*7+COLUMNS($J$7:O7)) -> 44596 | P7: =INDEX(m2_,1,(ROWS($J$7:P7)-1)*7+COLUMNS($J$7:P7)) -> 44597 | R7: =INDEX(m3_,1,(ROWS($R$7:R7)-1)*7+COLUMNS($R$7:R7)) -> 44619 | S7: =INDEX(m3_,1,(ROWS($R$7:S7)-1)*7+COLUMNS($R$7:S7)) -> 44620 | T7: =INDEX(m3_,1,(ROWS($R$7:T7)-1)*7+COLUMNS($R$7:T7)) -> 44621 | U7: =INDEX(m3_,1,(ROWS($R$7:U7)-1)*7+COLUMNS($R$7:U7)) -> 44622 | V7: =INDEX(m3_,1,(ROWS($R$7:V7)-1)*7+COLUMNS($R$7:V7)) -> 44623 | W7: =INDEX(m3_,1,(ROWS($R$7:W7)-1)*7+COLUMNS($R$7:W7)) -> 44624 | X7: =INDEX(m3_,1,(ROWS($R$7:X7)-1)*7+COLUMNS($R$7:X7)) -> 44625
B8: =INDEX(m1_,1,(ROWS($B$7:B8)-1)*7+COLUMNS($B$7:B8)) -> 44563 | C8: =INDEX(m1_,1,(ROWS($B$7:C8)-1)*7+COLUMNS($B$7:C8)) -> 44564 | D8: =INDEX(m1_,1,(ROWS($B$7:D8)-1)*7+COLUMNS($B$7:D8)) -> 44565 | E8: =INDEX(m1_,1,(ROWS($B$7:E8)-1)*7+COLUMNS($B$7:E8)) -> 44566 | F8: =INDEX(m1_,1,(ROWS($B$7:F8)-1)*7+COLUMNS($B$7:F8)) -> 44567 | G8: =INDEX(m1_,1,(ROWS($B$7:G8)-1)*7+COLUMNS($B$7:G8)) -> 44568 | H8: =INDEX(m1_,1,(ROWS($B$7:H8)-1)*7+COLUMNS($B$7:H8)) -> 44569 | J8: =INDEX(m2_,1,(ROWS($J$7:J8)-1)*7+COLUMNS($J$7:J8)) -> 44598 | K8: =INDEX(m2_,1,(ROWS($J$7:K8)-1)*7+COLUMNS($J$7:K8)) -> 44599 | L8: =INDEX(m2_,1,(ROWS($J$7:L8)-1)*7+COLUMNS($J$7:L8)) -> 44600 | M8: =INDEX(m2_,1,(ROWS($J$7:M8)-1)*7+COLUMNS($J$7:M8)) -> 44601 | N8: =INDEX(m2_,1,(ROWS($J$7:N8)-1)*7+COLUMNS($J$7:N8)) -> 44602 | O8: =INDEX(m2_,1,(ROWS($J$7:O8)-1)*7+COLUMNS($J$7:O8)) -> 44603 | P8: =INDEX(m2_,1,(ROWS($J$7:P8)-1)*7+COLUMNS($J$7:P8)) -> 44604 | R8: =INDEX(m3_,1,(ROWS($R$7:R8)-1)*7+COLUMNS($R$7:R8)) -> 44626 | S8: =INDEX(m3_,1,(ROWS($R$7:S8)-1)*7+COLUMNS($R$7:S8)) -> 44627 | T8: =INDEX(m3_,1,(ROWS($R$7:T8)-1)*7+COLUMNS($R$7:T8)) -> 44628 | U8: =INDEX(m3_,1,(ROWS($R$7:U8)-1)*7+COLUMNS($R$7:U8)) -> 44629 | V8: =INDEX(m3_,1,(ROWS($R$7:V8)-1)*7+COLUMNS($R$7:V8)) -> 44630 | W8: =INDEX(m3_,1,(ROWS($R$7:W8)-1)*7+COLUMNS($R$7:W8)) -> 44631 | X8: =INDEX(m3_,1,(ROWS($R$7:X8)-1)*7+COLUMNS($R$7:X8)) -> 44632
B9: =INDEX(m1_,1,(ROWS($B$7:B9)-1)*7+COLUMNS($B$7:B9)) -> 44570 | C9: =INDEX(m1_,1,(ROWS($B$7:C9)-1)*7+COLUMNS($B$7:C9)) -> 44571 | D9: =INDEX(m1_,1,(ROWS($B$7:D9)-1)*7+COLUMNS($B$7:D9)) -> 44572 | E9: =INDEX(m1_,1,(ROWS($B$7:E9)-1)*7+COLUMNS($B$7:E9)) -> 44573 | F9: =INDEX(m1_,1,(ROWS($B$7:F9)-1)*7+COLUMNS($B$7:F9)) -> 44574 | G9: =INDEX(m1_,1,(ROWS($B$7:G9)-1)*7+COLUMNS($B$7:G9)) -> 44575 | H9: =INDEX(m1_,1,(ROWS($B$7:H9)-1)*7+COLUMNS($B$7:H9)) -> 44576 | J9: =INDEX(m2_,1,(ROWS($J$7:J9)-1)*7+COLUMNS($J$7:J9)) -> 44605 | K9: =INDEX(m2_,1,(ROWS($J$7:K9)-1)*7+COLUMNS($J$7:K9)) -> 44606 | L9: =INDEX(m2_,1,(ROWS($J$7:L9)-1)*7+COLUMNS($J$7:L9)) -> 44607 | M9: =INDEX(m2_,1,(ROWS($J$7:M9)-1)*7+COLUMNS($J$7:M9)) -> 44608 | N9: =INDEX(m2_,1,(ROWS($J$7:N9)-1)*7+COLUMNS($J$7:N9)) -> 44609 | O9: =INDEX(m2_,1,(ROWS($J$7:O9)-1)*7+COLUMNS($J$7:O9)) -> 44610 | P9: =INDEX(m2_,1,(ROWS($J$7:P9)-1)*7+COLUMNS($J$7:P9)) -> 44611 | R9: =INDEX(m3_,1,(ROWS($R$7:R9)-1)*7+COLUMNS($R$7:R9)) -> 44633 | S9: =INDEX(m3_,1,(ROWS($R$7:S9)-1)*7+COLUMNS($R$7:S9)) -> 44634 | T9: =INDEX(m3_,1,(ROWS($R$7:T9)-1)*7+COLUMNS($R$7:T9)) -> 44635 | U9: =INDEX(m3_,1,(ROWS($R$7:U9)-1)*7+COLUMNS($R$7:U9)) -> 44636 | V9: =INDEX(m3_,1,(ROWS($R$7:V9)-1)*7+COLUMNS($R$7:V9)) -> 44637 | W9: =INDEX(m3_,1,(ROWS($R$7:W9)-1)*7+COLUMNS($R$7:W9)) -> 44638 | X9: =INDEX(m3_,1,(ROWS($R$7:X9)-1)*7+COLUMNS($R$7:X9)) -> 44639
B10: =INDEX(m1_,1,(ROWS($B$7:B10)-1)*7+COLUMNS($B$7:B10)) -> 44577 | C10: =INDEX(m1_,1,(ROWS($B$7:C10)-1)*7+COLUMNS($B$7:C10)) -> 44578 | D10: =INDEX(m1_,1,(ROWS($B$7:D10)-1)*7+COLUMNS($B$7:D10)) -> 44579 | E10: =INDEX(m1_,1,(ROWS($B$7:E10)-1)*7+COLUMNS($B$7:E10)) -> 44580 | F10: =INDEX(m1_,1,(ROWS($B$7:F10)-1)*7+COLUMNS($B$7:F10)) -> 44581 | G10: =INDEX(m1_,1,(ROWS($B$7:G10)-1)*7+COLUMNS($B$7:G10)) -> 44582 | H10: =INDEX(m1_,1,(ROWS($B$7:H10)-1)*7+COLUMNS($B$7:H10)) -> 44583 | J10: =INDEX(m2_,1,(ROWS($J$7:J10)-1)*7+COLUMNS($J$7:J10)) -> 44612 | K10: =INDEX(m2_,1,(ROWS($J$7:K10)-1)*7+COLUMNS($J$7:K10)) -> 44613 | L10: =INDEX(m2_,1,(ROWS($J$7:L10)-1)*7+COLUMNS($J$7:L10)) -> 44614 | M10: =INDEX(m2_,1,(ROWS($J$7:M10)-1)*7+COLUMNS($J$7:M10)) -> 44615 | N10: =INDEX(m2_,1,(ROWS($J$7:N10)-1)*7+COLUMNS($J$7:N10)) -> 44616 | O10: =INDEX(m2_,1,(ROWS($J$7:O10)-1)*7+COLUMNS($J$7:O10)) -> 44617 | P10: =INDEX(m2_,1,(ROWS($J$7:P10)-1)*7+COLUMNS($J$7:P10)) -> 44618 | R10: =INDEX(m3_,1,(ROWS($R$7:R10)-1)*7+COLUMNS($R$7:R10)) -> 44640 | S10: =INDEX(m3_,1,(ROWS($R$7:S10)-1)*7+COLUMNS($R$7:S10)) -> 44641 | T10: =INDEX(m3_,1,(ROWS($R$7:T10)-1)*7+COLUMNS($R$7:T10)) -> 44642 | U10: =INDEX(m3_,1,(ROWS($R$7:U10)-1)*7+COLUMNS($R$7:U10)) -> 44643 | V10: =INDEX(m3_,1,(ROWS($R$7:V10)-1)*7+COLUMNS($R$7:V10)) -> 44644 | W10: =INDEX(m3_,1,(ROWS($R$7:W10)-1)*7+COLUMNS($R$7:W10)) -> 44645 | X10: =INDEX(m3_,1,(ROWS($R$7:X10)-1)*7+COLUMNS($R$7:X10)) -> 44646
B11: =INDEX(m1_,1,(ROWS($B$7:B11)-1)*7+COLUMNS($B$7:B11)) -> 44584 | C11: =INDEX(m1_,1,(ROWS($B$7:C11)-1)*7+COLUMNS($B$7:C11)) -> 44585 | D11: =INDEX(m1_,1,(ROWS($B$7:D11)-1)*7+COLUMNS($B$7:D11)) -> 44586 | E11: =INDEX(m1_,1,(ROWS($B$7:E11)-1)*7+COLUMNS($B$7:E11)) -> 44587 | F11: =INDEX(m1_,1,(ROWS($B$7:F11)-1)*7+COLUMNS($B$7:F11)) -> 44588 | G11: =INDEX(m1_,1,(ROWS($B$7:G11)-1)*7+COLUMNS($B$7:G11)) -> 44589 | H11: =INDEX(m1_,1,(ROWS($B$7:H11)-1)*7+COLUMNS($B$7:H11)) -> 44590 | J11: =INDEX(m2_,1,(ROWS($J$7:J11)-1)*7+COLUMNS($J$7:J11)) -> 44619 | K11: =INDEX(m2_,1,(ROWS($J$7:K11)-1)*7+COLUMNS($J$7:K11)) -> 44620 | L11: =INDEX(m2_,1,(ROWS($J$7:L11)-1)*7+COLUMNS($J$7:L11)) -> 44621 | M11: =INDEX(m2_,1,(ROWS($J$7:M11)-1)*7+COLUMNS($J$7:M11)) -> 44622 | N11: =INDEX(m2_,1,(ROWS($J$7:N11)-1)*7+COLUMNS($J$7:N11)) -> 44623 | O11: =INDEX(m2_,1,(ROWS($J$7:O11)-1)*7+COLUMNS($J$7:O11)) -> 44624 | P11: =INDEX(m2_,1,(ROWS($J$7:P11)-1)*7+COLUMNS($J$7:P11)) -> 44625 | R11: =INDEX(m3_,1,(ROWS($R$7:R11)-1)*7+COLUMNS($R$7:R11)) -> 44647 | S11: =INDEX(m3_,1,(ROWS($R$7:S11)-1)*7+COLUMNS($R$7:S11)) -> 44648 | T11: =INDEX(m3_,1,(ROWS($R$7:T11)-1)*7+COLUMNS($R$7:T11)) -> 44649 | U11: =INDEX(m3_,1,(ROWS($R$7:U11)-1)*7+COLUMNS($R$7:U11)) -> 44650 | V11: =INDEX(m3_,1,(ROWS($R$7:V11)-1)*7+COLUMNS($R$7:V11)) -> 44651 | W11: =INDEX(m3_,1,(ROWS($R$7:W11)-1)*7+COLUMNS($R$7:W11)) -> 44652 | X11: =INDEX(m3_,1,(ROWS($R$7:X11)-1)*7+COLUMNS($R$7:X11)) -> 44653
B12: =INDEX(m1_,1,(ROWS($B$7:B12)-1)*7+COLUMNS($B$7:B12)) -> 44591 | C12: =INDEX(m1_,1,(ROWS($B$7:C12)-1)*7+COLUMNS($B$7:C12)) -> 44592 | D12: =INDEX(m1_,1,(ROWS($B$7:D12)-1)*7+COLUMNS($B$7:D12)) -> 44593 | E12: =INDEX(m1_,1,(ROWS($B$7:E12)-1)*7+COLUMNS($B$7:E12)) -> 44594 | F12: =INDEX(m1_,1,(ROWS($B$7:F12)-1)*7+COLUMNS($B$7:F12)) -> 44595 | G12: =INDEX(m1_,1,(ROWS($B$7:G12)-1)*7+COLUMNS($B$7:G12)) -> 44596 | H12: =INDEX(m1_,1,(ROWS($B$7:H12)-1)*7+COLUMNS($B$7:H12)) -> 44597 | J12: =INDEX(m2_,1,(ROWS($J$7:J12)-1)*7+COLUMNS($J$7:J12)) -> 44626 | K12: =INDEX(m2_,1,(ROWS($J$7:K12)-1)*7+COLUMNS($J$7:K12)) -> 44627 | L12: =INDEX(m2_,1,(ROWS($J$7:L12)-1)*7+COLUMNS($J$7:L12)) -> 44628 | M12: =INDEX(m2_,1,(ROWS($J$7:M12)-1)*7+COLUMNS($J$7:M12)) -> 44629 | N12: =INDEX(m2_,1,(ROWS($J$7:N12)-1)*7+COLUMNS($J$7:N12)) -> 44630 | O12: =INDEX(m2_,1,(ROWS($J$7:O12)-1)*7+COLUMNS($J$7:O12)) -> 44631 | P12: =INDEX(m2_,1,(ROWS($J$7:P12)-1)*7+COLUMNS($J$7:P12)) -> 44632 | R12: =INDEX(m3_,1,(ROWS($R$7:R12)-1)*7+COLUMNS($R$7:R12)) -> 44654 | S12: =INDEX(m3_,1,(ROWS($R$7:S12)-1)*7+COLUMNS($R$7:S12)) -> 44655 | T12: =INDEX(m3_,1,(ROWS($R$7:T12)-1)*7+COLUMNS($R$7:T12)) -> 44656 | U12: =INDEX(m3_,1,(ROWS($R$7:U12)-1)*7+COLUMNS($R$7:U12)) -> 44657 | V12: =INDEX(m3_,1,(ROWS($R$7:V12)-1)*7+COLUMNS($R$7:V12)) -> 44658 | W12: =INDEX(m3_,1,(ROWS($R$7:W12)-1)*7+COLUMNS($R$7:W12)) -> 44659 | X12: =INDEX(m3_,1,(ROWS($R$7:X12)-1)*7+COLUMNS($R$7:X12)) -> 44660
B14: =Mini!B9 -> 44652 | J14: =Mini!B10 -> 44682 | R14: =Mini!B11 -> 44713
B15: Do | C15: Lu | D15: Ma | E15: Mi | F15: Ju | G15: Vi | H15: Sa | J15: Do | K15: Lu | L15: Ma | M15: Mi | N15: Ju | O15: Vi | P15: Sa | R15: Do | S15: Lu | T15: Ma | U15: Mi | V15: Ju | W15: Vi | X15: Sa
B16: =INDEX(m4_,1,(ROWS($B$16:B16)-1)*7+COLUMNS($B$16:B16)) -> 44647 | C16: =INDEX(m4_,1,(ROWS($B$16:C16)-1)*7+COLUMNS($B$16:C16)) -> 44648 | D16: =INDEX(m4_,1,(ROWS($B$16:D16)-1)*7+COLUMNS($B$16:D16)) -> 44649 | E16: =INDEX(m4_,1,(ROWS($B$16:E16)-1)*7+COLUMNS($B$16:E16)) -> 44650 | F16: =INDEX(m4_,1,(ROWS($B$16:F16)-1)*7+COLUMNS($B$16:F16)) -> 44651 | G16: =INDEX(m4_,1,(ROWS($B$16:G16)-1)*7+COLUMNS($B$16:G16)) -> 44652 | H16: =INDEX(m4_,1,(ROWS($B$16:H16)-1)*7+COLUMNS($B$16:H16)) -> 44653 | J16: =INDEX(m5_,1,(ROWS($J$16:J16)-1)*7+COLUMNS($J$16:J16)) -> 44675 | K16: =INDEX(m5_,1,(ROWS($J$16:K16)-1)*7+COLUMNS($J$16:K16)) -> 44676 | L16: =INDEX(m5_,1,(ROWS($J$16:L16)-1)*7+COLUMNS($J$16:L16)) -> 44677 | M16: =INDEX(m5_,1,(ROWS($J$16:M16)-1)*7+COLUMNS($J$16:M16)) -> 44678 | N16: =INDEX(m5_,1,(ROWS($J$16:N16)-1)*7+COLUMNS($J$16:N16)) -> 44679 | O16: =INDEX(m5_,1,(ROWS($J$16:O16)-1)*7+COLUMNS($J$16:O16)) -> 44680 | P16: =INDEX(m5_,1,(ROWS($J$16:P16)-1)*7+COLUMNS($J$16:P16)) -> 44681 | R16: =INDEX(m6_,1,(ROWS($R$16:R16)-1)*7+COLUMNS($R$16:R16)) -> 44710 | S16: =INDEX(m6_,1,(ROWS($R$16:S16)-1)*7+COLUMNS($R$16:S16)) -> 44711 | T16: =INDEX(m6_,1,(ROWS($R$16:T16)-1)*7+COLUMNS($R$16:T16)) -> 44712 | U16: =INDEX(m6_,1,(ROWS($R$16:U16)-1)*7+COLUMNS($R$16:U16)) -> 44713 | V16: =INDEX(m6_,1,(ROWS($R$16:V16)-1)*7+COLUMNS($R$16:V16)) -> 44714 | W16: =INDEX(m6_,1,(ROWS($R$16:W16)-1)*7+COLUMNS($R$16:W16)) -> 44715 | X16: =INDEX(m6_,1,(ROWS($R$16:X16)-1)*7+COLUMNS($R$16:X16)) -> 44716
B17: =INDEX(m4_,1,(ROWS($B$16:B17)-1)*7+COLUMNS($B$16:B17)) -> 44654 | C17: =INDEX(m4_,1,(ROWS($B$16:C17)-1)*7+COLUMNS($B$16:C17)) -> 44655 | D17: =INDEX(m4_,1,(ROWS($B$16:D17)-1)*7+COLUMNS($B$16:D17)) -> 44656 | E17: =INDEX(m4_,1,(ROWS($B$16:E17)-1)*7+COLUMNS($B$16:E17)) -> 44657 | F17: =INDEX(m4_,1,(ROWS($B$16:F17)-1)*7+COLUMNS($B$16:F17)) -> 44658 | G17: =INDEX(m4_,1,(ROWS($B$16:G17)-1)*7+COLUMNS($B$16:G17)) -> 44659 | H17: =INDEX(m4_,1,(ROWS($B$16:H17)-1)*7+COLUMNS($B$16:H17)) -> 44660 | J17: =INDEX(m5_,1,(ROWS($J$16:J17)-1)*7+COLUMNS($J$16:J17)) -> 44682 | K17: =INDEX(m5_,1,(ROWS($J$16:K17)-1)*7+COLUMNS($J$16:K17)) -> 44683 | L17: =INDEX(m5_,1,(ROWS($J$16:L17)-1)*7+COLUMNS($J$16:L17)) -> 44684 | M17: =INDEX(m5_,1,(ROWS($J$16:M17)-1)*7+COLUMNS($J$16:M17)) -> 44685 | N17: =INDEX(m5_,1,(ROWS($J$16:N17)-1)*7+COLUMNS($J$16:N17)) -> 44686 | O17: =INDEX(m5_,1,(ROWS($J$16:O17)-1)*7+COLUMNS($J$16:O17)) -> 44687 | P17: =INDEX(m5_,1,(ROWS($J$16:P17)-1)*7+COLUMNS($J$16:P17)) -> 44688 | R17: =INDEX(m6_,1,(ROWS($R$16:R17)-1)*7+COLUMNS($R$16:R17)) -> 44717 | S17: =INDEX(m6_,1,(ROWS($R$16:S17)-1)*7+COLUMNS($R$16:S17)) -> 44718 | T17: =INDEX(m6_,1,(ROWS($R$16:T17)-1)*7+COLUMNS($R$16:T17)) -> 44719 | U17: =INDEX(m6_,1,(ROWS($R$16:U17)-1)*7+COLUMNS($R$16:U17)) -> 44720 | V17: =INDEX(m6_,1,(ROWS($R$16:V17)-1)*7+COLUMNS($R$16:V17)) -> 44721 | W17: =INDEX(m6_,1,(ROWS($R$16:W17)-1)*7+COLUMNS($R$16:W17)) -> 44722 | X17: =INDEX(m6_,1,(ROWS($R$16:X17)-1)*7+COLUMNS($R$16:X17)) -> 44723
B18: =INDEX(m4_,1,(ROWS($B$16:B18)-1)*7+COLUMNS($B$16:B18)) -> 44661 | C18: =INDEX(m4_,1,(ROWS($B$16:C18)-1)*7+COLUMNS($B$16:C18)) -> 44662 | D18: =INDEX(m4_,1,(ROWS($B$16:D18)-1)*7+COLUMNS($B$16:D18)) -> 44663 | E18: =INDEX(m4_,1,(ROWS($B$16:E18)-1)*7+COLUMNS($B$16:E18)) -> 44664 | F18: =INDEX(m4_,1,(ROWS($B$16:F18)-1)*7+COLUMNS($B$16:F18)) -> 44665 | G18: =INDEX(m4_,1,(ROWS($B$16:G18)-1)*7+COLUMNS($B$16:G18)) -> 44666 | H18: =INDEX(m4_,1,(ROWS($B$16:H18)-1)*7+COLUMNS($B$16:H18)) -> 44667 | J18: =INDEX(m5_,1,(ROWS($J$16:J18)-1)*7+COLUMNS($J$16:J18)) -> 44689 | K18: =INDEX(m5_,1,(ROWS($J$16:K18)-1)*7+COLUMNS($J$16:K18)) -> 44690 | L18: =INDEX(m5_,1,(ROWS($J$16:L18)-1)*7+COLUMNS($J$16:L18)) -> 44691 | M18: =INDEX(m5_,1,(ROWS($J$16:M18)-1)*7+COLUMNS($J$16:M18)) -> 44692 | N18: =INDEX(m5_,1,(ROWS($J$16:N18)-1)*7+COLUMNS($J$16:N18)) -> 44693 | O18: =INDEX(m5_,1,(ROWS($J$16:O18)-1)*7+COLUMNS($J$16:O18)) -> 44694 | P18: =INDEX(m5_,1,(ROWS($J$16:P18)-1)*7+COLUMNS($J$16:P18)) -> 44695 | R18: =INDEX(m6_,1,(ROWS($R$16:R18)-1)*7+COLUMNS($R$16:R18)) -> 44724 | S18: =INDEX(m6_,1,(ROWS($R$16:S18)-1)*7+COLUMNS($R$16:S18)) -> 44725 | T18: =INDEX(m6_,1,(ROWS($R$16:T18)-1)*7+COLUMNS($R$16:T18)) -> 44726 | U18: =INDEX(m6_,1,(ROWS($R$16:U18)-1)*7+COLUMNS($R$16:U18)) -> 44727 | V18: =INDEX(m6_,1,(ROWS($R$16:V18)-1)*7+COLUMNS($R$16:V18)) -> 44728 | W18: =INDEX(m6_,1,(ROWS($R$16:W18)-1)*7+COLUMNS($R$16:W18)) -> 44729 | X18: =INDEX(m6_,1,(ROWS($R$16:X18)-1)*7+COLUMNS($R$16:X18)) -> 44730
B19: =INDEX(m4_,1,(ROWS($B$16:B19)-1)*7+COLUMNS($B$16:B19)) -> 44668 | C19: =INDEX(m4_,1,(ROWS($B$16:C19)-1)*7+COLUMNS($B$16:C19)) -> 44669 | D19: =INDEX(m4_,1,(ROWS($B$16:D19)-1)*7+COLUMNS($B$16:D19)) -> 44670 | E19: =INDEX(m4_,1,(ROWS($B$16:E19)-1)*7+COLUMNS($B$16:E19)) -> 44671 | F19: =INDEX(m4_,1,(ROWS($B$16:F19)-1)*7+COLUMNS($B$16:F19)) -> 44672 | G19: =INDEX(m4_,1,(ROWS($B$16:G19)-1)*7+COLUMNS($B$16:G19)) -> 44673 | H19: =INDEX(m4_,1,(ROWS($B$16:H19)-1)*7+COLUMNS($B$16:H19)) -> 44674 | J19: =INDEX(m5_,1,(ROWS($J$16:J19)-1)*7+COLUMNS($J$16:J19)) -> 44696 | K19: =INDEX(m5_,1,(ROWS($J$16:K19)-1)*7+COLUMNS($J$16:K19)) -> 44697 | L19: =INDEX(m5_,1,(ROWS($J$16:L19)-1)*7+COLUMNS($J$16:L19)) -> 44698 | M19: =INDEX(m5_,1,(ROWS($J$16:M19)-1)*7+COLUMNS($J$16:M19)) -> 44699 | N19: =INDEX(m5_,1,(ROWS($J$16:N19)-1)*7+COLUMNS($J$16:N19)) -> 44700 | O19: =INDEX(m5_,1,(ROWS($J$16:O19)-1)*7+COLUMNS($J$16:O19)) -> 44701 | P19: =INDEX(m5_,1,(ROWS($J$16:P19)-1)*7+COLUMNS($J$16:P19)) -> 44702 | R19: =INDEX(m6_,1,(ROWS($R$16:R19)-1)*7+COLUMNS($R$16:R19)) -> 44731 | S19: =INDEX(m6_,1,(ROWS($R$16:S19)-1)*7+COLUMNS($R$16:S19)) -> 44732 | T19: =INDEX(m6_,1,(ROWS($R$16:T19)-1)*7+COLUMNS($R$16:T19)) -> 44733 | U19: =INDEX(m6_,1,(ROWS($R$16:U19)-1)*7+COLUMNS($R$16:U19)) -> 44734 | V19: =INDEX(m6_,1,(ROWS($R$16:V19)-1)*7+COLUMNS($R$16:V19)) -> 44735 | W19: =INDEX(m6_,1,(ROWS($R$16:W19)-1)*7+COLUMNS($R$16:W19)) -> 44736 | X19: =INDEX(m6_,1,(ROWS($R$16:X19)-1)*7+COLUMNS($R$16:X19)) -> 44737
B20: =INDEX(m4_,1,(ROWS($B$16:B20)-1)*7+COLUMNS($B$16:B20)) -> 44675 | C20: =INDEX(m4_,1,(ROWS($B$16:C20)-1)*7+COLUMNS($B$16:C20)) -> 44676 | D20: =INDEX(m4_,1,(ROWS($B$16:D20)-1)*7+COLUMNS($B$16:D20)) -> 44677 | E20: =INDEX(m4_,1,(ROWS($B$16:E20)-1)*7+COLUMNS($B$16:E20)) -> 44678 | F20: =INDEX(m4_,1,(ROWS($B$16:F20)-1)*7+COLUMNS($B$16:F20)) -> 44679 | G20: =INDEX(m4_,1,(ROWS($B$16:G20)-1)*7+COLUMNS($B$16:G20)) -> 44680 | H20: =INDEX(m4_,1,(ROWS($B$16:H20)-1)*7+COLUMNS($B$16:H20)) -> 44681 | J20: =INDEX(m5_,1,(ROWS($J$16:J20)-1)*7+COLUMNS($J$16:J20)) -> 44703 | K20: =INDEX(m5_,1,(ROWS($J$16:K20)-1)*7+COLUMNS($J$16:K20)) -> 44704 | L20: =INDEX(m5_,1,(ROWS($J$16:L20)-1)*7+COLUMNS($J$16:L20)) -> 44705 | M20: =INDEX(m5_,1,(ROWS($J$16:M20)-1)*7+COLUMNS($J$16:M20)) -> 44706 | N20: =INDEX(m5_,1,(ROWS($J$16:N20)-1)*7+COLUMNS($J$16:N20)) -> 44707 | O20: =INDEX(m5_,1,(ROWS($J$16:O20)-1)*7+COLUMNS($J$16:O20)) -> 44708 | P20: =INDEX(m5_,1,(ROWS($J$16:P20)-1)*7+COLUMNS($J$16:P20)) -> 44709 | R20: =INDEX(m6_,1,(ROWS($R$16:R20)-1)*7+COLUMNS($R$16:R20)) -> 44738 | S20: =INDEX(m6_,1,(ROWS($R$16:S20)-1)*7+COLUMNS($R$16:S20)) -> 44739 | T20: =INDEX(m6_,1,(ROWS($R$16:T20)-1)*7+COLUMNS($R$16:T20)) -> 44740 | U20: =INDEX(m6_,1,(ROWS($R$16:U20)-1)*7+COLUMNS($R$16:U20)) -> 44741 | V20: =INDEX(m6_,1,(ROWS($R$16:V20)-1)*7+COLUMNS($R$16:V20)) -> 44742 | W20: =INDEX(m6_,1,(ROWS($R$16:W20)-1)*7+COLUMNS($R$16:W20)) -> 44743 | X20: =INDEX(m6_,1,(ROWS($R$16:X20)-1)*7+COLUMNS($R$16:X20)) -> 44744
B21: =INDEX(m4_,1,(ROWS($B$16:B21)-1)*7+COLUMNS($B$16:B21)) -> 44682 | C21: =INDEX(m4_,1,(ROWS($B$16:C21)-1)*7+COLUMNS($B$16:C21)) -> 44683 | D21: =INDEX(m4_,1,(ROWS($B$16:D21)-1)*7+COLUMNS($B$16:D21)) -> 44684 | E21: =INDEX(m4_,1,(ROWS($B$16:E21)-1)*7+COLUMNS($B$16:E21)) -> 44685 | F21: =INDEX(m4_,1,(ROWS($B$16:F21)-1)*7+COLUMNS($B$16:F21)) -> 44686 | G21: =INDEX(m4_,1,(ROWS($B$16:G21)-1)*7+COLUMNS($B$16:G21)) -> 44687 | H21: =INDEX(m4_,1,(ROWS($B$16:H21)-1)*7+COLUMNS($B$16:H21)) -> 44688 | J21: =INDEX(m5_,1,(ROWS($J$16:J21)-1)*7+COLUMNS($J$16:J21)) -> 44710 | K21: =INDEX(m5_,1,(ROWS($J$16:K21)-1)*7+COLUMNS($J$16:K21)) -> 44711 | L21: =INDEX(m5_,1,(ROWS($J$16:L21)-1)*7+COLUMNS($J$16:L21)) -> 44712 | M21: =INDEX(m5_,1,(ROWS($J$16:M21)-1)*7+COLUMNS($J$16:M21)) -> 44713 | N21: =INDEX(m5_,1,(ROWS($J$16:N21)-1)*7+COLUMNS($J$16:N21)) -> 44714 | O21: =INDEX(m5_,1,(ROWS($J$16:O21)-1)*7+COLUMNS($J$16:O21)) -> 44715 | P21: =INDEX(m5_,1,(ROWS($J$16:P21)-1)*7+COLUMNS($J$16:P21)) -> 44716 | R21: =INDEX(m6_,1,(ROWS($R$16:R21)-1)*7+COLUMNS($R$16:R21)) -> 44745 | S21: =INDEX(m6_,1,(ROWS($R$16:S21)-1)*7+COLUMNS($R$16:S21)) -> 44746 | T21: =INDEX(m6_,1,(ROWS($R$16:T21)-1)*7+COLUMNS($R$16:T21)) -> 44747 | U21: =INDEX(m6_,1,(ROWS($R$16:U21)-1)*7+COLUMNS($R$16:U21)) -> 44748 | V21: =INDEX(m6_,1,(ROWS($R$16:V21)-1)*7+COLUMNS($R$16:V21)) -> 44749 | W21: =INDEX(m6_,1,(ROWS($R$16:W21)-1)*7+COLUMNS($R$16:W21)) -> 44750 | X21: =INDEX(m6_,1,(ROWS($R$16:X21)-1)*7+COLUMNS($R$16:X21)) -> 44751
B23: =Mini!B12 -> 44743 | J23: =Mini!B13 -> 44774 | R23: =Mini!B14 -> 44805
B24: Do | C24: Lu | D24: Ma | E24: Mi | F24: Ju | G24: Vi | H24: Sa | J24: Do | K24: Lu | L24: Ma | M24: Mi | N24: Ju | O24: Vi | P24: Sa | R24: Do | S24: Lu | T24: Ma | U24: Mi | V24: Ju | W24: Vi | X24: Sa
B25: =INDEX(m7_,1,(ROWS($B$25:B25)-1)*7+COLUMNS($B$25:B25)) -> 44738 | C25: =INDEX(m7_,1,(ROWS($B$25:C25)-1)*7+COLUMNS($B$25:C25)) -> 44739 | D25: =INDEX(m7_,1,(ROWS($B$25:D25)-1)*7+COLUMNS($B$25:D25)) -> 44740 | E25: =INDEX(m7_,1,(ROWS($B$25:E25)-1)*7+COLUMNS($B$25:E25)) -> 44741 | F25: =INDEX(m7_,1,(ROWS($B$25:F25)-1)*7+COLUMNS($B$25:F25)) -> 44742 | G25: =INDEX(m7_,1,(ROWS($B$25:G25)-1)*7+COLUMNS($B$25:G25)) -> 44743 | H25: =INDEX(m7_,1,(ROWS($B$25:H25)-1)*7+COLUMNS($B$25:H25)) -> 44744 | J25: =INDEX(m8_,1,(ROWS($J$25:J25)-1)*7+COLUMNS($J$25:J25)) -> 44773 | K25: =INDEX(m8_,1,(ROWS($J$25:K25)-1)*7+COLUMNS($J$25:K25)) -> 44774 | L25: =INDEX(m8_,1,(ROWS($J$25:L25)-1)*7+COLUMNS($J$25:L25)) -> 44775 | M25: =INDEX(m8_,1,(ROWS($J$25:M25)-1)*7+COLUMNS($J$25:M25)) -> 44776 | N25: =INDEX(m8_,1,(ROWS($J$25:N25)-1)*7+COLUMNS($J$25:N25)) -> 44777 | O25: =INDEX(m8_,1,(ROWS($J$25:O25)-1)*7+COLUMNS($J$25:O25)) -> 44778 | P25: =INDEX(m8_,1,(ROWS($J$25:P25)-1)*7+COLUMNS($J$25:P25)) -> 44779 | R25: =INDEX(m9_,1,(ROWS($R$25:R25)-1)*7+COLUMNS($R$25:R25)) -> 44801 | S25: =INDEX(m9_,1,(ROWS($R$25:S25)-1)*7+COLUMNS($R$25:S25)) -> 44802 | T25: =INDEX(m9_,1,(ROWS($R$25:T25)-1)*7+COLUMNS($R$25:T25)) -> 44803 | U25: =INDEX(m9_,1,(ROWS($R$25:U25)-1)*7+COLUMNS($R$25:U25)) -> 44804 | V25: =INDEX(m9_,1,(ROWS($R$25:V25)-1)*7+COLUMNS($R$25:V25)) -> 44805 | W25: =INDEX(m9_,1,(ROWS($R$25:W25)-1)*7+COLUMNS($R$25:W25)) -> 44806 | X25: =INDEX(m9_,1,(ROWS($R$25:X25)-1)*7+COLUMNS($R$25:X25)) -> 44807
B26: =INDEX(m7_,1,(ROWS($B$25:B26)-1)*7+COLUMNS($B$25:B26)) -> 44745 | C26: =INDEX(m7_,1,(ROWS($B$25:C26)-1)*7+COLUMNS($B$25:C26)) -> 44746 | D26: =INDEX(m7_,1,(ROWS($B$25:D26)-1)*7+COLUMNS($B$25:D26)) -> 44747 | E26: =INDEX(m7_,1,(ROWS($B$25:E26)-1)*7+COLUMNS($B$25:E26)) -> 44748 | F26: =INDEX(m7_,1,(ROWS($B$25:F26)-1)*7+COLUMNS($B$25:F26)) -> 44749 | G26: =INDEX(m7_,1,(ROWS($B$25:G26)-1)*7+COLUMNS($B$25:G26)) -> 44750 | H26: =INDEX(m7_,1,(ROWS($B$25:H26)-1)*7+COLUMNS($B$25:H26)) -> 44751 | J26: =INDEX(m8_,1,(ROWS($J$25:J26)-1)*7+COLUMNS($J$25:J26)) -> 44780 | K26: =INDEX(m8_,1,(ROWS($J$25:K26)-1)*7+COLUMNS($J$25:K26)) -> 44781 | L26: =INDEX(m8_,1,(ROWS($J$25:L26)-1)*7+COLUMNS($J$25:L26)) -> 44782 | M26: =INDEX(m8_,1,(ROWS($J$25:M26)-1)*7+COLUMNS($J$25:M26)) -> 44783 | N26: =INDEX(m8_,1,(ROWS($J$25:N26)-1)*7+COLUMNS($J$25:N26)) -> 44784 | O26: =INDEX(m8_,1,(ROWS($J$25:O26)-1)*7+COLUMNS($J$25:O26)) -> 44785 | P26: =INDEX(m8_,1,(ROWS($J$25:P26)-1)*7+COLUMNS($J$25:P26)) -> 44786 | R26: =INDEX(m9_,1,(ROWS($R$25:R26)-1)*7+COLUMNS($R$25:R26)) -> 44808 | S26: =INDEX(m9_,1,(ROWS($R$25:S26)-1)*7+COLUMNS($R$25:S26)) -> 44809 | T26: =INDEX(m9_,1,(ROWS($R$25:T26)-1)*7+COLUMNS($R$25:T26)) -> 44810 | U26: =INDEX(m9_,1,(ROWS($R$25:U26)-1)*7+COLUMNS($R$25:U26)) -> 44811 | V26: =INDEX(m9_,1,(ROWS($R$25:V26)-1)*7+COLUMNS($R$25:V26)) -> 44812 | W26: =INDEX(m9_,1,(ROWS($R$25:W26)-1)*7+COLUMNS($R$25:W26)) -> 44813 | X26: =INDEX(m9_,1,(ROWS($R$25:X26)-1)*7+COLUMNS($R$25:X26)) -> 44814
B27: =INDEX(m7_,1,(ROWS($B$25:B27)-1)*7+COLUMNS($B$25:B27)) -> 44752 | C27: =INDEX(m7_,1,(ROWS($B$25:C27)-1)*7+COLUMNS($B$25:C27)) -> 44753 | D27: =INDEX(m7_,1,(ROWS($B$25:D27)-1)*7+COLUMNS($B$25:D27)) -> 44754 | E27: =INDEX(m7_,1,(ROWS($B$25:E27)-1)*7+COLUMNS($B$25:E27)) -> 44755 | F27: =INDEX(m7_,1,(ROWS($B$25:F27)-1)*7+COLUMNS($B$25:F27)) -> 44756 | G27: =INDEX(m7_,1,(ROWS($B$25:G27)-1)*7+COLUMNS($B$25:G27)) -> 44757 | H27: =INDEX(m7_,1,(ROWS($B$25:H27)-1)*7+COLUMNS($B$25:H27)) -> 44758 | J27: =INDEX(m8_,1,(ROWS($J$25:J27)-1)*7+COLUMNS($J$25:J27)) -> 44787 | K27: =INDEX(m8_,1,(ROWS($J$25:K27)-1)*7+COLUMNS($J$25:K27)) -> 44788 | L27: =INDEX(m8_,1,(ROWS($J$25:L27)-1)*7+COLUMNS($J$25:L27)) -> 44789 | M27: =INDEX(m8_,1,(ROWS($J$25:M27)-1)*7+COLUMNS($J$25:M27)) -> 44790 | N27: =INDEX(m8_,1,(ROWS($J$25:N27)-1)*7+COLUMNS($J$25:N27)) -> 44791 | O27: =INDEX(m8_,1,(ROWS($J$25:O27)-1)*7+COLUMNS($J$25:O27)) -> 44792 | P27: =INDEX(m8_,1,(ROWS($J$25:P27)-1)*7+COLUMNS($J$25:P27)) -> 44793 | R27: =INDEX(m9_,1,(ROWS($R$25:R27)-1)*7+COLUMNS($R$25:R27)) -> 44815 | S27: =INDEX(m9_,1,(ROWS($R$25:S27)-1)*7+COLUMNS($R$25:S27)) -> 44816 | T27: =INDEX(m9_,1,(ROWS($R$25:T27)-1)*7+COLUMNS($R$25:T27)) -> 44817 | U27: =INDEX(m9_,1,(ROWS($R$25:U27)-1)*7+COLUMNS($R$25:U27)) -> 44818 | V27: =INDEX(m9_,1,(ROWS($R$25:V27)-1)*7+COLUMNS($R$25:V27)) -> 44819 | W27: =INDEX(m9_,1,(ROWS($R$25:W27)-1)*7+COLUMNS($R$25:W27)) -> 44820 | X27: =INDEX(m9_,1,(ROWS($R$25:X27)-1)*7+COLUMNS($R$25:X27)) -> 44821
B28: =INDEX(m7_,1,(ROWS($B$25:B28)-1)*7+COLUMNS($B$25:B28)) -> 44759 | C28: =INDEX(m7_,1,(ROWS($B$25:C28)-1)*7+COLUMNS($B$25:C28)) -> 44760 | D28: =INDEX(m7_,1,(ROWS($B$25:D28)-1)*7+COLUMNS($B$25:D28)) -> 44761 | E28: =INDEX(m7_,1,(ROWS($B$25:E28)-1)*7+COLUMNS($B$25:E28)) -> 44762 | F28: =INDEX(m7_,1,(ROWS($B$25:F28)-1)*7+COLUMNS($B$25:F28)) -> 44763 | G28: =INDEX(m7_,1,(ROWS($B$25:G28)-1)*7+COLUMNS($B$25:G28)) -> 44764 | H28: =INDEX(m7_,1,(ROWS($B$25:H28)-1)*7+COLUMNS($B$25:H28)) -> 44765 | J28: =INDEX(m8_,1,(ROWS($J$25:J28)-1)*7+COLUMNS($J$25:J28)) -> 44794 | K28: =INDEX(m8_,1,(ROWS($J$25:K28)-1)*7+COLUMNS($J$25:K28)) -> 44795 | L28: =INDEX(m8_,1,(ROWS($J$25:L28)-1)*7+COLUMNS($J$25:L28)) -> 44796 | M28: =INDEX(m8_,1,(ROWS($J$25:M28)-1)*7+COLUMNS($J$25:M28)) -> 44797 | N28: =INDEX(m8_,1,(ROWS($J$25:N28)-1)*7+COLUMNS($J$25:N28)) -> 44798 | O28: =INDEX(m8_,1,(ROWS($J$25:O28)-1)*7+COLUMNS($J$25:O28)) -> 44799 | P28: =INDEX(m8_,1,(ROWS($J$25:P28)-1)*7+COLUMNS($J$25:P28)) -> 44800 | R28: =INDEX(m9_,1,(ROWS($R$25:R28)-1)*7+COLUMNS($R$25:R28)) -> 44822 | S28: =INDEX(m9_,1,(ROWS($R$25:S28)-1)*7+COLUMNS($R$25:S28)) -> 44823 | T28: =INDEX(m9_,1,(ROWS($R$25:T28)-1)*7+COLUMNS($R$25:T28)) -> 44824 | U28: =INDEX(m9_,1,(ROWS($R$25:U28)-1)*7+COLUMNS($R$25:U28)) -> 44825 | V28: =INDEX(m9_,1,(ROWS($R$25:V28)-1)*7+COLUMNS($R$25:V28)) -> 44826 | W28: =INDEX(m9_,1,(ROWS($R$25:W28)-1)*7+COLUMNS($R$25:W28)) -> 44827 | X28: =INDEX(m9_,1,(ROWS($R$25:X28)-1)*7+COLUMNS($R$25:X28)) -> 44828
B29: =INDEX(m7_,1,(ROWS($B$25:B29)-1)*7+COLUMNS($B$25:B29)) -> 44766 | C29: =INDEX(m7_,1,(ROWS($B$25:C29)-1)*7+COLUMNS($B$25:C29)) -> 44767 | D29: =INDEX(m7_,1,(ROWS($B$25:D29)-1)*7+COLUMNS($B$25:D29)) -> 44768 | E29: =INDEX(m7_,1,(ROWS($B$25:E29)-1)*7+COLUMNS($B$25:E29)) -> 44769 | F29: =INDEX(m7_,1,(ROWS($B$25:F29)-1)*7+COLUMNS($B$25:F29)) -> 44770 | G29: =INDEX(m7_,1,(ROWS($B$25:G29)-1)*7+COLUMNS($B$25:G29)) -> 44771 | H29: =INDEX(m7_,1,(ROWS($B$25:H29)-1)*7+COLUMNS($B$25:H29)) -> 44772 | J29: =INDEX(m8_,1,(ROWS($J$25:J29)-1)*7+COLUMNS($J$25:J29)) -> 44801 | K29: =INDEX(m8_,1,(ROWS($J$25:K29)-1)*7+COLUMNS($J$25:K29)) -> 44802 | L29: =INDEX(m8_,1,(ROWS($J$25:L29)-1)*7+COLUMNS($J$25:L29)) -> 44803 | M29: =INDEX(m8_,1,(ROWS($J$25:M29)-1)*7+COLUMNS($J$25:M29)) -> 44804 | N29: =INDEX(m8_,1,(ROWS($J$25:N29)-1)*7+COLUMNS($J$25:N29)) -> 44805 | O29: =INDEX(m8_,1,(ROWS($J$25:O29)-1)*7+COLUMNS($J$25:O29)) -> 44806 | P29: =INDEX(m8_,1,(ROWS($J$25:P29)-1)*7+COLUMNS($J$25:P29)) -> 44807 | R29: =INDEX(m9_,1,(ROWS($R$25:R29)-1)*7+COLUMNS($R$25:R29)) -> 44829 | S29: =INDEX(m9_,1,(ROWS($R$25:S29)-1)*7+COLUMNS($R$25:S29)) -> 44830 | T29: =INDEX(m9_,1,(ROWS($R$25:T29)-1)*7+COLUMNS($R$25:T29)) -> 44831 | U29: =INDEX(m9_,1,(ROWS($R$25:U29)-1)*7+COLUMNS($R$25:U29)) -> 44832 | V29: =INDEX(m9_,1,(ROWS($R$25:V29)-1)*7+COLUMNS($R$25:V29)) -> 44833 | W29: =INDEX(m9_,1,(ROWS($R$25:W29)-1)*7+COLUMNS($R$25:W29)) -> 44834 | X29: =INDEX(m9_,1,(ROWS($R$25:X29)-1)*7+COLUMNS($R$25:X29)) -> 44835
B30: =INDEX(m7_,1,(ROWS($B$25:B30)-1)*7+COLUMNS($B$25:B30)) -> 44773 | C30: =INDEX(m7_,1,(ROWS($B$25:C30)-1)*7+COLUMNS($B$25:C30)) -> 44774 | D30: =INDEX(m7_,1,(ROWS($B$25:D30)-1)*7+COLUMNS($B$25:D30)) -> 44775 | E30: =INDEX(m7_,1,(ROWS($B$25:E30)-1)*7+COLUMNS($B$25:E30)) -> 44776 | F30: =INDEX(m7_,1,(ROWS($B$25:F30)-1)*7+COLUMNS($B$25:F30)) -> 44777 | G30: =INDEX(m7_,1,(ROWS($B$25:G30)-1)*7+COLUMNS($B$25:G30)) -> 44778 | H30: =INDEX(m7_,1,(ROWS($B$25:H30)-1)*7+COLUMNS($B$25:H30)) -> 44779 | J30: =INDEX(m8_,1,(ROWS($J$25:J30)-1)*7+COLUMNS($J$25:J30)) -> 44808 | K30: =INDEX(m8_,1,(ROWS($J$25:K30)-1)*7+COLUMNS($J$25:K30)) -> 44809 | L30: =INDEX(m8_,1,(ROWS($J$25:L30)-1)*7+COLUMNS($J$25:L30)) -> 44810 | M30: =INDEX(m8_,1,(ROWS($J$25:M30)-1)*7+COLUMNS($J$25:M30)) -> 44811 | N30: =INDEX(m8_,1,(ROWS($J$25:N30)-1)*7+COLUMNS($J$25:N30)) -> 44812 | O30: =INDEX(m8_,1,(ROWS($J$25:O30)-1)*7+COLUMNS($J$25:O30)) -> 44813 | P30: =INDEX(m8_,1,(ROWS($J$25:P30)-1)*7+COLUMNS($J$25:P30)) -> 44814 | R30: =INDEX(m9_,1,(ROWS($R$25:R30)-1)*7+COLUMNS($R$25:R30)) -> 44836 | S30: =INDEX(m9_,1,(ROWS($R$25:S30)-1)*7+COLUMNS($R$25:S30)) -> 44837 | T30: =INDEX(m9_,1,(ROWS($R$25:T30)-1)*7+COLUMNS($R$25:T30)) -> 44838 | U30: =INDEX(m9_,1,(ROWS($R$25:U30)-1)*7+COLUMNS($R$25:U30)) -> 44839 | V30: =INDEX(m9_,1,(ROWS($R$25:V30)-1)*7+COLUMNS($R$25:V30)) -> 44840 | W30: =INDEX(m9_,1,(ROWS($R$25:W30)-1)*7+COLUMNS($R$25:W30)) -> 44841 | X30: =INDEX(m9_,1,(ROWS($R$25:X30)-1)*7+COLUMNS($R$25:X30)) -> 44842
B32: =Mini!B15 -> 44835 | J32: =Mini!B16 -> 44866 | R32: =Mini!B17 -> 44896
B33: Do | C33: Lu | D33: Ma | E33: Mi | F33: Ju | G33: Vi | H33: Sa | J33: Do | K33: Lu | L33: Ma | M33: Mi | N33: Ju | O33: Vi | P33: Sa | R33: Do | S33: Lu | T33: Ma | U33: Mi | V33: Ju | W33: Vi | X33: Sa
B34: =INDEX(m10_,1,(ROWS($B$34:B34)-1)*7+COLUMNS($B$34:B34)) -> 44829 | C34: =INDEX(m10_,1,(ROWS($B$34:C34)-1)*7+COLUMNS($B$34:C34)) -> 44830 | D34: =INDEX(m10_,1,(ROWS($B$34:D34)-1)*7+COLUMNS($B$34:D34)) -> 44831 | E34: =INDEX(m10_,1,(ROWS($B$34:E34)-1)*7+COLUMNS($B$34:E34)) -> 44832 | F34: =INDEX(m10_,1,(ROWS($B$34:F34)-1)*7+COLUMNS($B$34:F34)) -> 44833 | G34: =INDEX(m10_,1,(ROWS($B$34:G34)-1)*7+COLUMNS($B$34:G34)) -> 44834 | H34: =INDEX(m10_,1,(ROWS($B$34:H34)-1)*7+COLUMNS($B$34:H34)) -> 44835 | J34: =INDEX(m11_,1,(ROWS($J$34:J34)-1)*7+COLUMNS($J$34:J34)) -> 44864 | K34: =INDEX(m11_,1,(ROWS($J$34:K34)-1)*7+COLUMNS($J$34:K34)) -> 44865 | L34: =INDEX(m11_,1,(ROWS($J$34:L34)-1)*7+COLUMNS($J$34:L34)) -> 44866 | M34: =INDEX(m11_,1,(ROWS($J$34:M34)-1)*7+COLUMNS($J$34:M34)) -> 44867 | N34: =INDEX(m11_,1,(ROWS($J$34:N34)-1)*7+COLUMNS($J$34:N34)) -> 44868 | O34: =INDEX(m11_,1,(ROWS($J$34:O34)-1)*7+COLUMNS($J$34:O34)) -> 44869 | P34: =INDEX(m11_,1,(ROWS($J$34:P34)-1)*7+COLUMNS($J$34:P34)) -> 44870 | R34: =INDEX(m12_,1,(ROWS($R$34:R34)-1)*7+COLUMNS($R$34:R34)) -> 44892 | S34: =INDEX(m12_,1,(ROWS($R$34:S34)-1)*7+COLUMNS($R$34:S34)) -> 44893 | T34: =INDEX(m12_,1,(ROWS($R$34:T34)-1)*7+COLUMNS($R$34:T34)) -> 44894 | U34: =INDEX(m12_,1,(ROWS($R$34:U34)-1)*7+COLUMNS($R$34:U34)) -> 44895 | V34: =INDEX(m12_,1,(ROWS($R$34:V34)-1)*7+COLUMNS($R$34:V34)) -> 44896 | W34: =INDEX(m12_,1,(ROWS($R$34:W34)-1)*7+COLUMNS($R$34:W34)) -> 44897 | X34: =INDEX(m12_,1,(ROWS($R$34:X34)-1)*7+COLUMNS($R$34:X34)) -> 44898
B35: =INDEX(m10_,1,(ROWS($B$34:B35)-1)*7+COLUMNS($B$34:B35)) -> 44836 | C35: =INDEX(m10_,1,(ROWS($B$34:C35)-1)*7+COLUMNS($B$34:C35)) -> 44837 | D35: =INDEX(m10_,1,(ROWS($B$34:D35)-1)*7+COLUMNS($B$34:D35)) -> 44838 | E35: =INDEX(m10_,1,(ROWS($B$34:E35)-1)*7+COLUMNS($B$34:E35)) -> 44839 | F35: =INDEX(m10_,1,(ROWS($B$34:F35)-1)*7+COLUMNS($B$34:F35)) -> 44840 | G35: =INDEX(m10_,1,(ROWS($B$34:G35)-1)*7+COLUMNS($B$34:G35)) -> 44841 | H35: =INDEX(m10_,1,(ROWS($B$34:H35)-1)*7+COLUMNS($B$34:H35)) -> 44842 | J35: =INDEX(m11_,1,(ROWS($J$34:J35)-1)*7+COLUMNS($J$34:J35)) -> 44871 | K35: =INDEX(m11_,1,(ROWS($J$34:K35)-1)*7+COLUMNS($J$34:K35)) -> 44872 | L35: =INDEX(m11_,1,(ROWS($J$34:L35)-1)*7+COLUMNS($J$34:L35)) -> 44873 | M35: =INDEX(m11_,1,(ROWS($J$34:M35)-1)*7+COLUMNS($J$34:M35)) -> 44874 | N35: =INDEX(m11_,1,(ROWS($J$34:N35)-1)*7+COLUMNS($J$34:N35)) -> 44875 | O35: =INDEX(m11_,1,(ROWS($J$34:O35)-1)*7+COLUMNS($J$34:O35)) -> 44876 | P35: =INDEX(m11_,1,(ROWS($J$34:P35)-1)*7+COLUMNS($J$34:P35)) -> 44877 | R35: =INDEX(m12_,1,(ROWS($R$34:R35)-1)*7+COLUMNS($R$34:R35)) -> 44899 | S35: =INDEX(m12_,1,(ROWS($R$34:S35)-1)*7+COLUMNS($R$34:S35)) -> 44900 | T35: =INDEX(m12_,1,(ROWS($R$34:T35)-1)*7+COLUMNS($R$34:T35)) -> 44901 | U35: =INDEX(m12_,1,(ROWS($R$34:U35)-1)*7+COLUMNS($R$34:U35)) -> 44902 | V35: =INDEX(m12_,1,(ROWS($R$34:V35)-1)*7+COLUMNS($R$34:V35)) -> 44903 | W35: =INDEX(m12_,1,(ROWS($R$34:W35)-1)*7+COLUMNS($R$34:W35)) -> 44904 | X35: =INDEX(m12_,1,(ROWS($R$34:X35)-1)*7+COLUMNS($R$34:X35)) -> 44905
B36: =INDEX(m10_,1,(ROWS($B$34:B36)-1)*7+COLUMNS($B$34:B36)) -> 44843 | C36: =INDEX(m10_,1,(ROWS($B$34:C36)-1)*7+COLUMNS($B$34:C36)) -> 44844 | D36: =INDEX(m10_,1,(ROWS($B$34:D36)-1)*7+COLUMNS($B$34:D36)) -> 44845 | E36: =INDEX(m10_,1,(ROWS($B$34:E36)-1)*7+COLUMNS($B$34:E36)) -> 44846 | F36: =INDEX(m10_,1,(ROWS($B$34:F36)-1)*7+COLUMNS($B$34:F36)) -> 44847 | G36: =INDEX(m10_,1,(ROWS($B$34:G36)-1)*7+COLUMNS($B$34:G36)) -> 44848 | H36: =INDEX(m10_,1,(ROWS($B$34:H36)-1)*7+COLUMNS($B$34:H36)) -> 44849 | J36: =INDEX(m11_,1,(ROWS($J$34:J36)-1)*7+COLUMNS($J$34:J36)) -> 44878 | K36: =INDEX(m11_,1,(ROWS($J$34:K36)-1)*7+COLUMNS($J$34:K36)) -> 44879 | L36: =INDEX(m11_,1,(ROWS($J$34:L36)-1)*7+COLUMNS($J$34:L36)) -> 44880 | M36: =INDEX(m11_,1,(ROWS($J$34:M36)-1)*7+COLUMNS($J$34:M36)) -> 44881 | N36: =INDEX(m11_,1,(ROWS($J$34:N36)-1)*7+COLUMNS($J$34:N36)) -> 44882 | O36: =INDEX(m11_,1,(ROWS($J$34:O36)-1)*7+COLUMNS($J$34:O36)) -> 44883 | P36: =INDEX(m11_,1,(ROWS($J$34:P36)-1)*7+COLUMNS($J$34:P36)) -> 44884 | R36: =INDEX(m12_,1,(ROWS($R$34:R36)-1)*7+COLUMNS($R$34:R36)) -> 44906 | S36: =INDEX(m12_,1,(ROWS($R$34:S36)-1)*7+COLUMNS($R$34:S36)) -> 44907 | T36: =INDEX(m12_,1,(ROWS($R$34:T36)-1)*7+COLUMNS($R$34:T36)) -> 44908 | U36: =INDEX(m12_,1,(ROWS($R$34:U36)-1)*7+COLUMNS($R$34:U36)) -> 44909 | V36: =INDEX(m12_,1,(ROWS($R$34:V36)-1)*7+COLUMNS($R$34:V36)) -> 44910 | W36: =INDEX(m12_,1,(ROWS($R$34:W36)-1)*7+COLUMNS($R$34:W36)) -> 44911 | X36: =INDEX(m12_,1,(ROWS($R$34:X36)-1)*7+COLUMNS($R$34:X36)) -> 44912
B37: =INDEX(m10_,1,(ROWS($B$34:B37)-1)*7+COLUMNS($B$34:B37)) -> 44850 | C37: =INDEX(m10_,1,(ROWS($B$34:C37)-1)*7+COLUMNS($B$34:C37)) -> 44851 | D37: =INDEX(m10_,1,(ROWS($B$34:D37)-1)*7+COLUMNS($B$34:D37)) -> 44852 | E37: =INDEX(m10_,1,(ROWS($B$34:E37)-1)*7+COLUMNS($B$34:E37)) -> 44853 | F37: =INDEX(m10_,1,(ROWS($B$34:F37)-1)*7+COLUMNS($B$34:F37)) -> 44854 | G37: =INDEX(m10_,1,(ROWS($B$34:G37)-1)*7+COLUMNS($B$34:G37)) -> 44855 | H37: =INDEX(m10_,1,(ROWS($B$34:H37)-1)*7+COLUMNS($B$34:H37)) -> 44856 | J37: =INDEX(m11_,1,(ROWS($J$34:J37)-1)*7+COLUMNS($J$34:J37)) -> 44885 | K37: =INDEX(m11_,1,(ROWS($J$34:K37)-1)*7+COLUMNS($J$34:K37)) -> 44886 | L37: =INDEX(m11_,1,(ROWS($J$34:L37)-1)*7+COLUMNS($J$34:L37)) -> 44887 | M37: =INDEX(m11_,1,(ROWS($J$34:M37)-1)*7+COLUMNS($J$34:M37)) -> 44888 | N37: =INDEX(m11_,1,(ROWS($J$34:N37)-1)*7+COLUMNS($J$34:N37)) -> 44889 | O37: =INDEX(m11_,1,(ROWS($J$34:O37)-1)*7+COLUMNS($J$34:O37)) -> 44890 | P37: =INDEX(m11_,1,(ROWS($J$34:P37)-1)*7+COLUMNS($J$34:P37)) -> 44891 | R37: =INDEX(m12_,1,(ROWS($R$34:R37)-1)*7+COLUMNS($R$34:R37)) -> 44913 | S37: =INDEX(m12_,1,(ROWS($R$34:S37)-1)*7+COLUMNS($R$34:S37)) -> 44914 | T37: =INDEX(m12_,1,(ROWS($R$34:T37)-1)*7+COLUMNS($R$34:T37)) -> 44915 | U37: =INDEX(m12_,1,(ROWS($R$34:U37)-1)*7+COLUMNS($R$34:U37)) -> 44916 | V37: =INDEX(m12_,1,(ROWS($R$34:V37)-1)*7+COLUMNS($R$34:V37)) -> 44917 | W37: =INDEX(m12_,1,(ROWS($R$34:W37)-1)*7+COLUMNS($R$34:W37)) -> 44918 | X37: =INDEX(m12_,1,(ROWS($R$34:X37)-1)*7+COLUMNS($R$34:X37)) -> 44919
B38: =INDEX(m10_,1,(ROWS($B$34:B38)-1)*7+COLUMNS($B$34:B38)) -> 44857 | C38: =INDEX(m10_,1,(ROWS($B$34:C38)-1)*7+COLUMNS($B$34:C38)) -> 44858 | D38: =INDEX(m10_,1,(ROWS($B$34:D38)-1)*7+COLUMNS($B$34:D38)) -> 44859 | E38: =INDEX(m10_,1,(ROWS($B$34:E38)-1)*7+COLUMNS($B$34:E38)) -> 44860 | F38: =INDEX(m10_,1,(ROWS($B$34:F38)-1)*7+COLUMNS($B$34:F38)) -> 44861 | G38: =INDEX(m10_,1,(ROWS($B$34:G38)-1)*7+COLUMNS($B$34:G38)) -> 44862 | H38: =INDEX(m10_,1,(ROWS($B$34:H38)-1)*7+COLUMNS($B$34:H38)) -> 44863 | J38: =INDEX(m11_,1,(ROWS($J$34:J38)-1)*7+COLUMNS($J$34:J38)) -> 44892 | K38: =INDEX(m11_,1,(ROWS($J$34:K38)-1)*7+COLUMNS($J$34:K38)) -> 44893 | L38: =INDEX(m11_,1,(ROWS($J$34:L38)-1)*7+COLUMNS($J$34:L38)) -> 44894 | M38: =INDEX(m11_,1,(ROWS($J$34:M38)-1)*7+COLUMNS($J$34:M38)) -> 44895 | N38: =INDEX(m11_,1,(ROWS($J$34:N38)-1)*7+COLUMNS($J$34:N38)) -> 44896 | O38: =INDEX(m11_,1,(ROWS($J$34:O38)-1)*7+COLUMNS($J$34:O38)) -> 44897 | P38: =INDEX(m11_,1,(ROWS($J$34:P38)-1)*7+COLUMNS($J$34:P38)) -> 44898 | R38: =INDEX(m12_,1,(ROWS($R$34:R38)-1)*7+COLUMNS($R$34:R38)) -> 44920 | S38: =INDEX(m12_,1,(ROWS($R$34:S38)-1)*7+COLUMNS($R$34:S38)) -> 44921 | T38: =INDEX(m12_,1,(ROWS($R$34:T38)-1)*7+COLUMNS($R$34:T38)) -> 44922 | U38: =INDEX(m12_,1,(ROWS($R$34:U38)-1)*7+COLUMNS($R$34:U38)) -> 44923 | V38: =INDEX(m12_,1,(ROWS($R$34:V38)-1)*7+COLUMNS($R$34:V38)) -> 44924 | W38: =INDEX(m12_,1,(ROWS($R$34:W38)-1)*7+COLUMNS($R$34:W38)) -> 44925 | X38: =INDEX(m12_,1,(ROWS($R$34:X38)-1)*7+COLUMNS($R$34:X38)) -> 44926
B39: =INDEX(m10_,1,(ROWS($B$34:B39)-1)*7+COLUMNS($B$34:B39)) -> 44864 | C39: =INDEX(m10_,1,(ROWS($B$34:C39)-1)*7+COLUMNS($B$34:C39)) -> 44865 | D39: =INDEX(m10_,1,(ROWS($B$34:D39)-1)*7+COLUMNS($B$34:D39)) -> 44866 | E39: =INDEX(m10_,1,(ROWS($B$34:E39)-1)*7+COLUMNS($B$34:E39)) -> 44867 | F39: =INDEX(m10_,1,(ROWS($B$34:F39)-1)*7+COLUMNS($B$34:F39)) -> 44868 | G39: =INDEX(m10_,1,(ROWS($B$34:G39)-1)*7+COLUMNS($B$34:G39)) -> 44869 | H39: =INDEX(m10_,1,(ROWS($B$34:H39)-1)*7+COLUMNS($B$34:H39)) -> 44870 | J39: =INDEX(m11_,1,(ROWS($J$34:J39)-1)*7+COLUMNS($J$34:J39)) -> 44899 | K39: =INDEX(m11_,1,(ROWS($J$34:K39)-1)*7+COLUMNS($J$34:K39)) -> 44900 | L39: =INDEX(m11_,1,(ROWS($J$34:L39)-1)*7+COLUMNS($J$34:L39)) -> 44901 | M39: =INDEX(m11_,1,(ROWS($J$34:M39)-1)*7+COLUMNS($J$34:M39)) -> 44902 | N39: =INDEX(m11_,1,(ROWS($J$34:N39)-1)*7+COLUMNS($J$34:N39)) -> 44903 | O39: =INDEX(m11_,1,(ROWS($J$34:O39)-1)*7+COLUMNS($J$34:O39)) -> 44904 | P39: =INDEX(m11_,1,(ROWS($J$34:P39)-1)*7+COLUMNS($J$34:P39)) -> 44905 | R39: =INDEX(m12_,1,(ROWS($R$34:R39)-1)*7+COLUMNS($R$34:R39)) -> 44927 | S39: =INDEX(m12_,1,(ROWS($R$34:S39)-1)*7+COLUMNS($R$34:S39)) -> 44928 | T39: =INDEX(m12_,1,(ROWS($R$34:T39)-1)*7+COLUMNS($R$34:T39)) -> 44929 | U39: =INDEX(m12_,1,(ROWS($R$34:U39)-1)*7+COLUMNS($R$34:U39)) -> 44930 | V39: =INDEX(m12_,1,(ROWS($R$34:V39)-1)*7+COLUMNS($R$34:V39)) -> 44931 | W39: =INDEX(m12_,1,(ROWS($R$34:W39)-1)*7+COLUMNS($R$34:W39)) -> 44932 | X39: =INDEX(m12_,1,(ROWS($R$34:X39)-1)*7+COLUMNS($R$34:X39)) -> 44933 | Z39: https://aplicaexcelcontable.com/blog

Sheet Mensual
B3: =Mini!B6 -> 44562
B4: Do | C4: Lu | D4: Ma | E4: Mi | F4: Ju | G4: Vi | H4: Sa
A5: =$B$3 -> 44562 | B5: =INDEX(m1_,1,(ROWS($B$5:B5)-1)*7+COLUMNS($B$5:B5)) -> 44556 | C5: =INDEX(m1_,1,(ROWS($B$5:C5)-1)*7+COLUMNS($B$5:C5)) -> 44557 | D5: =INDEX(m1_,1,(ROWS($B$5:D5)-1)*7+COLUMNS($B$5:D5)) -> 44558 | E5: =INDEX(m1_,1,(ROWS($B$5:E5)-1)*7+COLUMNS($B$5:E5)) -> 44559 | F5: =INDEX(m1_,1,(ROWS($B$5:F5)-1)*7+COLUMNS($B$5:F5)) -> 44560 | G5: =INDEX(m1_,1,(ROWS($B$5:G5)-1)*7+COLUMNS($B$5:G5)) -> 44561 | H5: =INDEX(m1_,1,(ROWS($B$5:H5)-1)*7+COLUMNS($B$5:H5)) -> 44562
A6: =$B$3 -> 44562 | B6: =INDEX(m1_,1,(ROWS($B$5:B6)-1)*7+COLUMNS($B$5:B6)) -> 44563 | C6: =INDEX(m1_,1,(ROWS($B$5:C6)-1)*7+COLUMNS($B$5:C6)) -> 44564 | D6: =INDEX(m1_,1,(ROWS($B$5:D6)-1)*7+COLUMNS($B$5:D6)) -> 44565 | E6: =INDEX(m1_,1,(ROWS($B$5:E6)-1)*7+COLUMNS($B$5:E6)) -> 44566 | F6: =INDEX(m1_,1,(ROWS($B$5:F6)-1)*7+COLUMNS($B$5:F6)) -> 44567 | G6: =INDEX(m1_,1,(ROWS($B$5:G6)-1)*7+COLUMNS($B$5:G6)) -> 44568 | H6: =INDEX(m1_,1,(ROWS($B$5:H6)-1)*7+COLUMNS($B$5:H6)) -> 44569
A7: =$B$3 -> 44562 | B7: =INDEX(m1_,1,(ROWS($B$5:B7)-1)*7+COLUMNS($B$5:B7)) -> 44570 | C7: =INDEX(m1_,1,(ROWS($B$5:C7)-1)*7+COLUMNS($B$5:C7)) -> 44571 | D7: =INDEX(m1_,1,(ROWS($B$5:D7)-1)*7+COLUMNS($B$5:D7)) -> 44572 | E7: =INDEX(m1_,1,(ROWS($B$5:E7)-1)*7+COLUMNS($B$5:E7)) -> 44573 | F7: =INDEX(m1_,1,(ROWS($B$5:F7)-1)*7+COLUMNS($B$5:F7)) -> 44574 | G7: =INDEX(m1_,1,(ROWS($B$5:G7)-1)*7+COLUMNS($B$5:G7)) -> 44575 | H7: =INDEX(m1_,1,(ROWS($B$5:H7)-1)*7+COLUMNS($B$5:H7)) -> 44576
A8: =$B$3 -> 44562 | B8: =INDEX(m1_,1,(ROWS($B$5:B8)-1)*7+COLUMNS($B$5:B8)) -> 44577 | C8: =INDEX(m1_,1,(ROWS($B$5:C8)-1)*7+COLUMNS($B$5:C8)) -> 44578 | D8: =INDEX(m1_,1,(ROWS($B$5:D8)-1)*7+COLUMNS($B$5:D8)) -> 44579 | E8: =INDEX(m1_,1,(ROWS($B$5:E8)-1)*7+COLUMNS($B$5:E8)) -> 44580 | F8: =INDEX(m1_,1,(ROWS($B$5:F8)-1)*7+COLUMNS($B$5:F8)) -> 44581 | G8: =INDEX(m1_,1,(ROWS($B$5:G8)-1)*7+COLUMNS($B$5:G8)) -> 44582 | H8: =INDEX(m1_,1,(ROWS($B$5:H8)-1)*7+COLUMNS($B$5:H8)) -> 44583
A9: =$B$3 -> 44562 | B9: =INDEX(m1_,1,(ROWS($B$5:B9)-1)*7+COLUMNS($B$5:B9)) -> 44584 | C9: =INDEX(m1_,1,(ROWS($B$5:C9)-1)*7+COLUMNS($B$5:C9)) -> 44585 | D9: =INDEX(m1_,1,(ROWS($B$5:D9)-1)*7+COLUMNS($B$5:D9)) -> 44586 | E9: =INDEX(m1_,1,(ROWS($B$5:E9)-1)*7+COLUMNS($B$5:E9)) -> 44587 | F9: =INDEX(m1_,1,(ROWS($B$5:F9)-1)*7+COLUMNS($B$5:F9)) -> 44588 | G9: =INDEX(m1_,1,(ROWS($B$5:G9)-1)*7+COLUMNS($B$5:G9)) -> 44589 | H9: =INDEX(m1_,1,(ROWS($B$5:H9)-1)*7+COLUMNS($B$5:H9)) -> 44590
A10: =$B$3 -> 44562 | B10: =INDEX(m1_,1,(ROWS($B$5:B10)-1)*7+COLUMNS($B$5:B10)) -> 44591 | C10: =INDEX(m1_,1,(ROWS($B$5:C10)-1)*7+COLUMNS($B$5:C10)) -> 44592 | D10: =INDEX(m1_,1,(ROWS($B$5:D10)-1)*7+COLUMNS($B$5:D10)) -> 44593 | E10: =INDEX(m1_,1,(ROWS($B$5:E10)-1)*7+COLUMNS($B$5:E10)) -> 44594 | F10: =INDEX(m1_,1,(ROWS($B$5:F10)-1)*7+COLUMNS($B$5:F10)) -> 44595 | G10: =INDEX(m1_,1,(ROWS($B$5:G10)-1)*7+COLUMNS($B$5:G10)) -> 44596 | H10: =INDEX(m1_,1,(ROWS($B$5:H10)-1)*7+COLUMNS($B$5:H10)) -> 44597 | J10: 6
B12: =Mini!B7 -> 44593 | J12: 4
B13: Do | C13: Lu | D13: Ma | E13: Mi | F13: Ju | G13: Vi | H13: Sa
A14: =$B$12 -> 44593 | B14: =INDEX(m2_,1,(ROWS($B$14:B14)-1)*7+COLUMNS($B$14:B14)) -> 44591 | C14: =INDEX(m2_,1,(ROWS($B$14:C14)-1)*7+COLUMNS($B$14:C14)) -> 44592 | D14: =INDEX(m2_,1,(ROWS($B$14:D14)-1)*7+COLUMNS($B$14:D14)) -> 44593 | E14: =INDEX(m2_,1,(ROWS($B$14:E14)-1)*7+COLUMNS($B$14:E14)) -> 44594 | F14: =INDEX(m2_,1,(ROWS($B$14:F14)-1)*7+COLUMNS($B$14:F14)) -> 44595 | G14: =INDEX(m2_,1,(ROWS($B$14:G14)-1)*7+COLUMNS($B$14:G14)) -> 44596 | H14: =INDEX(m2_,1,(ROWS($B$14:H14)-1)*7+COLUMNS($B$14:H14)) -> 44597 | J14: 5
A15: =$B$12 -> 44593 | B15: =INDEX(m2_,1,(ROWS($B$14:B15)-1)*7+COLUMNS($B$14:B15)) -> 44598 | C15: =INDEX(m2_,1,(ROWS($B$14:C15)-1)*7+COLUMNS($B$14:C15)) -> 44599 | D15: =INDEX(m2_,1,(ROWS($B$14:D15)-1)*7+COLUMNS($B$14:D15)) -> 44600 | E15: =INDEX(m2_,1,(ROWS($B$14:E15)-1)*7+COLUMNS($B$14:E15)) -> 44601 | F15: =INDEX(m2_,1,(ROWS($B$14:F15)-1)*7+COLUMNS($B$14:F15)) -> 44602 | G15: =INDEX(m2_,1,(ROWS($B$14:G15)-1)*7+COLUMNS($B$14:G15)) -> 44603 | H15: =INDEX(m2_,1,(ROWS($B$14:H15)-1)*7+COLUMNS($B$14:H15)) -> 44604
A16: =$B$12 -> 44593 | B16: =INDEX(m2_,1,(ROWS($B$14:B16)-1)*7+COLUMNS($B$14:B16)) -> 44605 | C16: =INDEX(m2_,1,(ROWS($B$14:C16)-1)*7+COLUMNS($B$14:C16)) -> 44606 | D16: =INDEX(m2_,1,(ROWS($B$14:D16)-1)*7+COLUMNS($B$14:D16)) -> 44607 | E16: =INDEX(m2_,1,(ROWS($B$14:E16)-1)*7+COLUMNS($B$14:E16)) -> 44608 | F16: =INDEX(m2_,1,(ROWS($B$14:F16)-1)*7+COLUMNS($B$14:F16)) -> 44609 | G16: =INDEX(m2_,1,(ROWS($B$14:G16)-1)*7+COLUMNS($B$14:G16)) -> 44610 | H16: =INDEX(m2_,1,(ROWS($B$14:H16)-1)*7+COLUMNS($B$14:H16)) -> 44611
A17: =$B$12 -> 44593 | B17: =INDEX(m2_,1,(ROWS($B$14:B17)-1)*7+COLUMNS($B$14:B17)) -> 44612 | C17: =INDEX(m2_,1,(ROWS($B$14:C17)-1)*7+COLUMNS($B$14:C17)) -> 44613 | D17: =INDEX(m2_,1,(ROWS($B$14:D17)-1)*7+COLUMNS($B$14:D17)) -> 44614 | E17: =INDEX(m2_,1,(ROWS($B$14:E17)-1)*7+COLUMNS($B$14:E17)) -> 44615 | F17: =INDEX(m2_,1,(ROWS($B$14:F17)-1)*7+COLUMNS($B$14:F17)) -> 44616 | G17: =INDEX(m2_,1,(ROWS($B$14:G17)-1)*7+COLUMNS($B$14:G17)) -> 44617 | H17: =INDEX(m2_,1,(ROWS($B$14:H17)-1)*7+COLUMNS($B$14:H17)) -> 44618
A18: =$B$12 -> 44593 | B18: =INDEX(m2_,1,(ROWS($B$14:B18)-1)*7+COLUMNS($B$14:B18)) -> 44619 | C18: =INDEX(m2_,1,(ROWS($B$14:C18)-1)*7+COLUMNS($B$14:C18)) -> 44620 | D18: =INDEX(m2_,1,(ROWS($B$14:D18)-1)*7+COLUMNS($B$14:D18)) -> 44621 | E18: =INDEX(m2_,1,(ROWS($B$14:E18)-1)*7+COLUMNS($B$14:E18)) -> 44622 | F18: =INDEX(m2_,1,(ROWS($B$14:F18)-1)*7+COLUMNS($B$14:F18)) -> 44623 | G18: =INDEX(m2_,1,(ROWS($B$14:G18)-1)*7+COLUMNS($B$14:G18)) -> 44624 | H18: =INDEX(m2_,1,(ROWS($B$14:H18)-1)*7+COLUMNS($B$14:H18)) -> 44625
A19: =$B$12 -> 44593 | B19: =INDEX(m2_,1,(ROWS($B$14:B19)-1)*7+COLUMNS($B$14:B19)) -> 44626 | C19: =INDEX(m2_,1,(ROWS($B$14:C19)-1)*7+COLUMNS($B$14:C19)) -> 44627 | D19: =INDEX(m2_,1,(ROWS($B$14:D19)-1)*7+COLUMNS($B$14:D19)) -> 44628 | E19: =INDEX(m2_,1,(ROWS($B$14:E19)-1)*7+COLUMNS($B$14:E19)) -> 44629 | F19: =INDEX(m2_,1,(ROWS($B$14:F19)-1)*7+COLUMNS($B$14:F19)) -> 44630 | G19: =INDEX(m2_,1,(ROWS($B$14:G19)-1)*7+COLUMNS($B$14:G19)) -> 44631 | H19: =INDEX(m2_,1,(ROWS($B$14:H19)-1)*7+COLUMNS($B$14:H19)) -> 44632 | J19: 6
B21: =Mini!B8 -> 44621
B22: Do | C22: Lu | D22: Ma | E22: Mi | F22: Ju | G22: Vi | H22: Sa
A23: =$B$21 -> 44621 | B23: =INDEX(m3_,1,(ROWS($B$23:B23)-1)*7+COLUMNS($B$23:B23)) -> 44619 | C23: =INDEX(m3_,1,(ROWS($B$23:C23)-1)*7+COLUMNS($B$23:C23)) -> 44620 | D23: =INDEX(m3_,1,(ROWS($B$23:D23)-1)*7+COLUMNS($B$23:D23)) -> 44621 | E23: =INDEX(m3_,1,(ROWS($B$23:E23)-1)*7+COLUMNS($B$23:E23)) -> 44622 | F23: =INDEX(m3_,1,(ROWS($B$23:F23)-1)*7+COLUMNS($B$23:F23)) -> 44623 | G23: =INDEX(m3_,1,(ROWS($B$23:G23)-1)*7+COLUMNS($B$23:G23)) -> 44624 | H23: =INDEX(m3_,1,(ROWS($B$23:H23)-1)*7+COLUMNS($B$23:H23)) -> 44625 | J23: 5
A24: =$B$21 -> 44621 | B24: =INDEX(m3_,1,(ROWS($B$23:B24)-1)*7+COLUMNS($B$23:B24)) -> 44626 | C24: =INDEX(m3_,1,(ROWS($B$23:C24)-1)*7+COLUMNS($B$23:C24)) -> 44627 | D24: =INDEX(m3_,1,(ROWS($B$23:D24)-1)*7+COLUMNS($B$23:D24)) -> 44628 | E24: =INDEX(m3_,1,(ROWS($B$23:E24)-1)*7+COLUMNS($B$23:E24)) -> 44629 | F24: =INDEX(m3_,1,(ROWS($B$23:F24)-1)*7+COLUMNS($B$23:F24)) -> 44630 | G24: =INDEX(m3_,1,(ROWS($B$23:G24)-1)*7+COLUMNS($B$23:G24)) -> 44631 | H24: =INDEX(m3_,1,(ROWS($B$23:H24)-1)*7+COLUMNS($B$23:H24)) -> 44632
A25: =$B$21 -> 44621 | B25: =INDEX(m3_,1,(ROWS($B$23:B25)-1)*7+COLUMNS($B$23:B25)) -> 44633 | C25: =INDEX(m3_,1,(ROWS($B$23:C25)-1)*7+COLUMNS($B$23:C25)) -> 44634 | D25: =INDEX(m3_,1,(ROWS($B$23:D25)-1)*7+COLUMNS($B$23:D25)) -> 44635 | E25: =INDEX(m3_,1,(ROWS($B$23:E25)-1)*7+COLUMNS($B$23:E25)) -> 44636 | F25: =INDEX(m3_,1,(ROWS($B$23:F25)-1)*7+COLUMNS($B$23:F25)) -> 44637 | G25: =INDEX(m3_,1,(ROWS($B$23:G25)-1)*7+COLUMNS($B$23:G25)) -> 44638 | H25: =INDEX(m3_,1,(ROWS($B$23:H25)-1)*7+COLUMNS($B$23:H25)) -> 44639
A26: =$B$21 -> 44621 | B26: =INDEX(m3_,1,(ROWS($B$23:B26)-1)*7+COLUMNS($B$23:B26)) -> 44640 | C26: =INDEX(m3_,1,(ROWS($B$23:C26)-1)*7+COLUMNS($B$23:C26)) -> 44641 | D26: =INDEX(m3_,1,(ROWS($B$23:D26)-1)*7+COLUMNS($B$23:D26)) -> 44642 | E26: =INDEX(m3_,1,(ROWS($B$23:E26)-1)*7+COLUMNS($B$23:E26)) -> 44643 | F26: =INDEX(m3_,1,(ROWS($B$23:F26)-1)*7+COLUMNS($B$23:F26)) -> 44644 | G26: =INDEX(m3_,1,(ROWS($B$23:G26)-1)*7+COLUMNS($B$23:G26)) -> 44645 | H26: =INDEX(m3_,1,(ROWS($B$23:H26)-1)*7+COLUMNS($B$23:H26)) -> 44646
A27: =$B$21 -> 44621 | B27: =INDEX(m3_,1,(ROWS($B$23:B27)-1)*7+COLUMNS($B$23:B27)) -> 44647 | C27: =INDEX(m3_,1,(ROWS($B$23:C27)-1)*7+COLUMNS($B$23:C27)) -> 44648 | D27: =INDEX(m3_,1,(ROWS($B$23:D27)-1)*7+COLUMNS($B$23:D27)) -> 44649 | E27: =INDEX(m3_,1,(ROWS($B$23:E27)-1)*7+COLUMNS($B$23:E27)) -> 44650 | F27: =INDEX(m3_,1,(ROWS($B$23:F27)-1)*7+COLUMNS($B$23:F27)) -> 44651 | G27: =INDEX(m3_,1,(ROWS($B$23:G27)-1)*7+COLUMNS($B$23:G27)) -> 44652 | H27: =INDEX(m3_,1,(ROWS($B$23:H27)-1)*7+COLUMNS($B$23:H27)) -> 44653
A28: =$B$21 -> 44621 | B28: =INDEX(m3_,1,(ROWS($B$23:B28)-1)*7+COLUMNS($B$23:B28)) -> 44654 | C28: =INDEX(m3_,1,(ROWS($B$23:C28)-1)*7+COLUMNS($B$23:C28)) -> 44655 | D28: =INDEX(m3_,1,(ROWS($B$23:D28)-1)*7+COLUMNS($B$23:D28)) -> 44656 | E28: =INDEX(m3_,1,(ROWS($B$23:E28)-1)*7+COLUMNS($B$23:E28)) -> 44657 | F28: =INDEX(m3_,1,(ROWS($B$23:F28)-1)*7+COLUMNS($B$23:F28)) -> 44658 | G28: =INDEX(m3_,1,(ROWS($B$23:G28)-1)*7+COLUMNS($B$23:G28)) -> 44659 | H28: =INDEX(m3_,1,(ROWS($B$23:H28)-1)*7+COLUMNS($B$23:H28)) -> 44660 | J28: 6
B30: =Mini!B9 -> 44652
B31: Do | C31: Lu | D31: Ma | E31: Mi | F31: Ju | G31: Vi | H31: Sa
A32: =$B$30 -> 44652 | B32: =INDEX(m4_,1,(ROWS($B$32:B32)-1)*7+COLUMNS($B$32:B32)) -> 44647 | C32: =INDEX(m4_,1,(ROWS($B$32:C32)-1)*7+COLUMNS($B$32:C32)) -> 44648 | D32: =INDEX(m4_,1,(ROWS($B$32:D32)-1)*7+COLUMNS($B$32:D32)) -> 44649 | E32: =INDEX(m4_,1,(ROWS($B$32:E32)-1)*7+COLUMNS($B$32:E32)) -> 44650 | F32: =INDEX(m4_,1,(ROWS($B$32:F32)-1)*7+COLUMNS($B$32:F32)) -> 44651 | G32: =INDEX(m4_,1,(ROWS($B$32:G32)-1)*7+COLUMNS($B$32:G32)) -> 44652 | H32: =INDEX(m4_,1,(ROWS($B$32:H32)-1)*7+COLUMNS($B$32:H32)) -> 44653 | J32: 5
A33: =$B$30 -> 44652 | B33: =INDEX(m4_,1,(ROWS($B$32:B33)-1)*7+COLUMNS($B$32:B33)) -> 44654 | C33: =INDEX(m4_,1,(ROWS($B$32:C33)-1)*7+COLUMNS($B$32:C33)) -> 44655 | D33: =INDEX(m4_,1,(ROWS($B$32:D33)-1)*7+COLUMNS($B$32:D33)) -> 44656 | E33: =INDEX(m4_,1,(ROWS($B$32:E33)-1)*7+COLUMNS($B$32:E33)) -> 44657 | F33: =INDEX(m4_,1,(ROWS($B$32:F33)-1)*7+COLUMNS($B$32:F33)) -> 44658 | G33: =INDEX(m4_,1,(ROWS($B$32:G33)-1)*7+COLUMNS($B$32:G33)) -> 44659 | H33: =INDEX(m4_,1,(ROWS($B$32:H33)-1)*7+COLUMNS($B$32:H33)) -> 44660
A34: =$B$30 -> 44652 | B34: =INDEX(m4_,1,(ROWS($B$32:B34)-1)*7+COLUMNS($B$32:B34)) -> 44661 | C34: =INDEX(m4_,1,(ROWS($B$32:C34)-1)*7+COLUMNS($B$32:C34)) -> 44662 | D34: =INDEX(m4_,1,(ROWS($B$32:D34)-1)*7+COLUMNS($B$32:D34)) -> 44663 | E34: =INDEX(m4_,1,(ROWS($B$32:E34)-1)*7+COLUMNS($B$32:E34)) -> 44664 | F34: =INDEX(m4_,1,(ROWS($B$32:F34)-1)*7+COLUMNS($B$32:F34)) -> 44665 | G34: =INDEX(m4_,1,(ROWS($B$32:G34)-1)*7+COLUMNS($B$32:G34)) -> 44666 | H34: =INDEX(m4_,1,(ROWS($B$32:H34)-1)*7+COLUMNS($B$32:H34)) -> 44667
A35: =$B$30 -> 44652 | B35: =INDEX(m4_,1,(ROWS($B$32:B35)-1)*7+COLUMNS($B$32:B35)) -> 44668 | C35: =INDEX(m4_,1,(ROWS($B$32:C35)-1)*7+COLUMNS($B$32:C35)) -> 44669 | D35: =INDEX(m4_,1,(ROWS($B$32:D35)-1)*7+COLUMNS($B$32:D35)) -> 44670 | E35: =INDEX(m4_,1,(ROWS($B$32:E35)-1)*7+COLUMNS($B$32:E35)) -> 44671 | F35: =INDEX(m4_,1,(ROWS($B$32:F35)-1)*7+COLUMNS($B$32:F35)) -> 44672 | G35: =INDEX(m4_,1,(ROWS($B$32:G35)-1)*7+COLUMNS($B$32:G35)) -> 44673 | H35: =INDEX(m4_,1,(ROWS($B$32:H35)-1)*7+COLUMNS($B$32:H35)) -> 44674
A36: =$B$30 -> 44652 | B36: =INDEX(m4_,1,(ROWS($B$32:B36)-1)*7+COLUMNS($B$32:B36)) -> 44675 | C36: =INDEX(m4_,1,(ROWS($B$32:C36)-1)*7+COLUMNS($B$32:C36)) -> 44676 | D36: =INDEX(m4_,1,(ROWS($B$32:D36)-1)*7+COLUMNS($B$32:D36)) -> 44677 | E36: =INDEX(m4_,1,(ROWS($B$32:E36)-1)*7+COLUMNS($B$32:E36)) -> 44678 | F36: =INDEX(m4_,1,(ROWS($B$32:F36)-1)*7+COLUMNS($B$32:F36)) -> 44679 | G36: =INDEX(m4_,1,(ROWS($B$32:G36)-1)*7+COLUMNS($B$32:G36)) -> 44680 | H36: =INDEX(m4_,1,(ROWS($B$32:H36)-1)*7+COLUMNS($B$32:H36)) -> 44681
A37: =$B$30 -> 44652 | B37: =INDEX(m4_,1,(ROWS($B$32:B37)-1)*7+COLUMNS($B$32:B37)) -> 44682 | C37: =INDEX(m4_,1,(ROWS($B$32:C37)-1)*7+COLUMNS($B$32:C37)) -> 44683 | D37: =INDEX(m4_,1,(ROWS($B$32:D37)-1)*7+COLUMNS($B$32:D37)) -> 44684 | E37: =INDEX(m4_,1,(ROWS($B$32:E37)-1)*7+COLUMNS($B$32:E37)) -> 44685 | F37: =INDEX(m4_,1,(ROWS($B$32:F37)-1)*7+COLUMNS($B$32:F37)) -> 44686 | G37: =INDEX(m4_,1,(ROWS($B$32:G37)-1)*7+COLUMNS($B$32:G37)) -> 44687 | H37: =INDEX(m4_,1,(ROWS($B$32:H37)-1)*7+COLUMNS($B$32:H37)) -> 44688 | J37: 6
B39: =Mini!B10 -> 44682
B40: Do | C40: Lu | D40: Ma | E40: Mi | F40: Ju | G40: Vi | H40: Sa
A41: =$B$39 -> 44682 | B41: =INDEX(m5_,1,(ROWS($B$41:B41)-1)*7+COLUMNS($B$41:B41)) -> 44675 | C41: =INDEX(m5_,1,(ROWS($B$41:C41)-1)*7+COLUMNS($B$41:C41)) -> 44676 | D41: =INDEX(m5_,1,(ROWS($B$41:D41)-1)*7+COLUMNS($B$41:D41)) -> 44677 | E41: =INDEX(m5_,1,(ROWS($B$41:E41)-1)*7+COLUMNS($B$41:E41)) -> 44678 | F41: =INDEX(m5_,1,(ROWS($B$41:F41)-1)*7+COLUMNS($B$41:F41)) -> 44679 | G41: =INDEX(m5_,1,(ROWS($B$41:G41)-1)*7+COLUMNS($B$41:G41)) -> 44680 | H41: =INDEX(m5_,1,(ROWS($B$41:H41)-1)*7+COLUMNS($B$41:H41)) -> 44681 | J41: 5
A42: =$B$39 -> 44682 | B42: =INDEX(m5_,1,(ROWS($B$41:B42)-1)*7+COLUMNS($B$41:B42)) -> 44682 | C42: =INDEX(m5_,1,(ROWS($B$41:C42)-1)*7+COLUMNS($B$41:C42)) -> 44683 | D42: =INDEX(m5_,1,(ROWS($B$41:D42)-1)*7+COLUMNS($B$41:D42)) -> 44684 | E42: =INDEX(m5_,1,(ROWS($B$41:E42)-1)*7+COLUMNS($B$41:E42)) -> 44685 | F42: =INDEX(m5_,1,(ROWS($B$41:F42)-1)*7+COLUMNS($B$41:F42)) -> 44686 | G42: =INDEX(m5_,1,(ROWS($B$41:G42)-1)*7+COLUMNS($B$41:G42)) -> 44687 | H42: =INDEX(m5_,1,(ROWS($B$41:H42)-1)*7+COLUMNS($B$41:H42)) -> 44688
A43: =$B$39 -> 44682 | B43: =INDEX(m5_,1,(ROWS($B$41:B43)-1)*7+COLUMNS($B$41:B43)) -> 44689 | C43: =INDEX(m5_,1,(ROWS($B$41:C43)-1)*7+COLUMNS($B$41:C43)) -> 44690 | D43: =INDEX(m5_,1,(ROWS($B$41:D43)-1)*7+COLUMNS($B$41:D43)) -> 44691 | E43: =INDEX(m5_,1,(ROWS($B$41:E43)-1)*7+COLUMNS($B$41:E43)) -> 44692 | F43: =INDEX(m5_,1,(ROWS($B$41:F43)-1)*7+COLUMNS($B$41:F43)) -> 44693 | G43: =INDEX(m5_,1,(ROWS($B$41:G43)-1)*7+COLUMNS($B$41:G43)) -> 44694 | H43: =INDEX(m5_,1,(ROWS($B$41:H43)-1)*7+COLUMNS($B$41:H43)) -> 44695
A44: =$B$39 -> 44682 | B44: =INDEX(m5_,1,(ROWS($B$41:B44)-1)*7+COLUMNS($B$41:B44)) -> 44696 | C44: =INDEX(m5_,1,(ROWS($B$41:C44)-1)*7+COLUMNS($B$41:C44)) -> 44697 | D44: =INDEX(m5_,1,(ROWS($B$41:D44)-1)*7+COLUMNS($B$41:D44)) -> 44698 | E44: =INDEX(m5_,1,(ROWS($B$41:E44)-1)*7+COLUMNS($B$41:E44)) -> 44699 | F44: =INDEX(m5_,1,(ROWS($B$41:F44)-1)*7+COLUMNS($B$41:F44)) -> 44700 | G44: =INDEX(m5_,1,(ROWS($B$41:G44)-1)*7+COLUMNS($B$41:G44)) -> 44701 | H44: =INDEX(m5_,1,(ROWS($B$41:H44)-1)*7+COLUMNS($B$41:H44)) -> 44702
A45: =$B$39 -> 44682 | B45: =INDEX(m5_,1,(ROWS($B$41:B45)-1)*7+COLUMNS($B$41:B45)) -> 44703 | C45: =INDEX(m5_,1,(ROWS($B$41:C45)-1)*7+COLUMNS($B$41:C45)) -> 44704 | D45: =INDEX(m5_,1,(ROWS($B$41:D45)-1)*7+COLUMNS($B$41:D45)) -> 44705 | E45: =INDEX(m5_,1,(ROWS($B$41:E45)-1)*7+COLUMNS($B$41:E45)) -> 44706 | F45: =INDEX(m5_,1,(ROWS($B$41:F45)-1)*7+COLUMNS($B$41:F45)) -> 44707 | G45: =INDEX(m5_,1,(ROWS($B$41:G45)-1)*7+COLUMNS($B$41:G45)) -> 44708 | H45: =INDEX(m5_,1,(ROWS($B$41:H45)-1)*7+COLUMNS($B$41:H45)) -> 44709
A46: =$B$39 -> 44682 | B46: =INDEX(m5_,1,(ROWS($B$41:B46)-1)*7+COLUMNS($B$41:B46)) -> 44710 | C46: =INDEX(m5_,1,(ROWS($B$41:C46)-1)*7+COLUMNS($B$41:C46)) -> 44711 | D46: =INDEX(m5_,1,(ROWS($B$41:D46)-1)*7+COLUMNS($B$41:D46)) -> 44712 | E46: =INDEX(m5_,1,(ROWS($B$41:E46)-1)*7+COLUMNS($B$41:E46)) -> 44713 | F46: =INDEX(m5_,1,(ROWS($B$41:F46)-1)*7+COLUMNS($B$41:F46)) -> 44714 | G46: =INDEX(m5_,1,(ROWS($B$41:G46)-1)*7+COLUMNS($B$41:G46)) -> 44715 | H46: =INDEX(m5_,1,(ROWS($B$41:H46)-1)*7+COLUMNS($B$41:H46)) -> 44716 | J46: 6
B48: =Mini!B11 -> 44713
B49: Do | C49: Lu | D49: Ma | E49: Mi | F49: Ju | G49: Vi | H49: Sa
A50: =$B$48 -> 44713 | B50: =INDEX(m6_,1,(ROWS($B$50:B50)-1)*7+COLUMNS($B$50:B50)) -> 44710 | C50: =INDEX(m6_,1,(ROWS($B$50:C50)-1)*7+COLUMNS($B$50:C50)) -> 44711 | D50: =INDEX(m6_,1,(ROWS($B$50:D50)-1)*7+COLUMNS($B$50:D50)) -> 44712 | E50: =INDEX(m6_,1,(ROWS($B$50:E50)-1)*7+COLUMNS($B$50:E50)) -> 44713 | F50: =INDEX(m6_,1,(ROWS($B$50:F50)-1)*7+COLUMNS($B$50:F50)) -> 44714 | G50: =INDEX(m6_,1,(ROWS($B$50:G50)-1)*7+COLUMNS($B$50:G50)) -> 44715 | H50: =INDEX(m6_,1,(ROWS($B$50:H50)-1)*7+COLUMNS($B$50:H50)) -> 44716 | J50: 5
A51: =$B$48 -> 44713 | B51: =INDEX(m6_,1,(ROWS($B$50:B51)-1)*7+COLUMNS($B$50:B51)) -> 44717 | C51: =INDEX(m6_,1,(ROWS($B$50:C51)-1)*7+COLUMNS($B$50:C51)) -> 44718 | D51: =INDEX(m6_,1,(ROWS($B$50:D51)-1)*7+COLUMNS($B$50:D51)) -> 44719 | E51: =INDEX(m6_,1,(ROWS($B$50:E51)-1)*7+COLUMNS($B$50:E51)) -> 44720 | F51: =INDEX(m6_,1,(ROWS($B$50:F51)-1)*7+COLUMNS($B$50:F51)) -> 44721 | G51: =INDEX(m6_,1,(ROWS($B$50:G51)-1)*7+COLUMNS($B$50:G51)) -> 44722 | H51: =INDEX(m6_,1,(ROWS($B$50:H51)-1)*7+COLUMNS($B$50:H51)) -> 44723
A52: =$B$48 -> 44713 | B52: =INDEX(m6_,1,(ROWS($B$50:B52)-1)*7+COLUMNS($B$50:B52)) -> 44724 | C52: =INDEX(m6_,1,(ROWS($B$50:C52)-1)*7+COLUMNS($B$50:C52)) -> 44725 | D52: =INDEX(m6_,1,(ROWS($B$50:D52)-1)*7+COLUMNS($B$50:D52)) -> 44726 | E52: =INDEX(m6_,1,(ROWS($B$50:E52)-1)*7+COLUMNS($B$50:E52)) -> 44727 | F52: =INDEX(m6_,1,(ROWS($B$50:F52)-1)*7+COLUMNS($B$50:F52)) -> 44728 | G52: =INDEX(m6_,1,(ROWS($B$50:G52)-1)*7+COLUMNS($B$50:G52)) -> 44729 | H52: =INDEX(m6_,1,(ROWS($B$50:H52)-1)*7+COLUMNS($B$50:H52)) -> 44730
A53: =$B$48 -> 44713 | B53: =INDEX(m6_,1,(ROWS($B$50:B53)-1)*7+COLUMNS($B$50:B53)) -> 44731 | C53: =INDEX(m6_,1,(ROWS($B$50:C53)-1)*7+COLUMNS($B$50:C53)) -> 44732 | D53: =INDEX(m6_,1,(ROWS($B$50:D53)-1)*7+COLUMNS($B$50:D53)) -> 44733 | E53: =INDEX(m6_,1,(ROWS($B$50:E53)-1)*7+COLUMNS($B$50:E53)) -> 44734 | F53: =INDEX(m6_,1,(ROWS($B$50:F53)-1)*7+COLUMNS($B$50:F53)) -> 44735 | G53: =INDEX(m6_,1,(ROWS($B$50:G53)-1)*7+COLUMNS($B$50:G53)) -> 44736 | H53: =INDEX(m6_,1,(ROWS($B$50:H53)-1)*7+COLUMNS($B$50:H53)) -> 44737
A54: =$B$48 -> 44713 | B54: =INDEX(m6_,1,(ROWS($B$50:B54)-1)*7+COLUMNS($B$50:B54)) -> 44738 | C54: =INDEX(m6_,1,(ROWS($B$50:C54)-1)*7+COLUMNS($B$50:C54)) -> 44739 | D54: =INDEX(m6_,1,(ROWS($B$50:D54)-1)*7+COLUMNS($B$50:D54)) -> 44740 | E54: =INDEX(m6_,1,(ROWS($B$50:E54)-1)*7+COLUMNS($B$50:E54)) -> 44741 | F54: =INDEX(m6_,1,(ROWS($B$50:F54)-1)*7+COLUMNS($B$50:F54)) -> 44742 | G54: =INDEX(m6_,1,(ROWS($B$50:G54)-1)*7+COLUMNS($B$50:G54)) -> 44743 | H54: =INDEX(m6_,1,(ROWS($B$50:H54)-1)*7+COLUMNS($B$50:H54)) -> 44744
A55: =$B$48 -> 44713 | B55: =INDEX(m6_,1,(ROWS($B$50:B55)-1)*7+COLUMNS($B$50:B55)) -> 44745 | C55: =INDEX(m6_,1,(ROWS($B$50:C55)-1)*7+COLUMNS($B$50:C55)) -> 44746 | D55: =INDEX(m6_,1,(ROWS($B$50:D55)-1)*7+COLUMNS($B$50:D55)) -> 44747 | E55: =INDEX(m6_,1,(ROWS($B$50:E55)-1)*7+COLUMNS($B$50:E55)) -> 44748 | F55: =INDEX(m6_,1,(ROWS($B$50:F55)-1)*7+COLUMNS($B$50:F55)) -> 44749 | G55: =INDEX(m6_,1,(ROWS($B$50:G55)-1)*7+COLUMNS($B$50:G55)) -> 44750 | H55: =INDEX(m6_,1,(ROWS($B$50:H55)-1)*7+COLUMNS($B$50:H55)) -> 44751 | J55: 6
B57: =Mini!B12 -> 44743
B58: Do | C58: Lu | D58: Ma | E58: Mi | F58: Ju | G58: Vi | H58: Sa
A59: =$B$57 -> 44743 | B59: =INDEX(m7_,1,(ROWS($B$59:B59)-1)*7+COLUMNS($B$59:B59)) -> 44738 | C59: =INDEX(m7_,1,(ROWS($B$59:C59)-1)*7+COLUMNS($B$59:C59)) -> 44739 | D59: =INDEX(m7_,1,(ROWS($B$59:D59)-1)*7+COLUMNS($B$59:D59)) -> 44740 | E59: =INDEX(m7_,1,(ROWS($B$59:E59)-1)*7+COLUMNS($B$59:E59)) -> 44741 | F59: =INDEX(m7_,1,(ROWS($B$59:F59)-1)*7+COLUMNS($B$59:F59)) -> 44742 | G59: =INDEX(m7_,1,(ROWS($B$59:G59)-1)*7+COLUMNS($B$59:G59)) -> 44743 | H59: =INDEX(m7_,1,(ROWS($B$59:H59)-1)*7+COLUMNS($B$59:H59)) -> 44744 | J59: 5
A60: =$B$57 -> 44743 | B60: =INDEX(m7_,1,(ROWS($B$59:B60)-1)*7+COLUMNS($B$59:B60)) -> 44745 | C60: =INDEX(m7_,1,(ROWS($B$59:C60)-1)*7+COLUMNS($B$59:C60)) -> 44746 | D60: =INDEX(m7_,1,(ROWS($B$59:D60)-1)*7+COLUMNS($B$59:D60)) -> 44747 | E60: =INDEX(m7_,1,(ROWS($B$59:E60)-1)*7+COLUMNS($B$59:E60)) -> 44748 | F60: =INDEX(m7_,1,(ROWS($B$59:F60)-1)*7+COLUMNS($B$59:F60)) -> 44749 | G60: =INDEX(m7_,1,(ROWS($B$59:G60)-1)*7+COLUMNS($B$59:G60)) -> 44750 | H60: =INDEX(m7_,1,(ROWS($B$59:H60)-1)*7+COLUMNS($B$59:H60)) -> 44751
A61: =$B$57 -> 44743 | B61: =INDEX(m7_,1,(ROWS($B$59:B61)-1)*7+COLUMNS($B$59:B61)) -> 44752 | C61: =INDEX(m7_,1,(ROWS($B$59:C61)-1)*7+COLUMNS($B$59:C61)) -> 44753 | D61: =INDEX(m7_,1,(ROWS($B$59:D61)-1)*7+COLUMNS($B$59:D61)) -> 44754 | E61: =INDEX(m7_,1,(ROWS($B$59:E61)-1)*7+COLUMNS($B$59:E61)) -> 44755 | F61: =INDEX(m7_,1,(ROWS($B$59:F61)-1)*7+COLUMNS($B$59:F61)) -> 44756 | G61: =INDEX(m7_,1,(ROWS($B$59:G61)-1)*7+COLUMNS($B$59:G61)) -> 44757 | H61: =INDEX(m7_,1,(ROWS($B$59:H61)-1)*7+COLUMNS($B$59:H61)) -> 44758
A62: =$B$57 -> 44743 | B62: =INDEX(m7_,1,(ROWS($B$59:B62)-1)*7+COLUMNS($B$59:B62)) -> 44759 | C62: =INDEX(m7_,1,(ROWS($B$59:C62)-1)*7+COLUMNS($B$59:C62)) -> 44760 | D62: =INDEX(m7_,1,(ROWS($B$59:D62)-1)*7+COLUMNS($B$59:D62)) -> 44761 | E62: =INDEX(m7_,1,(ROWS($B$59:E62)-1)*7+COLUMNS($B$59:E62)) -> 44762 | F62: =INDEX(m7_,1,(ROWS($B$59:F62)-1)*7+COLUMNS($B$59:F62)) -> 44763 | G62: =INDEX(m7_,1,(ROWS($B$59:G62)-1)*7+COLUMNS($B$59:G62)) -> 44764 | H62: =INDEX(m7_,1,(ROWS($B$59:H62)-1)*7+COLUMNS($B$59:H62)) -> 44765
A63: =$B$57 -> 44743 | B63: =INDEX(m7_,1,(ROWS($B$59:B63)-1)*7+COLUMNS($B$59:B63)) -> 44766 | C63: =INDEX(m7_,1,(ROWS($B$59:C63)-1)*7+COLUMNS($B$59:C63)) -> 44767 | D63: =INDEX(m7_,1,(ROWS($B$59:D63)-1)*7+COLUMNS($B$59:D63)) -> 44768 | E63: =INDEX(m7_,1,(ROWS($B$59:E63)-1)*7+COLUMNS($B$59:E63)) -> 44769 | F63: =INDEX(m7_,1,(ROWS($B$59:F63)-1)*7+COLUMNS($B$59:F63)) -> 44770 | G63: =INDEX(m7_,1,(ROWS($B$59:G63)-1)*7+COLUMNS($B$59:G63)) -> 44771 | H63: =INDEX(m7_,1,(ROWS($B$59:H63)-1)*7+COLUMNS($B$59:H63)) -> 44772
A64: =$B$57 -> 44743 | B64: =INDEX(m7_,1,(ROWS($B$59:B64)-1)*7+COLUMNS($B$59:B64)) -> 44773 | C64: =INDEX(m7_,1,(ROWS($B$59:C64)-1)*7+COLUMNS($B$59:C64)) -> 44774 | D64: =INDEX(m7_,1,(ROWS($B$59:D64)-1)*7+COLUMNS($B$59:D64)) -> 44775 | E64: =INDEX(m7_,1,(ROWS($B$59:E64)-1)*7+COLUMNS($B$59:E64)) -> 44776 | F64: =INDEX(m7_,1,(ROWS($B$59:F64)-1)*7+COLUMNS($B$59:F64)) -> 44777 | G64: =INDEX(m7_,1,(ROWS($B$59:G64)-1)*7+COLUMNS($B$59:G64)) -> 44778 | H64: =INDEX(m7_,1,(ROWS($B$59:H64)-1)*7+COLUMNS($B$59:H64)) -> 44779 | J64: 6
B66: =Mini!B13 -> 44774
B67: Do | C67: Lu | D67: Ma | E67: Mi | F67: Ju | G67: Vi | H67: Sa
A68: =$B$66 -> 44774 | B68: =INDEX(m8_,1,(ROWS($B$68:B68)-1)*7+COLUMNS($B$68:B68)) -> 44773 | C68: =INDEX(m8_,1,(ROWS($B$68:C68)-1)*7+COLUMNS($B$68:C68)) -> 44774 | D68: =INDEX(m8_,1,(ROWS($B$68:D68)-1)*7+COLUMNS($B$68:D68)) -> 44775 | E68: =INDEX(m8_,1,(ROWS($B$68:E68)-1)*7+COLUMNS($B$68:E68)) -> 44776 | F68: =INDEX(m8_,1,(ROWS($B$68:F68)-1)*7+COLUMNS($B$68:F68)) -> 44777 | G68: =INDEX(m8_,1,(ROWS($B$68:G68)-1)*7+COLUMNS($B$68:G68)) -> 44778 | H68: =INDEX(m8_,1,(ROWS($B$68:H68)-1)*7+COLUMNS($B$68:H68)) -> 44779 | J68: 5
A69: =$B$66 -> 44774 | B69: =INDEX(m8_,1,(ROWS($B$68:B69)-1)*7+COLUMNS($B$68:B69)) -> 44780 | C69: =INDEX(m8_,1,(ROWS($B$68:C69)-1)*7+COLUMNS($B$68:C69)) -> 44781 | D69: =INDEX(m8_,1,(ROWS($B$68:D69)-1)*7+COLUMNS($B$68:D69)) -> 44782 | E69: =INDEX(m8_,1,(ROWS($B$68:E69)-1)*7+COLUMNS($B$68:E69)) -> 44783 | F69: =INDEX(m8_,1,(ROWS($B$68:F69)-1)*7+COLUMNS($B$68:F69)) -> 44784 | G69: =INDEX(m8_,1,(ROWS($B$68:G69)-1)*7+COLUMNS($B$68:G69)) -> 44785 | H69: =INDEX(m8_,1,(ROWS($B$68:H69)-1)*7+COLUMNS($B$68:H69)) -> 44786
A70: =$B$66 -> 44774 | B70: =INDEX(m8_,1,(ROWS($B$68:B70)-1)*7+COLUMNS($B$68:B70)) -> 44787 | C70: =INDEX(m8_,1,(ROWS($B$68:C70)-1)*7+COLUMNS($B$68:C70)) -> 44788 | D70: =INDEX(m8_,1,(ROWS($B$68:D70)-1)*7+COLUMNS($B$68:D70)) -> 44789 | E70: =INDEX(m8_,1,(ROWS($B$68:E70)-1)*7+COLUMNS($B$68:E70)) -> 44790 | F70: =INDEX(m8_,1,(ROWS($B$68:F70)-1)*7+COLUMNS($B$68:F70)) -> 44791 | G70: =INDEX(m8_,1,(ROWS($B$68:G70)-1)*7+COLUMNS($B$68:G70)) -> 44792 | H70: =INDEX(m8_,1,(ROWS($B$68:H70)-1)*7+COLUMNS($B$68:H70)) -> 44793
A71: =$B$66 -> 44774 | B71: =INDEX(m8_,1,(ROWS($B$68:B71)-1)*7+COLUMNS($B$68:B71)) -> 44794 | C71: =INDEX(m8_,1,(ROWS($B$68:C71)-1)*7+COLUMNS($B$68:C71)) -> 44795 | D71: =INDEX(m8_,1,(ROWS($B$68:D71)-1)*7+COLUMNS($B$68:D71)) -> 44796 | E71: =INDEX(m8_,1,(ROWS($B$68:E71)-1)*7+COLUMNS($B$68:E71)) -> 44797 | F71: =INDEX(m8_,1,(ROWS($B$68:F71)-1)*7+COLUMNS($B$68:F71)) -> 44798 | G71: =INDEX(m8_,1,(ROWS($B$68:G71)-1)*7+COLUMNS($B$68:G71)) -> 44799 | H71: =INDEX(m8_,1,(ROWS($B$68:H71)-1)*7+COLUMNS($B$68:H71)) -> 44800
A72: =$B$66 -> 44774 | B72: =INDEX(m8_,1,(ROWS($B$68:B72)-1)*7+COLUMNS($B$68:B72)) -> 44801 | C72: =INDEX(m8_,1,(ROWS($B$68:C72)-1)*7+COLUMNS($B$68:C72)) -> 44802 | D72: =INDEX(m8_,1,(ROWS($B$68:D72)-1)*7+COLUMNS($B$68:D72)) -> 44803 | E72: =INDEX(m8_,1,(ROWS($B$68:E72)-1)*7+COLUMNS($B$68:E72)) -> 44804 | F72: =INDEX(m8_,1,(ROWS($B$68:F72)-1)*7+COLUMNS($B$68:F72)) -> 44805 | G72: =INDEX(m8_,1,(ROWS($B$68:G72)-1)*7+COLUMNS($B$68:G72)) -> 44806 | H72: =INDEX(m8_,1,(ROWS($B$68:H72)-1)*7+COLUMNS($B$68:H72)) -> 44807
A73: =$B$66 -> 44774 | B73: =INDEX(m8_,1,(ROWS($B$68:B73)-1)*7+COLUMNS($B$68:B73)) -> 44808 | C73: =INDEX(m8_,1,(ROWS($B$68:C73)-1)*7+COLUMNS($B$68:C73)) -> 44809 | D73: =INDEX(m8_,1,(ROWS($B$68:D73)-1)*7+COLUMNS($B$68:D73)) -> 44810 | E73: =INDEX(m8_,1,(ROWS($B$68:E73)-1)*7+COLUMNS($B$68:E73)) -> 44811 | F73: =INDEX(m8_,1,(ROWS($B$68:F73)-1)*7+COLUMNS($B$68:F73)) -> 44812 | G73: =INDEX(m8_,1,(ROWS($B$68:G73)-1)*7+COLUMNS($B$68:G73)) -> 44813 | H73: =INDEX(m8_,1,(ROWS($B$68:H73)-1)*7+COLUMNS($B$68:H73)) -> 44814 | J73: 6
B75: =Mini!B14 -> 44805
B76: Do | C76: Lu | D76: Ma | E76: Mi | F76: Ju | G76: Vi | H76: Sa
A77: =$B$75 -> 44805 | B77: =INDEX(m9_,1,(ROWS($B$77:B77)-1)*7+COLUMNS($B$77:B77)) -> 44801 | C77: =INDEX(m9_,1,(ROWS($B$77:C77)-1)*7+COLUMNS($B$77:C77)) -> 44802 | D77: =INDEX(m9_,1,(ROWS($B$77:D77)-1)*7+COLUMNS($B$77:D77)) -> 44803 | E77: =INDEX(m9_,1,(ROWS($B$77:E77)-1)*7+COLUMNS($B$77:E77)) -> 44804 | F77: =INDEX(m9_,1,(ROWS($B$77:F77)-1)*7+COLUMNS($B$77:F77)) -> 44805 | G77: =INDEX(m9_,1,(ROWS($B$77:G77)-1)*7+COLUMNS($B$77:G77)) -> 44806 | H77: =INDEX(m9_,1,(ROWS($B$77:H77)-1)*7+COLUMNS($B$77:H77)) -> 44807 | J77: 5
A78: =$B$75 -> 44805 | B78: =INDEX(m9_,1,(ROWS($B$77:B78)-1)*7+COLUMNS($B$77:B78)) -> 44808 | C78: =INDEX(m9_,1,(ROWS($B$77:C78)-1)*7+COLUMNS($B$77:C78)) -> 44809 | D78: =INDEX(m9_,1,(ROWS($B$77:D78)-1)*7+COLUMNS($B$77:D78)) -> 44810 | E78: =INDEX(m9_,1,(ROWS($B$77:E78)-1)*7+COLUMNS($B$77:E78)) -> 44811 | F78: =INDEX(m9_,1,(ROWS($B$77:F78)-1)*7+COLUMNS($B$77:F78)) -> 44812 | G78: =INDEX(m9_,1,(ROWS($B$77:G78)-1)*7+COLUMNS($B$77:G78)) -> 44813 | H78: =INDEX(m9_,1,(ROWS($B$77:H78)-1)*7+COLUMNS($B$77:H78)) -> 44814
A79: =$B$75 -> 44805 | B79: =INDEX(m9_,1,(ROWS($B$77:B79)-1)*7+COLUMNS($B$77:B79)) -> 44815 | C79: =INDEX(m9_,1,(ROWS($B$77:C79)-1)*7+COLUMNS($B$77:C79)) -> 44816 | D79: =INDEX(m9_,1,(ROWS($B$77:D79)-1)*7+COLUMNS($B$77:D79)) -> 44817 | E79: =INDEX(m9_,1,(ROWS($B$77:E79)-1)*7+COLUMNS($B$77:E79)) -> 44818 | F79: =INDEX(m9_,1,(ROWS($B$77:F79)-1)*7+COLUMNS($B$77:F79)) -> 44819 | G79: =INDEX(m9_,1,(ROWS($B$77:G79)-1)*7+COLUMNS($B$77:G79)) -> 44820 | H79: =INDEX(m9_,1,(ROWS($B$77:H79)-1)*7+COLUMNS($B$77:H79)) -> 44821
A80: =$B$75 -> 44805 | B80: =INDEX(m9_,1,(ROWS($B$77:B80)-1)*7+COLUMNS($B$77:B80)) -> 44822 | C80: =INDEX(m9_,1,(ROWS($B$77:C80)-1)*7+COLUMNS($B$77:C80)) -> 44823 | D80: =INDEX(m9_,1,(ROWS($B$77:D80)-1)*7+COLUMNS($B$77:D80)) -> 44824 | E80: =INDEX(m9_,1,(ROWS($B$77:E80)-1)*7+COLUMNS($B$77:E80)) -> 44825 | F80: =INDEX(m9_,1,(ROWS($B$77:F80)-1)*7+COLUMNS($B$77:F80)) -> 44826 | G80: =INDEX(m9_,1,(ROWS($B$77:G80)-1)*7+COLUMNS($B$77:G80)) -> 44827 | H80: =INDEX(m9_,1,(ROWS($B$77:H80)-1)*7+COLUMNS($B$77:H80)) -> 44828
A81: =$B$75 -> 44805 | B81: =INDEX(m9_,1,(ROWS($B$77:B81)-1)*7+COLUMNS($B$77:B81)) -> 44829 | C81: =INDEX(m9_,1,(ROWS($B$77:C81)-1)*7+COLUMNS($B$77:C81)) -> 44830 | D81: =INDEX(m9_,1,(ROWS($B$77:D81)-1)*7+COLUMNS($B$77:D81)) -> 44831 | E81: =INDEX(m9_,1,(ROWS($B$77:E81)-1)*7+COLUMNS($B$77:E81)) -> 44832 | F81: =INDEX(m9_,1,(ROWS($B$77:F81)-1)*7+COLUMNS($B$77:F81)) -> 44833 | G81: =INDEX(m9_,1,(ROWS($B$77:G81)-1)*7+COLUMNS($B$77:G81)) -> 44834 | H81: =INDEX(m9_,1,(ROWS($B$77:H81)-1)*7+COLUMNS($B$77:H81)) -> 44835
A82: =$B$75 -> 44805 | B82: =INDEX(m9_,1,(ROWS($B$77:B82)-1)*7+COLUMNS($B$77:B82)) -> 44836 | C82: =INDEX(m9_,1,(ROWS($B$77:C82)-1)*7+COLUMNS($B$77:C82)) -> 44837 | D82: =INDEX(m9_,1,(ROWS($B$77:D82)-1)*7+COLUMNS($B$77:D82)) -> 44838 | E82: =INDEX(m9_,1,(ROWS($B$77:E82)-1)*7+COLUMNS($B$77:E82)) -> 44839 | F82: =INDEX(m9_,1,(ROWS($B$77:F82)-1)*7+COLUMNS($B$77:F82)) -> 44840 | G82: =INDEX(m9_,1,(ROWS($B$77:G82)-1)*7+COLUMNS($B$77:G82)) -> 44841 | H82: =INDEX(m9_,1,(ROWS($B$77:H82)-1)*7+COLUMNS($B$77:H82)) -> 44842 | J82: 6
B84: =Mini!B15 -> 44835
B85: Do | C85: Lu | D85: Ma | E85: Mi | F85: Ju | G85: Vi | H85: Sa
A86: =$B$84 -> 44835 | B86: =INDEX(m10_,1,(ROWS($B$86:B86)-1)*7+COLUMNS($B$86:B86)) -> 44829 | C86: =INDEX(m10_,1,(ROWS($B$86:C86)-1)*7+COLUMNS($B$86:C86)) -> 44830 | D86: =INDEX(m10_,1,(ROWS($B$86:D86)-1)*7+COLUMNS($B$86:D86)) -> 44831 | E86: =INDEX(m10_,1,(ROWS($B$86:E86)-1)*7+COLUMNS($B$86:E86)) -> 44832 | F86: =INDEX(m10_,1,(ROWS($B$86:F86)-1)*7+COLUMNS($B$86:F86)) -> 44833 | G86: =INDEX(m10_,1,(ROWS($B$86:G86)-1)*7+COLUMNS($B$86:G86)) -> 44834 | H86: =INDEX(m10_,1,(ROWS($B$86:H86)-1)*7+COLUMNS($B$86:H86)) -> 44835 | J86: 5
A87: =$B$84 -> 44835 | B87: =INDEX(m10_,1,(ROWS($B$86:B87)-1)*7+COLUMNS($B$86:B87)) -> 44836 | C87: =INDEX(m10_,1,(ROWS($B$86:C87)-1)*7+COLUMNS($B$86:C87)) -> 44837 | D87: =INDEX(m10_,1,(ROWS($B$86:D87)-1)*7+COLUMNS($B$86:D87)) -> 44838 | E87: =INDEX(m10_,1,(ROWS($B$86:E87)-1)*7+COLUMNS($B$86:E87)) -> 44839 | F87: =INDEX(m10_,1,(ROWS($B$86:F87)-1)*7+COLUMNS($B$86:F87)) -> 44840 | G87: =INDEX(m10_,1,(ROWS($B$86:G87)-1)*7+COLUMNS($B$86:G87)) -> 44841 | H87: =INDEX(m10_,1,(ROWS($B$86:H87)-1)*7+COLUMNS($B$86:H87)) -> 44842
A88: =$B$84 -> 44835 | B88: =INDEX(m10_,1,(ROWS($B$86:B88)-1)*7+COLUMNS($B$86:B88)) -> 44843 | C88: =INDEX(m10_,1,(ROWS($B$86:C88)-1)*7+COLUMNS($B$86:C88)) -> 44844 | D88: =INDEX(m10_,1,(ROWS($B$86:D88)-1)*7+COLUMNS($B$86:D88)) -> 44845 | E88: =INDEX(m10_,1,(ROWS($B$86:E88)-1)*7+COLUMNS($B$86:E88)) -> 44846 | F88: =INDEX(m10_,1,(ROWS($B$86:F88)-1)*7+COLUMNS($B$86:F88)) -> 44847 | G88: =INDEX(m10_,1,(ROWS($B$86:G88)-1)*7+COLUMNS($B$86:G88)) -> 44848 | H88: =INDEX(m10_,1,(ROWS($B$86:H88)-1)*7+COLUMNS($B$86:H88)) -> 44849
A89: =$B$84 -> 44835 | B89: =INDEX(m10_,1,(ROWS($B$86:B89)-1)*7+COLUMNS($B$86:B89)) -> 44850 | C89: =INDEX(m10_,1,(ROWS($B$86:C89)-1)*7+COLUMNS($B$86:C89)) -> 44851 | D89: =INDEX(m10_,1,(ROWS($B$86:D89)-1)*7+COLUMNS($B$86:D89)) -> 44852 | E89: =INDEX(m10_,1,(ROWS($B$86:E89)-1)*7+COLUMNS($B$86:E89)) -> 44853 | F89: =INDEX(m10_,1,(ROWS($B$86:F89)-1)*7+COLUMNS($B$86:F89)) -> 44854 | G89: =INDEX(m10_,1,(ROWS($B$86:G89)-1)*7+COLUMNS($B$86:G89)) -> 44855 | H89: =INDEX(m10_,1,(ROWS($B$86:H89)-1)*7+COLUMNS($B$86:H89)) -> 44856
A90: =$B$84 -> 44835 | B90: =INDEX(m10_,1,(ROWS($B$86:B90)-1)*7+COLUMNS($B$86:B90)) -> 44857 | C90: =INDEX(m10_,1,(ROWS($B$86:C90)-1)*7+COLUMNS($B$86:C90)) -> 44858 | D90: =INDEX(m10_,1,(ROWS($B$86:D90)-1)*7+COLUMNS($B$86:D90)) -> 44859 | E90: =INDEX(m10_,1,(ROWS($B$86:E90)-1)*7+COLUMNS($B$86:E90)) -> 44860 | F90: =INDEX(m10_,1,(ROWS($B$86:F90)-1)*7+COLUMNS($B$86:F90)) -> 44861 | G90: =INDEX(m10_,1,(ROWS($B$86:G90)-1)*7+COLUMNS($B$86:G90)) -> 44862 | H90: =INDEX(m10_,1,(ROWS($B$86:H90)-1)*7+COLUMNS($B$86:H90)) -> 44863
A91: =$B$84 -> 44835 | B91: =INDEX(m10_,1,(ROWS($B$86:B91)-1)*7+COLUMNS($B$86:B91)) -> 44864 | C91: =INDEX(m10_,1,(ROWS($B$86:C91)-1)*7+COLUMNS($B$86:C91)) -> 44865 | D91: =INDEX(m10_,1,(ROWS($B$86:D91)-1)*7+COLUMNS($B$86:D91)) -> 44866 | E91: =INDEX(m10_,1,(ROWS($B$86:E91)-1)*7+COLUMNS($B$86:E91)) -> 44867 | F91: =INDEX(m10_,1,(ROWS($B$86:F91)-1)*7+COLUMNS($B$86:F91)) -> 44868 | G91: =INDEX(m10_,1,(ROWS($B$86:G91)-1)*7+COLUMNS($B$86:G91)) -> 44869 | H91: =INDEX(m10_,1,(ROWS($B$86:H91)-1)*7+COLUMNS($B$86:H91)) -> 44870 | J91: 6
B93: =Mini!B16 -> 44866
B94: Do | C94: Lu | D94: Ma | E94: Mi | F94: Ju | G94: Vi | H94: Sa
A95: =$B$93 -> 44866 | B95: =INDEX(m11_,1,(ROWS($B$95:B95)-1)*7+COLUMNS($B$95:B95)) -> 44864 | C95: =INDEX(m11_,1,(ROWS($B$95:C95)-1)*7+COLUMNS($B$95:C95)) -> 44865 | D95: =INDEX(m11_,1,(ROWS($B$95:D95)-1)*7+COLUMNS($B$95:D95)) -> 44866 | E95: =INDEX(m11_,1,(ROWS($B$95:E95)-1)*7+COLUMNS($B$95:E95)) -> 44867 | F95: =INDEX(m11_,1,(ROWS($B$95:F95)-1)*7+COLUMNS($B$95:F95)) -> 44868 | G95: =INDEX(m11_,1,(ROWS($B$95:G95)-1)*7+COLUMNS($B$95:G95)) -> 44869 | H95: =INDEX(m11_,1,(ROWS($B$95:H95)-1)*7+COLUMNS($B$95:H95)) -> 44870 | J95: 5
A96: =$B$93 -> 44866 | B96: =INDEX(m11_,1,(ROWS($B$95:B96)-1)*7+COLUMNS($B$95:B96)) -> 44871 | C96: =INDEX(m11_,1,(ROWS($B$95:C96)-1)*7+COLUMNS($B$95:C96)) -> 44872 | D96: =INDEX(m11_,1,(ROWS($B$95:D96)-1)*7+COLUMNS($B$95:D96)) -> 44873 | E96: =INDEX(m11_,1,(ROWS($B$95:E96)-1)*7+COLUMNS($B$95:E96)) -> 44874 | F96: =INDEX(m11_,1,(ROWS($B$95:F96)-1)*7+COLUMNS($B$95:F96)) -> 44875 | G96: =INDEX(m11_,1,(ROWS($B$95:G96)-1)*7+COLUMNS($B$95:G96)) -> 44876 | H96: =INDEX(m11_,1,(ROWS($B$95:H96)-1)*7+COLUMNS($B$95:H96)) -> 44877
A97: =$B$93 -> 44866 | B97: =INDEX(m11_,1,(ROWS($B$95:B97)-1)*7+COLUMNS($B$95:B97)) -> 44878 | C97: =INDEX(m11_,1,(ROWS($B$95:C97)-1)*7+COLUMNS($B$95:C97)) -> 44879 | D97: =INDEX(m11_,1,(ROWS($B$95:D97)-1)*7+COLUMNS($B$95:D97)) -> 44880 | E97: =INDEX(m11_,1,(ROWS($B$95:E97)-1)*7+COLUMNS($B$95:E97)) -> 44881 | F97: =INDEX(m11_,1,(ROWS($B$95:F97)-1)*7+COLUMNS($B$95:F97)) -> 44882 | G97: =INDEX(m11_,1,(ROWS($B$95:G97)-1)*7+COLUMNS($B$95:G97)) -> 44883 | H97: =INDEX(m11_,1,(ROWS($B$95:H97)-1)*7+COLUMNS($B$95:H97)) -> 44884
A98: =$B$93 -> 44866 | B98: =INDEX(m11_,1,(ROWS($B$95:B98)-1)*7+COLUMNS($B$95:B98)) -> 44885 | C98: =INDEX(m11_,1,(ROWS($B$95:C98)-1)*7+COLUMNS($B$95:C98)) -> 44886 | D98: =INDEX(m11_,1,(ROWS($B$95:D98)-1)*7+COLUMNS($B$95:D98)) -> 44887 | E98: =INDEX(m11_,1,(ROWS($B$95:E98)-1)*7+COLUMNS($B$95:E98)) -> 44888 | F98: =INDEX(m11_,1,(ROWS($B$95:F98)-1)*7+COLUMNS($B$95:F98)) -> 44889 | G98: =INDEX(m11_,1,(ROWS($B$95:G98)-1)*7+COLUMNS($B$95:G98)) -> 44890 | H98: =INDEX(m11_,1,(ROWS($B$95:H98)-1)*7+COLUMNS($B$95:H98)) -> 44891
A99: =$B$93 -> 44866 | B99: =INDEX(m11_,1,(ROWS($B$95:B99)-1)*7+COLUMNS($B$95:B99)) -> 44892 | C99: =INDEX(m11_,1,(ROWS($B$95:C99)-1)*7+COLUMNS($B$95:C99)) -> 44893 | D99: =INDEX(m11_,1,(ROWS($B$95:D99)-1)*7+COLUMNS($B$95:D99)) -> 44894 | E99: =INDEX(m11_,1,(ROWS($B$95:E99)-1)*7+COLUMNS($B$95:E99)) -> 44895 | F99: =INDEX(m11_,1,(ROWS($B$95:F99)-1)*7+COLUMNS($B$95:F99)) -> 44896 | G99: =INDEX(m11_,1,(ROWS($B$95:G99)-1)*7+COLUMNS($B$95:G99)) -> 44897 | H99: =INDEX(m11_,1,(ROWS($B$95:H99)-1)*7+COLUMNS($B$95:H99)) -> 44898
A100: =$B$93 -> 44866 | B100: =INDEX(m11_,1,(ROWS($B$95:B100)-1)*7+COLUMNS($B$95:B100)) -> 44899 | C100: =INDEX(m11_,1,(ROWS($B$95:C100)-1)*7+COLUMNS($B$95:C100)) -> 44900 | D100: =INDEX(m11_,1,(ROWS($B$95:D100)-1)*7+COLUMNS($B$95:D100)) -> 44901 | E100: =INDEX(m11_,1,(ROWS($B$95:E100)-1)*7+COLUMNS($B$95:E100)) -> 44902 | F100: =INDEX(m11_,1,(ROWS($B$95:F100)-1)*7+COLUMNS($B$95:F100)) -> 44903 | G100: =INDEX(m11_,1,(ROWS($B$95:G100)-1)*7+COLUMNS($B$95:G100)) -> 44904 | H100: =INDEX(m11_,1,(ROWS($B$95:H100)-1)*7+COLUMNS($B$95:H100)) -> 44905 | J100: 6
B102: =Mini!B17 -> 44896
B103: Do | C103: Lu | D103: Ma | E103: Mi | F103: Ju | G103: Vi | H103: Sa
A104: =$B$102 -> 44896 | B104: =INDEX(m12_,1,(ROWS($B$104:B104)-1)*7+COLUMNS($B$104:B104)) -> 44892 | C104: =INDEX(m12_,1,(ROWS($B$104:C104)-1)*7+COLUMNS($B$104:C104)) -> 44893 | D104: =INDEX(m12_,1,(ROWS($B$104:D104)-1)*7+COLUMNS($B$104:D104)) -> 44894 | E104: =INDEX(m12_,1,(ROWS($B$104:E104)-1)*7+COLUMNS($B$104:E104)) -> 44895 | F104: =INDEX(m12_,1,(ROWS($B$104:F104)-1)*7+COLUMNS($B$104:F104)) -> 44896 | G104: =INDEX(m12_,1,(ROWS($B$104:G104)-1)*7+COLUMNS($B$104:G104)) -> 44897 | H104: =INDEX(m12_,1,(ROWS($B$104:H104)-1)*7+COLUMNS($B$104:H104)) -> 44898 | J104: 5
A105: =$B$102 -> 44896 | B105: =INDEX(m12_,1,(ROWS($B$104:B105)-1)*7+COLUMNS($B$104:B105)) -> 44899 | C105: =INDEX(m12_,1,(ROWS($B$104:C105)-1)*7+COLUMNS($B$104:C105)) -> 44900 | D105: =INDEX(m12_,1,(ROWS($B$104:D105)-1)*7+COLUMNS($B$104:D105)) -> 44901 | E105: =INDEX(m12_,1,(ROWS($B$104:E105)-1)*7+COLUMNS($B$104:E105)) -> 44902 | F105: =INDEX(m12_,1,(ROWS($B$104:F105)-1)*7+COLUMNS($B$104:F105)) -> 44903 | G105: =INDEX(m12_,1,(ROWS($B$104:G105)-1)*7+COLUMNS($B$104:G105)) -> 44904 | H105: =INDEX(m12_,1,(ROWS($B$104:H105)-1)*7+COLUMNS($B$104:H105)) -> 44905
A106: =$B$102 -> 44896 | B106: =INDEX(m12_,1,(ROWS($B$104:B106)-1)*7+COLUMNS($B$104:B106)) -> 44906 | C106: =INDEX(m12_,1,(ROWS($B$104:C106)-1)*7+COLUMNS($B$104:C106)) -> 44907 | D106: =INDEX(m12_,1,(ROWS($B$104:D106)-1)*7+COLUMNS($B$104:D106)) -> 44908 | E106: =INDEX(m12_,1,(ROWS($B$104:E106)-1)*7+COLUMNS($B$104:E106)) -> 44909 | F106: =INDEX(m12_,1,(ROWS($B$104:F106)-1)*7+COLUMNS($B$104:F106)) -> 44910 | G106: =INDEX(m12_,1,(ROWS($B$104:G106)-1)*7+COLUMNS($B$104:G106)) -> 44911 | H106: =INDEX(m12_,1,(ROWS($B$104:H106)-1)*7+COLUMNS($B$104:H106)) -> 44912
A107: =$B$102 -> 44896 | B107: =INDEX(m12_,1,(ROWS($B$104:B107)-1)*7+COLUMNS($B$104:B107)) -> 44913 | C107: =INDEX(m12_,1,(ROWS($B$104:C107)-1)*7+COLUMNS($B$104:C107)) -> 44914 | D107: =INDEX(m12_,1,(ROWS($B$104:D107)-1)*7+COLUMNS($B$104:D107)) -> 44915 | E107: =INDEX(m12_,1,(ROWS($B$104:E107)-1)*7+COLUMNS($B$104:E107)) -> 44916 | F107: =INDEX(m12_,1,(ROWS($B$104:F107)-1)*7+COLUMNS($B$104:F107)) -> 44917 | G107: =INDEX(m12_,1,(ROWS($B$104:G107)-1)*7+COLUMNS($B$104:G107)) -> 44918 | H107: =INDEX(m12_,1,(ROWS($B$104:H107)-1)*7+COLUMNS($B$104:H107)) -> 44919
A108: =$B$102 -> 44896 | B108: =INDEX(m12_,1,(ROWS($B$104:B108)-1)*7+COLUMNS($B$104:B108)) -> 44920 | C108: =INDEX(m12_,1,(ROWS($B$104:C108)-1)*7+COLUMNS($B$104:C108)) -> 44921 | D108: =INDEX(m12_,1,(ROWS($B$104:D108)-1)*7+COLUMNS($B$104:D108)) -> 44922 | E108: =INDEX(m12_,1,(ROWS($B$104:E108)-1)*7+COLUMNS($B$104:E108)) -> 44923 | F108: =INDEX(m12_,1,(ROWS($B$104:F108)-1)*7+COLUMNS($B$104:F108)) -> 44924 | G108: =INDEX(m12_,1,(ROWS($B$104:G108)-1)*7+COLUMNS($B$104:G108)) -> 44925 | H108: =INDEX(m12_,1,(ROWS($B$104:H108)-1)*7+COLUMNS($B$104:H108)) -> 44926
A109: =$B$102 -> 44896 | B109: =INDEX(m12_,1,(ROWS($B$104:B109)-1)*7+COLUMNS($B$104:B109)) -> 44927 | C109: =INDEX(m12_,1,(ROWS($B$104:C109)-1)*7+COLUMNS($B$104:C109)) -> 44928 | D109: =INDEX(m12_,1,(ROWS($B$104:D109)-1)*7+COLUMNS($B$104:D109)) -> 44929 | E109: =INDEX(m12_,1,(ROWS($B$104:E109)-1)*7+COLUMNS($B$104:E109)) -> 44930 | F109: =INDEX(m12_,1,(ROWS($B$104:F109)-1)*7+COLUMNS($B$104:F109)) -> 44931 | G109: =INDEX(m12_,1,(ROWS($B$104:G109)-1)*7+COLUMNS($B$104:G109)) -> 44932 | H109: =INDEX(m12_,1,(ROWS($B$104:H109)-1)*7+COLUMNS($B$104:H109)) -> 44933

Sheet Diario
C1: Diario Calendiario & Notas
C4: Fecha | D4: Especial? | E4: Notas
B5: =VLOOKUP(D5,$N$5:$O$10,2,FALSE) -> = | C5: =DATE(year,1,1) -> 44562 | D5: Fiestas | E5: Si!, Hoy es Dia de Fiesta. Hagamos algo Divertido! | J5: =MONTH(C5) -> 1 | K5: =WEEKDAY(C5,2) -> 6 | L5: =VLOOKUP(D5,$N$5:$P$10,3,FALSE) -> 3 | N5: Importante | O5: i | P5: 1 | Q5: =COUNTIF(lstDailyEvents,P5) -> 5 | R5: =REPT(Q5&" Dias", Q5>0) -> 5 Dias | S5: =R5&CHAR(10)&R6&CHAR(10)&R7 -> 5 Dias 4 Dias 15 Dias
B6: =VLOOKUP(D6,$N$5:$O$10,2,FALSE) | C6: =C5+1 -> 44563 | J6: =MONTH(C6) -> 1 | K6: =WEEKDAY(C6,2) -> 7 | L6: =VLOOKUP(D6,$N$5:$P$10,3,FALSE) -> 5 | N6: Aniversario | O6: ¦ | P6: 2 | Q6: =COUNTIF(lstDailyEvents,P6) -> 4 | R6: =REPT(Q6&" Dias", Q6>0) -> 4 Dias
B7: =VLOOKUP(D7,$N$5:$O$10,2,FALSE) -> ¦ | C7: =C6+1 -> 44564 | D7: Aniversario | J7: =MONTH(C7) -> 1 | K7: =WEEKDAY(C7,2) -> 1 | L7: =VLOOKUP(D7,$N$5:$P$10,3,FALSE) -> 2 | N7: Fiestas | O7: = | P7: 3 | Q7: =COUNTIF(lstDailyEvents,P7) -> 3 | R7: =REPT((Q7+Q8)&" Dias", (Q7+Q8)>0) -> 15 Dias
B8: =VLOOKUP(D8,$N$5:$O$10,2,FALSE) -> = | C8: =C7+1 -> 44565 | D8: Vacaciones | J8: =MONTH(C8) -> 1 | K8: =WEEKDAY(C8,2) -> 2 | L8: =VLOOKUP(D8,$N$5:$P$10,3,FALSE) -> 4 | N8: Vacaciones | O8: = | P8: 4 | Q8: =COUNTIF(lstDailyEvents,P8) -> 12 | R8: =Q8&" Dias" -> 12 Dias
B9: =VLOOKUP(D9,$N$5:$O$10,2,FALSE) -> = | C9: =C8+1 -> 44566 | D9: Vacaciones | J9: =MONTH(C9) -> 1 | K9: =WEEKDAY(C9,2) -> 3 | L9: =VLOOKUP(D9,$N$5:$P$10,3,FALSE) -> 4 | N9: 0 | O9: ="" | P9: 5 | Q9: =COUNTIF(lstDailyEvents,P9) -> 342
B10: =VLOOKUP(D10,$N$5:$O$10,2,FALSE) -> = | C10: =C9+1 -> 44567 | D10: Vacaciones | J10: =MONTH(C10) -> 1 | K10: =WEEKDAY(C10,2) -> 4 | L10: =VLOOKUP(D10,$N$5:$P$10,3,FALSE) -> 4 | N10: ="" | O10: ="" | P10: 6
B11: =VLOOKUP(D11,$N$5:$O$10,2,FALSE) -> i | C11: =C10+1 -> 44568 | D11: Importante | J11: =MONTH(C11) -> 1 | K11: =WEEKDAY(C11,2) -> 5 | L11: =VLOOKUP(D11,$N$5:$P$10,3,FALSE) -> 1
B12: =VLOOKUP(D12,$N$5:$O$10,2,FALSE) -> i | C12: =C11+1 -> 44569 | D12: Importante | E12: Llamar al Dr. Calmor y Discutir acerca del Problema. | J12: =MONTH(C12) -> 1 | K12: =WEEKDAY(C12,2) -> 6 | L12: =VLOOKUP(D12,$N$5:$P$10,3,FALSE) -> 1
B13: =VLOOKUP(D13,$N$5:$O$10,2,FALSE) -> i | C13: =C12+1 -> 44570 | D13: Importante | E13: Horario de Lanzamiento Producto 1 | J13: =MONTH(C13) -> 1 | K13: =WEEKDAY(C13,2) -> 7 | L13: =VLOOKUP(D13,$N$5:$P$10,3,FALSE) -> 1
B14: =VLOOKUP(D14,$N$5:$O$10,2,FALSE) | C14: =C13+1 -> 44571 | J14: =MONTH(C14) -> 1 | K14: =WEEKDAY(C14,2) -> 1 | L14: =VLOOKUP(D14,$N$5:$P$10,3,FALSE) -> 5
B15: =VLOOKUP(D15,$N$5:$O$10,2,FALSE) | C15: =C14+1 -> 44572 | J15: =MONTH(C15) -> 1 | K15: =WEEKDAY(C15,2) -> 2 | L15: =VLOOKUP(D15,$N$5:$P$10,3,FALSE) -> 5
B16: =VLOOKUP(D16,$N$5:$O$10,2,FALSE) | C16: =C15+1 -> 44573 | J16: =MONTH(C16) -> 1 | K16: =WEEKDAY(C16,2) -> 3 | L16: =VLOOKUP(D16,$N$5:$P$10,3,FALSE) -> 5
B17: =VLOOKUP(D17,$N$5:$O$10,2,FALSE) | C17: =C16+1 -> 44574 | J17: =MONTH(C17) -> 1 | K17: =WEEKDAY(C17,2) -> 4 | L17: =VLOOKUP(D17,$N$5:$P$10,3,FALSE) -> 5
B18: =VLOOKUP(D18,$N$5:$O$10,2,FALSE) -> = | C18: =C17+1 -> 44575 | D18: Vacaciones | E18: Consigase Vacaciones en Marzo! | J18: =MONTH(C18) -> 1 | K18: =WEEKDAY(C18,2) -> 5 | L18: =VLOOKUP(D18,$N$5:$P$10,3,FALSE) -> 4
B19: =VLOOKUP(D19,$N$5:$O$10,2,FALSE) -> = | C19: =C18+1 -> 44576 | D19: Vacaciones | J19: =MONTH(C19) -> 1 | K19: =WEEKDAY(C19,2) -> 6 | L19: =VLOOKUP(D19,$N$5:$P$10,3,FALSE) -> 4
B20: =VLOOKUP(D20,$N$5:$O$10,2,FALSE) -> = | C20: =C19+1 -> 44577 | D20: Vacaciones | J20: =MONTH(C20) -> 1 | K20: =WEEKDAY(C20,2) -> 7 | L20: =VLOOKUP(D20,$N$5:$P$10,3,FALSE) -> 4
B21: =VLOOKUP(D21,$N$5:$O$10,2,FALSE) | C21: =C20+1 -> 44578 | J21: =MONTH(C21) -> 1 | K21: =WEEKDAY(C21,2) -> 1 | L21: =VLOOKUP(D21,$N$5:$P$10,3,FALSE) -> 5
B22: =VLOOKUP(D22,$N$5:$O$10,2,FALSE) | C22: =C21+1 -> 44579 | J22: =MONTH(C22) -> 1 | K22: =WEEKDAY(C22,2) -> 2 | L22: =VLOOKUP(D22,$N$5:$P$10,3,FALSE) -> 5
B23: =VLOOKUP(D23,$N$5:$O$10,2,FALSE) | C23: =C22+1 -> 44580 | J23: =MONTH(C23) -> 1 | K23: =WEEKDAY(C23,2) -> 3 | L23: =VLOOKUP(D23,$N$5:$P$10,3,FALSE) -> 5
B24: =VLOOKUP(D24,$N$5:$O$10,2,FALSE) | C24: =C23+1 -> 44581 | J24: =MONTH(C24) -> 1 | K24: =WEEKDAY(C24,2) -> 4 | L24: =VLOOKUP(D24,$N$5:$P$10,3,FALSE) -> 5
B25: =VLOOKUP(D25,$N$5:$O$10,2,FALSE) -> ¦ | C25: =C24+1 -> 44582 | D25: Aniversario | J25: =MONTH(C25) -> 1 | K25: =WEEKDAY(C25,2) -> 5 | L25: =VLOOKUP(D25,$N$5:$P$10,3,FALSE) -> 2
B26: =VLOOKUP(D26,$N$5:$O$10,2,FALSE) | C26: =C25+1 -> 44583 | J26: =MONTH(C26) -> 1 | K26: =WEEKDAY(C26,2) -> 6 | L26: =VLOOKUP(D26,$N$5:$P$10,3,FALSE) -> 5
B27: =VLOOKUP(D27,$N$5:$O$10,2,FALSE) | C27: =C26+1 -> 44584 | J27: =MONTH(C27) -> 1 | K27: =WEEKDAY(C27,2) -> 7 | L27: =VLOOKUP(D27,$N$5:$P$10,3,FALSE) -> 5
B28: =VLOOKUP(D28,$N$5:$O$10,2,FALSE) | C28: =C27+1 -> 44585 | J28: =MONTH(C28) -> 1 | K28: =WEEKDAY(C28,2) -> 1 | L28: =VLOOKUP(D28,$N$5:$P$10,3,FALSE) -> 5
B29: =VLOOKUP(D29,$N$5:$O$10,2,FALSE) -> i | C29: =C28+1 -> 44586 | D29: Importante | J29: =MONTH(C29) -> 1 | K29: =WEEKDAY(C29,2) -> 2 | L29: =VLOOKUP(D29,$N$5:$P$10,3,FALSE) -> 1
B30: =VLOOKUP(D30,$N$5:$O$10,2,FALSE) | C30: =C29+1 -> 44587 | J30: =MONTH(C30) -> 1 | K30: =WEEKDAY(C30,2) -> 3 | L30: =VLOOKUP(D30,$N$5:$P$10,3,FALSE) -> 5
B31: =VLOOKUP(D31,$N$5:$O$10,2,FALSE) | C31: =C30+1 -> 44588 | J31: =MONTH(C31) -> 1 | K31: =WEEKDAY(C31,2) -> 4 | L31: =VLOOKUP(D31,$N$5:$P$10,3,FALSE) -> 5
B32: =VLOOKUP(D32,$N$5:$O$10,2,FALSE) | C32: =C31+1 -> 44589 | J32: =MONTH(C32) -> 1 | K32: =WEEKDAY(C32,2) -> 5 | L32: =VLOOKUP(D32,$N$5:$P$10,3,FALSE) -> 5
B33: =VLOOKUP(D33,$N$5:$O$10,2,FALSE) | C33: =C32+1 -> 44590 | J33: =MONTH(C33) -> 1 | K33: =WEEKDAY(C33,2) -> 6 | L33: =VLOOKUP(D33,$N$5:$P$10,3,FALSE) -> 5
B34: =VLOOKUP(D34,$N$5:$O$10,2,FALSE) | C34: =C33+1 -> 44591 | J34: =MONTH(C34) -> 1 | K34: =WEEKDAY(C34,2) -> 7 | L34: =VLOOKUP(D34,$N$5:$P$10,3,FALSE) -> 5
B35: =VLOOKUP(D35,$N$5:$O$10,2,FALSE) | C35: =C34+1 -> 44592 | J35: =MONTH(C35) -> 1 | K35: =WEEKDAY(C35,2) -> 1 | L35: =VLOOKUP(D35,$N$5:$P$10,3,FALSE) -> 5
B36: =VLOOKUP(D36,$N$5:$O$10,2,FALSE) | C36: =C35+1 -> 44593 | J36: =MONTH(C36) -> 2 | K36: =WEEKDAY(C36,2) -> 2 | L36: =VLOOKUP(D36,$N$5:$P$10,3,FALSE) -> 5
B37: =VLOOKUP(D37,$N$5:$O$10,2,FALSE) | C37: =C36+1 -> 44594 | J37: =MONTH(C37) -> 2 | K37: =WEEKDAY(C37,2) -> 3 | L37: =VLOOKUP(D37,$N$5:$P$10,3,FALSE) -> 5
B38: =VLOOKUP(D38,$N$5:$O$10,2,FALSE) | C38: =C37+1 -> 44595 | J38: =MONTH(C38) -> 2 | K38: =WEEKDAY(C38,2) -> 4 | L38: =VLOOKUP(D38,$N$5:$P$10,3,FALSE) -> 5
B39: =VLOOKUP(D39,$N$5:$O$10,2,FALSE) -> = | C39: =C38+1 -> 44596 | D39: Fiestas | J39: =MONTH(C39) -> 2 | K39: =WEEKDAY(C39,2) -> 5 | L39: =VLOOKUP(D39,$N$5:$P$10,3,FALSE) -> 3
B40: =VLOOKUP(D40,$N$5:$O$10,2,FALSE) -> = | C40: =C39+1 -> 44597 | D40: Vacaciones | J40: =MONTH(C40) -> 2 | K40: =WEEKDAY(C40,2) -> 6 | L40: =VLOOKUP(D40,$N$5:$P$10,3,FALSE) -> 4
B41: =VLOOKUP(D41,$N$5:$O$10,2,FALSE) | C41: =C40+1 -> 44598 | J41: =MONTH(C41) -> 2 | K41: =WEEKDAY(C41,2) -> 7 | L41: =VLOOKUP(D41,$N$5:$P$10,3,FALSE) -> 5
B42: =VLOOKUP(D42,$N$5:$O$10,2,FALSE) | C42: =C41+1 -> 44599 | J42: =MONTH(C42) -> 2 | K42: =WEEKDAY(C42,2) -> 1 | L42: =VLOOKUP(D42,$N$5:$P$10,3,FALSE) -> 5
B43: =VLOOKUP(D43,$N$5:$O$10,2,FALSE) | C43: =C42+1 -> 44600 | J43: =MONTH(C43) -> 2 | K43: =WEEKDAY(C43,2) -> 2 | L43: =VLOOKUP(D43,$N$5:$P$10,3,FALSE) -> 5
B44: =VLOOKUP(D44,$N$5:$O$10,2,FALSE) | C44: =C43+1 -> 44601 | J44: =MONTH(C44) -> 2 | K44: =WEEKDAY(C44,2) -> 3 | L44: =VLOOKUP(D44,$N$5:$P$10,3,FALSE) -> 5
B45: =VLOOKUP(D45,$N$5:$O$10,2,FALSE) | C45: =C44+1 -> 44602 | J45: =MONTH(C45) -> 2 | K45: =WEEKDAY(C45,2) -> 4 | L45: =VLOOKUP(D45,$N$5:$P$10,3,FALSE) -> 5
B46: =VLOOKUP(D46,$N$5:$O$10,2,FALSE) | C46: =C45+1 -> 44603 | J46: =MONTH(C46) -> 2 | K46: =WEEKDAY(C46,2) -> 5 | L46: =VLOOKUP(D46,$N$5:$P$10,3,FALSE) -> 5
B47: =VLOOKUP(D47,$N$5:$O$10,2,FALSE) | C47: =C46+1 -> 44604 | J47: =MONTH(C47) -> 2 | K47: =WEEKDAY(C47,2) -> 6 | L47: =VLOOKUP(D47,$N$5:$P$10,3,FALSE) -> 5
B48: =VLOOKUP(D48,$N$5:$O$10,2,FALSE) -> ¦ | C48: =C47+1 -> 44605 | D48: Aniversario | J48: =MONTH(C48) -> 2 | K48: =WEEKDAY(C48,2) -> 7 | L48: =VLOOKUP(D48,$N$5:$P$10,3,FALSE) -> 2
B49: =VLOOKUP(D49,$N$5:$O$10,2,FALSE) | C49: =C48+1 -> 44606 | J49: =MONTH(C49) -> 2 | K49: =WEEKDAY(C49,2) -> 1 | L49: =VLOOKUP(D49,$N$5:$P$10,3,FALSE) -> 5
B50: =VLOOKUP(D50,$N$5:$O$10,2,FALSE) | C50: =C49+1 -> 44607 | J50: =MONTH(C50) -> 2 | K50: =WEEKDAY(C50,2) -> 2 | L50: =VLOOKUP(D50,$N$5:$P$10,3,FALSE) -> 5
B51: =VLOOKUP(D51,$N$5:$O$10,2,FALSE) | C51: =C50+1 -> 44608 | J51: =MONTH(C51) -> 2 | K51: =WEEKDAY(C51,2) -> 3 | L51: =VLOOKUP(D51,$N$5:$P$10,3,FALSE) -> 5
B52: =VLOOKUP(D52,$N$5:$O$10,2,FALSE) | C52: =C51+1 -> 44609 | J52: =MONTH(C52) -> 2 | K52: =WEEKDAY(C52,2) -> 4 | L52: =VLOOKUP(D52,$N$5:$P$10,3,FALSE) -> 5
B53: =VLOOKUP(D53,$N$5:$O$10,2,FALSE) | C53: =C52+1 -> 44610 | J53: =MONTH(C53) -> 2 | K53: =WEEKDAY(C53,2) -> 5 | L53: =VLOOKUP(D53,$N$5:$P$10,3,FALSE) -> 5
B54: =VLOOKUP(D54,$N$5:$O$10,2,FALSE) | C54: =C53+1 -> 44611 | J54: =MONTH(C54) -> 2 | K54: =WEEKDAY(C54,2) -> 6 | L54: =VLOOKUP(D54,$N$5:$P$10,3,FALSE) -> 5
B55: =VLOOKUP(D55,$N$5:$O$10,2,FALSE) | C55: =C54+1 -> 44612 | J55: =MONTH(C55) -> 2 | K55: =WEEKDAY(C55,2) -> 7 | L55: =VLOOKUP(D55,$N$5:$P$10,3,FALSE) -> 5
B56: =VLOOKUP(D56,$N$5:$O$10,2,FALSE) | C56: =C55+1 -> 44613 | J56: =MONTH(C56) -> 2 | K56: =WEEKDAY(C56,2) -> 1 | L56: =VLOOKUP(D56,$N$5:$P$10,3,FALSE) -> 5
B57: =VLOOKUP(D57,$N$5:$O$10,2,FALSE) | C57: =C56+1 -> 44614 | J57: =MONTH(C57) -> 2 | K57: =WEEKDAY(C57,2) -> 2 | L57: =VLOOKUP(D57,$N$5:$P$10,3,FALSE) -> 5
B58: =VLOOKUP(D58,$N$5:$O$10,2,FALSE) | C58: =C57+1 -> 44615 | J58: =MONTH(C58) -> 2 | K58: =WEEKDAY(C58,2) -> 3 | L58: =VLOOKUP(D58,$N$5:$P$10,3,FALSE) -> 5
B59: =VLOOKUP(D59,$N$5:$O$10,2,FALSE) | C59: =C58+1 -> 44616 | J59: =MONTH(C59) -> 2 | K59: =WEEKDAY(C59,2) -> 4 | L59: =VLOOKUP(D59,$N$5:$P$10,3,FALSE) -> 5
B60: =VLOOKUP(D60,$N$5:$O$10,2,FALSE) | C60: =C59+1 -> 44617 | J60: =MONTH(C60) -> 2 | K60: =WEEKDAY(C60,2) -> 5 | L60: =VLOOKUP(D60,$N$5:$P$10,3,FALSE) -> 5
... B91: =VLOOKUP(D91,$N$5:$O$10,2,FALSE) | C91: =C90+1 -> 44648 | J91: =MONTH(C91) -> 3 | K91: =WEEKDAY(C91,2) -> 1 | L91: =VLOOKUP(D91,$N$5:$P$10,3,FALSE) -> 5
B92: =VLOOKUP(D92,$N$5:$O$10,2,FALSE) -> i | C92: =C91+1 -> 44649 | D92: Importante | J92: =MONTH(C92) -> 3 | K92: =WEEKDAY(C92,2) -> 2 | L92: =VLOOKUP(D92,$N$5:$P$10,3,FALSE) -> 1
B93: =VLOOKUP(D93,$N$5:$O$10,2,FALSE) | C93: =C92+1 -> 44650 | J93: =MONTH(C93) -> 3 | K93: =WEEKDAY(C93,2) -> 3 | L93: =VLOOKUP(D93,$N$5:$P$10,3,FALSE) -> 5
B94: =VLOOKUP(D94,$N$5:$O$10,2,FALSE) | C94: =C93+1 -> 44651 | J94: =MONTH(C94) -> 3 | K94: =WEEKDAY(C94,2) -> 4 | L94: =VLOOKUP(D94,$N$5:$P$10,3,FALSE) -> 5
B95: =VLOOKUP(D95,$N$5:$O$10,2,FALSE) | C95: =C94+1 -> 44652 | J95: =MONTH(C95) -> 4 | K95: =WEEKDAY(C95,2) -> 5 | L95: =VLOOKUP(D95,$N$5:$P$10,3,FALSE) -> 5
B96: =VLOOKUP(D96,$N$5:$O$10,2,FALSE) | C96: =C95+1 -> 44653 | J96: =MONTH(C96) -> 4 | K96: =WEEKDAY(C96,2) -> 6 | L96: =VLOOKUP(D96,$N$5:$P$10,3,FALSE) -> 5
B97: =VLOOKUP(D97,$N$5:$O$10,2,FALSE) | C97: =C96+1 -> 44654 | J97: =MONTH(C97) -> 4 | K97: =WEEKDAY(C97,2) -> 7 | L97: =VLOOKUP(D97,$N$5:$P$10,3,FALSE) -> 5
B98: =VLOOKUP(D98,$N$5:$O$10,2,FALSE) | C98: =C97+1 -> 44655 | J98: =MONTH(C98) -> 4 | K98: =WEEKDAY(C98,2) -> 1 | L98: =VLOOKUP(D98,$N$5:$P$10,3,FALSE) -> 5
B99: =VLOOKUP(D99,$N$5:$O$10,2,FALSE) | C99: =C98+1 -> 44656 | J99: =MONTH(C99) -> 4 | K99: =WEEKDAY(C99,2) -> 2 | L99: =VLOOKUP(D99,$N$5:$P$10,3,FALSE) -> 5
B100: =VLOOKUP(D100,$N$5:$O$10,2,FALSE) | C100: =C99+1 -> 44657 | J100: =MONTH(C100) -> 4 | K100: =WEEKDAY(C100,2) -> 3 | L100: =VLOOKUP(D100,$N$5:$P$10,3,FALSE) -> 5
B101: =VLOOKUP(D101,$N$5:$O$10,2,FALSE) | C101: =C100+1 -> 44658 | J101: =MONTH(C101) -> 4 | K101: =WEEKDAY(C101,2) -> 4 | L101: =VLOOKUP(D101,$N$5:$P$10,3,FALSE) -> 5
B102: =VLOOKUP(D102,$N$5:$O$10,2,FALSE) | C102: =C101+1 -> 44659 | J102: =MONTH(C102) -> 4 | K102: =WEEKDAY(C102,2) -> 5 | L102: =VLOOKUP(D102,$N$5:$P$10,3,FALSE) -> 5
B103: =VLOOKUP(D103,$N$5:$O$10,2,FALSE) | C103: =C102+1 -> 44660 | J103: =MONTH(C103) -> 4 | K103: =WEEKDAY(C103,2) -> 6 | L103: =VLOOKUP(D103,$N$5:$P$10,3,FALSE) -> 5
B104: =VLOOKUP(D104,$N$5:$O$10,2,FALSE) | C104: =C103+1 -> 44661 | J104: =MONTH(C104) -> 4 | K104: =WEEKDAY(C104,2) -> 7 | L104: =VLOOKUP(D104,$N$5:$P$10,3,FALSE) -> 5
... B362: =VLOOKUP(D362,$N$5:$O$10,2,FALSE) | C362: =C361+1 -> 44919 | J362: =MONTH(C362) -> 12 | K362: =WEEKDAY(C362,2) -> 6 | L362: =VLOOKUP(D362,$N$5:$P$10,3,FALSE) -> 5
B363: =VLOOKUP(D363,$N$5:$O$10,2,FALSE) -> = | C363: =C362+1 -> 44920 | D363: Fiestas | J363: =MONTH(C363) -> 12 | K363: =WEEKDAY(C363,2) -> 7 | L363: =VLOOKUP(D363,$N$5:$P$10,3,FALSE) -> 3
B364: =VLOOKUP(D364,$N$5:$O$10,2,FALSE) -> = | C364: =C363+1 -> 44921 | D364: Vacaciones | J364: =MONTH(C364) -> 12 | K364: =WEEKDAY(C364,2) -> 1 | L364: =VLOOKUP(D364,$N$5:$P$10,3,FALSE) -> 4
B365: =VLOOKUP(D365,$N$5:$O$10,2,FALSE) -> = | C365: =C364+1 -> 44922 | D365: Vacaciones | J365: =MONTH(C365) -> 12 | K365: =WEEKDAY(C365,2) -> 2 | L365: =VLOOKUP(D365,$N$5:$P$10,3,FALSE) -> 4
B366: =VLOOKUP(D366,$N$5:$O$10,2,FALSE) -> = | C366: =C365+1 -> 44923 | D366: Vacaciones | J366: =MONTH(C366) -> 12 | K366: =WEEKDAY(C366,2) -> 3 | L366: =VLOOKUP(D366,$N$5:$P$10,3,FALSE) -> 4
B367: =VLOOKUP(D367,$N$5:$O$10,2,FALSE) -> = | C367: =C366+1 -> 44924 | D367: Vacaciones | J367: =MONTH(C367) -> 12 | K367: =WEEKDAY(C367,2) -> 4 | L367: =VLOOKUP(D367,$N$5:$P$10,3,FALSE) -> 4
B368: =VLOOKUP(D368,$N$5:$O$10,2,FALSE) -> = | C368: =C367+1 -> 44925 | D368: Vacaciones | J368: =MONTH(C368) -> 12 | K368: =WEEKDAY(C368,2) -> 5 | L368: =VLOOKUP(D368,$N$5:$P$10,3,FALSE) -> 4
B369: =VLOOKUP(D369,$N$5:$O$10,2,FALSE) -> ¦ | C369: =C368+1 -> 44926 | D369: Aniversario | J369: =MONTH(C369) -> 12 | K369: =WEEKDAY(C369,2) -> 6 | L369: =VLOOKUP(D369,$N$5:$P$10,3,FALSE) -> 2
B370: =VLOOKUP(D370,$N$5:$O$10,2,FALSE) | C370: =IF(DAY(C369)=30,C369+1,"") | J370: =MONTH(C370) -> #VALUE! | K370: =WEEKDAY(C370,2) -> #VALUE! | L370: =VLOOKUP(D370,$N$5:$P$10,3,FALSE) -> 5

Sheet Mini
B1: Mini Calendario
B5: =DATE(year,1,1) -> 44562 | C5: D | D5: L | E5: M | F5: X | G5: J | H5: V | I5: S | J5: S | K5: L | L5: M | M5: X | N5: J | O5: V | P5: S | Q5: D | R5: L | S5: M | T5: X | U5: J | V5: V | W5: S | X5: D | Y5: L | Z5: M | AA5: X | AB5: J | AC5: V | AD5: S | AE5: D | AF5: L | AG5: M | AH5: X | AI5: J | AJ5: V | AK5: S | AL5: D | AM5: L | AN5: M | AO5: X | AP5: J | AQ5: V | AR5: S
B6: =DATE(YEAR($B$5),ROWS($A$6:A6),1) -> 44562 | C6: {=Calendar} -> 44556 | D6: 44557 | E6: 44558 | F6: 44559 | G6: 44560 | H6: 44561 | I6: 44562 | J6: 44563 | K6: 44564 | L6: 44565 | M6: 44566 | N6: 44567 | O6: 44568 | P6: 44569 | Q6: 44570 | R6: 44571 | S6: 44572 | T6: 44573 | U6: 44574 | V6: 44575 | W6: 44576 | X6: 44577 | Y6: 44578 | Z6: 44579 | AA6: 44580 | AB6: 44581 | AC6: 44582 | AD6: 44583 | AE6: 44584 | AF6: 44585 | AG6: 44586 | AH6: 44587 | AI6: 44588 | AJ6: 44589 | AK6: 44590 | AL6: 44591 | AM6: 44592 | AN6: 44593 | AO6: 44594 | AP6: 44595 | AQ6: 44596 | AR6: 44597
B7: =DATE(YEAR($B$5),ROWS($A$6:A7),1) -> 44593 | C7: {=Calendar} -> 44591 | D7: 44592 | E7: 44593 | F7: 44594 | G7: 44595 | H7: 44596 | I7: 44597 | J7: 44598 | K7: 44599 | L7: 44600 | M7: 44601 | N7: 44602 | O7: 44603 | P7: 44604 | Q7: 44605 | R7: 44606 | S7: 44607 | T7: 44608 | U7: 44609 | V7: 44610 | W7: 44611 | X7: 44612 | Y7: 44613 | Z7: 44614 | AA7: 44615 | AB7: 44616 | AC7: 44617 | AD7: 44618 | AE7: 44619 | AF7: 44620 | AG7: 44621 | AH7: 44622 | AI7: 44623 | AJ7: 44624 | AK7: 44625 | AL7: 44626 | AM7: 44627 | AN7: 44628 | AO7: 44629 | AP7: 44630 | AQ7: 44631 | AR7: 44632
B8: =DATE(YEAR($B$5),ROWS($A$6:A8),1) -> 44621 | C8: {=Calendar} -> 44619 | D8: 44620 | E8: 44621 | F8: 44622 | G8: 44623 | H8: 44624 | I8: 44625 | J8: 44626 | K8: 44627 | L8: 44628 | M8: 44629 | N8: 44630 | O8: 44631 | P8: 44632 | Q8: 44633 | R8: 44634 | S8: 44635 | T8: 44636 | U8: 44637 | V8: 44638 | W8: 44639 | X8: 44640 | Y8: 44641 | Z8: 44642 | AA8: 44643 | AB8: 44644 | AC8: 44645 | AD8: 44646 | AE8: 44647 | AF8: 44648 | AG8: 44649 | AH8: 44650 | AI8: 44651 | AJ8: 44652 | AK8: 44653 | AL8: 44654 | AM8: 44655 | AN8: 44656 | AO8: 44657 | AP8: 44658 | AQ8: 44659 | AR8: 44660
B9: =DATE(YEAR($B$5),ROWS($A$6:A9),1) -> 44652 | C9: {=Calendar} -> 44647 | D9: 44648 | E9: 44649 | F9: 44650 | G9: 44651 | H9: 44652 | I9: 44653 | J9: 44654 | K9: 44655 | L9: 44656 | M9: 44657 | N9: 44658 | O9: 44659 | P9: 44660 | Q9: 44661 | R9: 44662 | S9: 44663 | T9: 44664 | U9: 44665 | V9: 44666 | W9: 44667 | X9: 44668 | Y9: 44669 | Z9: 44670 | AA9: 44671 | AB9: 44672 | AC9: 44673 | AD9: 44674 | AE9: 44675 | AF9: 44676 | AG9: 44677 | AH9: 44678 | AI9: 44679 | AJ9: 44680 | AK9: 44681 | AL9: 44682 | AM9: 44683 | AN9: 44684 | AO9: 44685 | AP9: 44686 | AQ9: 44687 | AR9: 44688
B10: =DATE(YEAR($B$5),ROWS($A$6:A10),1) -> 44682 | C10: {=Calendar} -> 44675 | D10: 44676 | E10: 44677 | F10: 44678 | G10: 44679 | H10: 44680 | I10: 44681 | J10: 44682 | K10: 44683 | L10: 44684 | M10: 44685 | N10: 44686 | O10: 44687 | P10: 44688 | Q10: 44689 | R10: 44690 | S10: 44691 | T10: 44692 | U10: 44693 | V10: 44694 | W10: 44695 | X10: 44696 | Y10: 44697 | Z10: 44698 | AA10: 44699 | AB10: 44700 | AC10: 44701 | AD10: 44702 | AE10: 44703 | AF10: 44704 | AG10: 44705 | AH10: 44706 | AI10: 44707 | AJ10: 44708 | AK10: 44709 | AL10: 44710 | AM10: 44711 | AN10: 44712 | AO10: 44713 | AP10: 44714 | AQ10: 44715 | AR10: 44716
B11: =DATE(YEAR($B$5),ROWS($A$6:A11),1) -> 44713 | C11: {=Calendar} -> 44710 | D11: 44711 | E11: 44712 | F11: 44713 | G11: 44714 | H11: 44715 | I11: 44716 | J11: 44717 | K11: 44718 | L11: 44719 | M11: 44720 | N11: 44721 | O11: 44722 | P11: 44723 | Q11: 44724 | R11: 44725 | S11: 44726 | T11: 44727 | U11: 44728 | V11: 44729 | W11: 44730 | X11: 44731 | Y11: 44732 | Z11: 44733 | AA11: 44734 | AB11: 44735 | AC11: 44736 | AD11: 44737 | AE11: 44738 | AF11: 44739 | AG11: 44740 | AH11: 44741 | AI11: 44742 | AJ11: 44743 | AK11: 44744 | AL11: 44745 | AM11: 44746 | AN11: 44747 | AO11: 44748 | AP11: 44749 | AQ11: 44750 | AR11: 44751
B12: =DATE(YEAR($B$5),ROWS($A$6:A12),1) -> 44743 | C12: {=Calendar} -> 44738 | D12: 44739 | E12: 44740 | F12: 44741 | G12: 44742 | H12: 44743 | I12: 44744 | J12: 44745 | K12: 44746 | L12: 44747 | M12: 44748 | N12: 44749 | O12: 44750 | P12: 44751 | Q12: 44752 | R12: 44753 | S12: 44754 | T12: 44755 | U12: 44756 | V12: 44757 | W12: 44758 | X12: 44759 | Y12: 44760 | Z12: 44761 | AA12: 44762 | AB12: 44763 | AC12: 44764 | AD12: 44765 | AE12: 44766 | AF12: 44767 | AG12: 44768 | AH12: 44769 | AI12: 44770 | AJ12: 44771 | AK12: 44772 | AL12: 44773 | AM12: 44774 | AN12: 44775 | AO12: 44776 | AP12: 44777 | AQ12: 44778 | AR12: 44779
B13: =DATE(YEAR($B$5),ROWS($A$6:A13),1) -> 44774 | C13: {=Calendar} -> 44773 | D13: 44774 | E13: 44775 | F13: 44776 | G13: 44777 | H13: 44778 | I13: 44779 | J13: 44780 | K13: 44781 | L13: 44782 | M13: 44783 | N13: 44784 | O13: 44785 | P13: 44786 | Q13: 44787 | R13: 44788 | S13: 44789 | T13: 44790 | U13: 44791 | V13: 44792 | W13: 44793 | X13: 44794 | Y13: 44795 | Z13: 44796 | AA13: 44797 | AB13: 44798 | AC13: 44799 | AD13: 44800 | AE13: 44801 | AF13: 44802 | AG13: 44803 | AH13: 44804 | AI13: 44805 | AJ13: 44806 | AK13: 44807 | AL13: 44808 | AM13: 44809 | AN13: 44810 | AO13: 44811 | AP13: 44812 | AQ13: 44813 | AR13: 44814
B14: =DATE(YEAR($B$5),ROWS($A$6:A14),1) -> 44805 | C14: {=Calendar} -> 44801 | D14: 44802 | E14: 44803 | F14: 44804 | G14: 44805 | H14: 44806 | I14: 44807 | J14: 44808 | K14: 44809 | L14: 44810 | M14: 44811 | N14: 44812 | O14: 44813 | P14: 44814 | Q14: 44815 | R14: 44816 | S14: 44817 | T14: 44818 | U14: 44819 | V14: 44820 | W14: 44821 | X14: 44822 | Y14: 44823 | Z14: 44824 | AA14: 44825 | AB14: 44826 | AC14: 44827 | AD14: 44828 | AE14: 44829 | AF14: 44830 | AG14: 44831 | AH14: 44832 | AI14: 44833 | AJ14: 44834 | AK14: 44835 | AL14: 44836 | AM14: 44837 | AN14: 44838 | AO14: 44839 | AP14: 44840 | AQ14: 44841 | AR14: 44842
B15: =DATE(YEAR($B$5),ROWS($A$6:A15),1) -> 44835 | C15: {=Calendar} -> 44829 | D15: 44830 | E15: 44831 | F15: 44832 | G15: 44833 | H15: 44834 | I15: 44835 | J15: 44836 | K15: 44837 | L15: 44838 | M15: 44839 | N15: 44840 | O15: 44841 | P15: 44842 | Q15: 44843 | R15: 44844 | S15: 44845 | T15: 44846 | U15: 44847 | V15: 44848 | W15: 44849 | X15: 44850 | Y15: 44851 | Z15: 44852 | AA15: 44853 | AB15: 44854 | AC15: 44855 | AD15: 44856 | AE15: 44857 | AF15: 44858 | AG15: 44859 | AH15: 44860 | AI15: 44861 | AJ15: 44862 | AK15: 44863 | AL15: 44864 | AM15: 44865 | AN15: 44866 | AO15: 44867 | AP15: 44868 | AQ15: 44869 | AR15: 44870
B16: =DATE(YEAR($B$5),ROWS($A$6:A16),1) -> 44866 | C16: {=Calendar} -> 44864 | D16: 44865 | E16: 44866 | F16: 44867 | G16: 44868 | H16: 44869 | I16: 44870 | J16: 44871 | K16: 44872 | L16: 44873 | M16: 44874 | N16: 44875 | O16: 44876 | P16: 44877 | Q16: 44878 | R16: 44879 | S16: 44880 | T16: 44881 | U16: 44882 | V16: 44883 | W16: 44884 | X16: 44885 | Y16: 44886 | Z16: 44887 | AA16: 44888 | AB16: 44889 | AC16: 44890 | AD16: 44891 | AE16: 44892 | AF16: 44893 | AG16: 44894 | AH16: 44895 | AI16: 44896 | AJ16: 44897 | AK16: 44898 | AL16: 44899 | AM16: 44900 | AN16: 44901 | AO16: 44902 | AP16: 44903 | AQ16: 44904 | AR16: 44905
B17: =DATE(YEAR($B$5),ROWS($A$6:A17),1) -> 44896 | C17: {=Calendar} -> 44892 | D17: 44893 | E17: 44894 | F17: 44895 | G17: 44896 | H17: 44897 | I17: 44898 | J17: 44899 | K17: 44900 | L17: 44901 | M17: 44902 | N17: 44903 | O17: 44904 | P17: 44905 | Q17: 44906 | R17: 44907 | S17: 44908 | T17: 44909 | U17: 44910 | V17: 44911 | W17: 44912 | X17: 44913 | Y17: 44914 | Z17: 44915 | AA17: 44916 | AB17: 44917 | AC17: 44918 | AD17: 44919 | AE17: 44920 | AF17: 44921 | AG17: 44922 | AH17: 44923 | AI17: 44924 | AJ17: 44925 | AK17: 44926 | AL17: 44927 | AM17: 44928 | AN17: 44929 | AO17: 44930 | AP17: 44931 | AQ17: 44932 | AR17: 44933

Sheet Calendario - color 1
B3: Año | D3: =year -> 2022 | AA3: Notas
B5: =Mini!B6 -> 44562 | J5: =Mini!B7 -> 44593 | R5: =Mini!B8 -> 44621
B6: Do | C6: Lu | D6: Ma | E6: Mi | F6: Ju | G6: Vi | H6: Sa | J6: Do | K6: Lu | L6: Ma | M6: Mi | N6: Ju | O6: Vi | P6: Sa | R6: Do | S6: Lu | T6: Ma | U6: Mi | V6: Ju | W6: Vi | X6: Sa
B7: =INDEX(m1_,1,(ROWS($B$7:B7)-1)*7+COLUMNS($B$7:B7)) -> 44556 | C7: =INDEX(m1_,1,(ROWS($B$7:C7)-1)*7+COLUMNS($B$7:C7)) -> 44557 | D7: =INDEX(m1_,1,(ROWS($B$7:D7)-1)*7+COLUMNS($B$7:D7)) -> 44558 | E7: =INDEX(m1_,1,(ROWS($B$7:E7)-1)*7+COLUMNS($B$7:E7)) -> 44559 | F7: =INDEX(m1_,1,(ROWS($B$7:F7)-1)*7+COLUMNS($B$7:F7)) -> 44560 | G7: =INDEX(m1_,1,(ROWS($B$7:G7)-1)*7+COLUMNS($B$7:G7)) -> 44561 | H7: =INDEX(m1_,1,(ROWS($B$7:H7)-1)*7+COLUMNS($B$7:H7)) -> 44562 | J7: =INDEX(m2_,1,(ROWS($J$7:J7)-1)*7+COLUMNS($J$7:J7)) -> 44591 | K7: =INDEX(m2_,1,(ROWS($J$7:K7)-1)*7+COLUMNS($J$7:K7)) -> 44592 | L7: =INDEX(m2_,1,(ROWS($J$7:L7)-1)*7+COLUMNS($J$7:L7)) -> 44593 | M7: =INDEX(m2_,1,(ROWS($J$7:M7)-1)*7+COLUMNS($J$7:M7)) -> 44594 | N7: =INDEX(m2_,1,(ROWS($J$7:N7)-1)*7+COLUMNS($J$7:N7)) -> 44595 | O7: =INDEX(m2_,1,(ROWS($J$7:O7)-1)*7+COLUMNS($J$7:O7)) -> 44596 | P7: =INDEX(m2_,1,(ROWS($J$7:P7)-1)*7+COLUMNS($J$7:P7)) -> 44597 | R7: =INDEX(m3_,1,(ROWS($R$7:R7)-1)*7+COLUMNS($R$7:R7)) -> 44619 | S7: =INDEX(m3_,1,(ROWS($R$7:S7)-1)*7+COLUMNS($R$7:S7)) -> 44620 | T7: =INDEX(m3_,1,(ROWS($R$7:T7)-1)*7+COLUMNS($R$7:T7)) -> 44621 | U7: =INDEX(m3_,1,(ROWS($R$7:U7)-1)*7+COLUMNS($R$7:U7)) -> 44622 | V7: =INDEX(m3_,1,(ROWS($R$7:V7)-1)*7+COLUMNS($R$7:V7)) -> 44623 | W7: =INDEX(m3_,1,(ROWS($R$7:W7)-1)*7+COLUMNS($R$7:W7)) -> 44624 | X7: =INDEX(m3_,1,(ROWS($R$7:X7)-1)*7+COLUMNS($R$7:X7)) -> 44625
B8: =INDEX(m1_,1,(ROWS($B$7:B8)-1)*7+COLUMNS($B$7:B8)) -> 44563 | C8: =INDEX(m1_,1,(ROWS($B$7:C8)-1)*7+COLUMNS($B$7:C8)) -> 44564 | D8: =INDEX(m1_,1,(ROWS($B$7:D8)-1)*7+COLUMNS($B$7:D8)) -> 44565 | E8: =INDEX(m1_,1,(ROWS($B$7:E8)-1)*7+COLUMNS($B$7:E8)) -> 44566 | F8: =INDEX(m1_,1,(ROWS($B$7:F8)-1)*7+COLUMNS($B$7:F8)) -> 44567 | G8: =INDEX(m1_,1,(ROWS($B$7:G8)-1)*7+COLUMNS($B$7:G8)) -> 44568 | H8: =INDEX(m1_,1,(ROWS($B$7:H8)-1)*7+COLUMNS($B$7:H8)) -> 44569 | J8: =INDEX(m2_,1,(ROWS($J$7:J8)-1)*7+COLUMNS($J$7:J8)) -> 44598 | K8: =INDEX(m2_,1,(ROWS($J$7:K8)-1)*7+COLUMNS($J$7:K8)) -> 44599 | L8: =INDEX(m2_,1,(ROWS($J$7:L8)-1)*7+COLUMNS($J$7:L8)) -> 44600 | M8: =INDEX(m2_,1,(ROWS($J$7:M8)-1)*7+COLUMNS($J$7:M8)) -> 44601 | N8: =INDEX(m2_,1,(ROWS($J$7:N8)-1)*7+COLUMNS($J$7:N8)) -> 44602 | O8: =INDEX(m2_,1,(ROWS($J$7:O8)-1)*7+COLUMNS($J$7:O8)) -> 44603 | P8: =INDEX(m2_,1,(ROWS($J$7:P8)-1)*7+COLUMNS($J$7:P8)) -> 44604 | R8: =INDEX(m3_,1,(ROWS($R$7:R8)-1)*7+COLUMNS($R$7:R8)) -> 44626 | S8: =INDEX(m3_,1,(ROWS($R$7:S8)-1)*7+COLUMNS($R$7:S8)) -> 44627 | T8: =INDEX(m3_,1,(ROWS($R$7:T8)-1)*7+COLUMNS($R$7:T8)) -> 44628 | U8: =INDEX(m3_,1,(ROWS($R$7:U8)-1)*7+COLUMNS($R$7:U8)) -> 44629 | V8: =INDEX(m3_,1,(ROWS($R$7:V8)-1)*7+COLUMNS($R$7:V8)) -> 44630 | W8: =INDEX(m3_,1,(ROWS($R$7:W8)-1)*7+COLUMNS($R$7:W8)) -> 44631 | X8: =INDEX(m3_,1,(ROWS($R$7:X8)-1)*7+COLUMNS($R$7:X8)) -> 44632
B9: =INDEX(m1_,1,(ROWS($B$7:B9)-1)*7+COLUMNS($B$7:B9)) -> 44570 | C9: =INDEX(m1_,1,(ROWS($B$7:C9)-1)*7+COLUMNS($B$7:C9)) -> 44571 | D9: =INDEX(m1_,1,(ROWS($B$7:D9)-1)*7+COLUMNS($B$7:D9)) -> 44572 | E9: =INDEX(m1_,1,(ROWS($B$7:E9)-1)*7+COLUMNS($B$7:E9)) -> 44573 | F9: =INDEX(m1_,1,(ROWS($B$7:F9)-1)*7+COLUMNS($B$7:F9)) -> 44574 | G9: =INDEX(m1_,1,(ROWS($B$7:G9)-1)*7+COLUMNS($B$7:G9)) -> 44575 | H9: =INDEX(m1_,1,(ROWS($B$7:H9)-1)*7+COLUMNS($B$7:H9)) -> 44576 | J9: =INDEX(m2_,1,(ROWS($J$7:J9)-1)*7+COLUMNS($J$7:J9)) -> 44605 | K9: =INDEX(m2_,1,(ROWS($J$7:K9)-1)*7+COLUMNS($J$7:K9)) -> 44606 | L9: =INDEX(m2_,1,(ROWS($J$7:L9)-1)*7+COLUMNS($J$7:L9)) -> 44607 | M9: =INDEX(m2_,1,(ROWS($J$7:M9)-1)*7+COLUMNS($J$7:M9)) -> 44608 | N9: =INDEX(m2_,1,(ROWS($J$7:N9)-1)*7+COLUMNS($J$7:N9)) -> 44609 | O9: =INDEX(m2_,1,(ROWS($J$7:O9)-1)*7+COLUMNS($J$7:O9)) -> 44610 | P9: =INDEX(m2_,1,(ROWS($J$7:P9)-1)*7+COLUMNS($J$7:P9)) -> 44611 | R9: =INDEX(m3_,1,(ROWS($R$7:R9)-1)*7+COLUMNS($R$7:R9)) -> 44633 | S9: =INDEX(m3_,1,(ROWS($R$7:S9)-1)*7+COLUMNS($R$7:S9)) -> 44634 | T9: =INDEX(m3_,1,(ROWS($R$7:T9)-1)*7+COLUMNS($R$7:T9)) -> 44635 | U9: =INDEX(m3_,1,(ROWS($R$7:U9)-1)*7+COLUMNS($R$7:U9)) -> 44636 | V9: =INDEX(m3_,1,(ROWS($R$7:V9)-1)*7+COLUMNS($R$7:V9)) -> 44637 | W9: =INDEX(m3_,1,(ROWS($R$7:W9)-1)*7+COLUMNS($R$7:W9)) -> 44638 | X9: =INDEX(m3_,1,(ROWS($R$7:X9)-1)*7+COLUMNS($R$7:X9)) -> 44639
B10: =INDEX(m1_,1,(ROWS($B$7:B10)-1)*7+COLUMNS($B$7:B10)) -> 44577 | C10: =INDEX(m1_,1,(ROWS($B$7:C10)-1)*7+COLUMNS($B$7:C10)) -> 44578 | D10: =INDEX(m1_,1,(ROWS($B$7:D10)-1)*7+COLUMNS($B$7:D10)) -> 44579 | E10: =INDEX(m1_,1,(ROWS($B$7:E10)-1)*7+COLUMNS($B$7:E10)) -> 44580 | F10: =INDEX(m1_,1,(ROWS($B$7:F10)-1)*7+COLUMNS($B$7:F10)) -> 44581 | G10: =INDEX(m1_,1,(ROWS($B$7:G10)-1)*7+COLUMNS($B$7:G10)) -> 44582 | H10: =INDEX(m1_,1,(ROWS($B$7:H10)-1)*7+COLUMNS($B$7:H10)) -> 44583 | J10: =INDEX(m2_,1,(ROWS($J$7:J10)-1)*7+COLUMNS($J$7:J10)) -> 44612 | K10: =INDEX(m2_,1,(ROWS($J$7:K10)-1)*7+COLUMNS($J$7:K10)) -> 44613 | L10: =INDEX(m2_,1,(ROWS($J$7:L10)-1)*7+COLUMNS($J$7:L10)) -> 44614 | M10: =INDEX(m2_,1,(ROWS($J$7:M10)-1)*7+COLUMNS($J$7:M10)) -> 44615 | N10: =INDEX(m2_,1,(ROWS($J$7:N10)-1)*7+COLUMNS($J$7:N10)) -> 44616 | O10: =INDEX(m2_,1,(ROWS($J$7:O10)-1)*7+COLUMNS($J$7:O10)) -> 44617 | P10: =INDEX(m2_,1,(ROWS($J$7:P10)-1)*7+COLUMNS($J$7:P10)) -> 44618 | R10: =INDEX(m3_,1,(ROWS($R$7:R10)-1)*7+COLUMNS($R$7:R10)) -> 44640 | S10: =INDEX(m3_,1,(ROWS($R$7:S10)-1)*7+COLUMNS($R$7:S10)) -> 44641 | T10: =INDEX(m3_,1,(ROWS($R$7:T10)-1)*7+COLUMNS($R$7:T10)) -> 44642 | U10: =INDEX(m3_,1,(ROWS($R$7:U10)-1)*7+COLUMNS($R$7:U10)) -> 44643 | V10: =INDEX(m3_,1,(ROWS($R$7:V10)-1)*7+COLUMNS($R$7:V10)) -> 44644 | W10: =INDEX(m3_,1,(ROWS($R$7:W10)-1)*7+COLUMNS($R$7:W10)) -> 44645 | X10: =INDEX(m3_,1,(ROWS($R$7:X10)-1)*7+COLUMNS($R$7:X10)) -> 44646
B11: =INDEX(m1_,1,(ROWS($B$7:B11)-1)*7+COLUMNS($B$7:B11)) -> 44584 | C11: =INDEX(m1_,1,(ROWS($B$7:C11)-1)*7+COLUMNS($B$7:C11)) -> 44585 | D11: =INDEX(m1_,1,(ROWS($B$7:D11)-1)*7+COLUMNS($B$7:D11)) -> 44586 | E11: =INDEX(m1_,1,(ROWS($B$7:E11)-1)*7+COLUMNS($B$7:E11)) -> 44587 | F11: =INDEX(m1_,1,(ROWS($B$7:F11)-1)*7+COLUMNS($B$7:F11)) -> 44588 | G11: =INDEX(m1_,1,(ROWS($B$7:G11)-1)*7+COLUMNS($B$7:G11)) -> 44589 | H11: =INDEX(m1_,1,(ROWS($B$7:H11)-1)*7+COLUMNS($B$7:H11)) -> 44590 | J11: =INDEX(m2_,1,(ROWS($J$7:J11)-1)*7+COLUMNS($J$7:J11)) -> 44619 | K11: =INDEX(m2_,1,(ROWS($J$7:K11)-1)*7+COLUMNS($J$7:K11)) -> 44620 | L11: =INDEX(m2_,1,(ROWS($J$7:L11)-1)*7+COLUMNS($J$7:L11)) -> 44621 | M11: =INDEX(m2_,1,(ROWS($J$7:M11)-1)*7+COLUMNS($J$7:M11)) -> 44622 | N11: =INDEX(m2_,1,(ROWS($J$7:N11)-1)*7+COLUMNS($J$7:N11)) -> 44623 | O11: =INDEX(m2_,1,(ROWS($J$7:O11)-1)*7+COLUMNS($J$7:O11)) -> 44624 | P11: =INDEX(m2_,1,(ROWS($J$7:P11)-1)*7+COLUMNS($J$7:P11)) -> 44625 | R11: =INDEX(m3_,1,(ROWS($R$7:R11)-1)*7+COLUMNS($R$7:R11)) -> 44647 | S11: =INDEX(m3_,1,(ROWS($R$7:S11)-1)*7+COLUMNS($R$7:S11)) -> 44648 | T11: =INDEX(m3_,1,(ROWS($R$7:T11)-1)*7+COLUMNS($R$7:T11)) -> 44649 | U11: =INDEX(m3_,1,(ROWS($R$7:U11)-1)*7+COLUMNS($R$7:U11)) -> 44650 | V11: =INDEX(m3_,1,(ROWS($R$7:V11)-1)*7+COLUMNS($R$7:V11)) -> 44651 | W11: =INDEX(m3_,1,(ROWS($R$7:W11)-1)*7+COLUMNS($R$7:W11)) -> 44652 | X11: =INDEX(m3_,1,(ROWS($R$7:X11)-1)*7+COLUMNS($R$7:X11)) -> 44653
B12: =INDEX(m1_,1,(ROWS($B$7:B12)-1)*7+COLUMNS($B$7:B12)) -> 44591 | C12: =INDEX(m1_,1,(ROWS($B$7:C12)-1)*7+COLUMNS($B$7:C12)) -> 44592 | D12: =INDEX(m1_,1,(ROWS($B$7:D12)-1)*7+COLUMNS($B$7:D12)) -> 44593 | E12: =INDEX(m1_,1,(ROWS($B$7:E12)-1)*7+COLUMNS($B$7:E12)) -> 44594 | F12: =INDEX(m1_,1,(ROWS($B$7:F12)-1)*7+COLUMNS($B$7:F12)) -> 44595 | G12: =INDEX(m1_,1,(ROWS($B$7:G12)-1)*7+COLUMNS($B$7:G12)) -> 44596 | H12: =INDEX(m1_,1,(ROWS($B$7:H12)-1)*7+COLUMNS($B$7:H12)) -> 44597 | J12: =INDEX(m2_,1,(ROWS($J$7:J12)-1)*7+COLUMNS($J$7:J12)) -> 44626 | K12: =INDEX(m2_,1,(ROWS($J$7:K12)-1)*7+COLUMNS($J$7:K12)) -> 44627 | L12: =INDEX(m2_,1,(ROWS($J$7:L12)-1)*7+COLUMNS($J$7:L12)) -> 44628 | M12: =INDEX(m2_,1,(ROWS($J$7:M12)-1)*7+COLUMNS($J$7:M12)) -> 44629 | N12: =INDEX(m2_,1,(ROWS($J$7:N12)-1)*7+COLUMNS($J$7:N12)) -> 44630 | O12: =INDEX(m2_,1,(ROWS($J$7:O12)-1)*7+COLUMNS($J$7:O12)) -> 44631 | P12: =INDEX(m2_,1,(ROWS($J$7:P12)-1)*7+COLUMNS($J$7:P12)) -> 44632 | R12: =INDEX(m3_,1,(ROWS($R$7:R12)-1)*7+COLUMNS($R$7:R12)) -> 44654 | S12: =INDEX(m3_,1,(ROWS($R$7:S12)-1)*7+COLUMNS($R$7:S12)) -> 44655 | T12: =INDEX(m3_,1,(ROWS($R$7:T12)-1)*7+COLUMNS($R$7:T12)) -> 44656 | U12: =INDEX(m3_,1,(ROWS($R$7:U12)-1)*7+COLUMNS($R$7:U12)) -> 44657 | V12: =INDEX(m3_,1,(ROWS($R$7:V12)-1)*7+COLUMNS($R$7:V12)) -> 44658 | W12: =INDEX(m3_,1,(ROWS($R$7:W12)-1)*7+COLUMNS($R$7:W12)) -> 44659 | X12: =INDEX(m3_,1,(ROWS($R$7:X12)-1)*7+COLUMNS($R$7:X12)) -> 44660
B14: =Mini!B9 -> 44652 | J14: =Mini!B10 -> 44682 | R14: =Mini!B11 -> 44713
B15: Do | C15: Lu | D15: Ma | E15: Mi | F15: Ju | G15: Vi | H15: Sa | J15: Do | K15: Lu | L15: Ma | M15: Mi | N15: Ju | O15: Vi | P15: Sa | R15: Do | S15: Lu | T15: Ma | U15: Mi | V15: Ju | W15: Vi | X15: Sa
B16: =INDEX(m4_,1,(ROWS($B$16:B16)-1)*7+COLUMNS($B$16:B16)) -> 44647 | C16: =INDEX(m4_,1,(ROWS($B$16:C16)-1)*7+COLUMNS($B$16:C16)) -> 44648 | D16: =INDEX(m4_,1,(ROWS($B$16:D16)-1)*7+COLUMNS($B$16:D16)) -> 44649 | E16: =INDEX(m4_,1,(ROWS($B$16:E16)-1)*7+COLUMNS($B$16:E16)) -> 44650 | F16: =INDEX(m4_,1,(ROWS($B$16:F16)-1)*7+COLUMNS($B$16:F16)) -> 44651 | G16: =INDEX(m4_,1,(ROWS($B$16:G16)-1)*7+COLUMNS($B$16:G16)) -> 44652 | H16: =INDEX(m4_,1,(ROWS($B$16:H16)-1)*7+COLUMNS($B$16:H16)) -> 44653 | J16: =INDEX(m5_,1,(ROWS($J$16:J16)-1)*7+COLUMNS($J$16:J16)) -> 44675 | K16: =INDEX(m5_,1,(ROWS($J$16:K16)-1)*7+COLUMNS($J$16:K16)) -> 44676 | L16: =INDEX(m5_,1,(ROWS($J$16:L16)-1)*7+COLUMNS($J$16:L16)) -> 44677 | M16: =INDEX(m5_,1,(ROWS($J$16:M16)-1)*7+COLUMNS($J$16:M16)) -> 44678 | N16: =INDEX(m5_,1,(ROWS($J$16:N16)-1)*7+COLUMNS($J$16:N16)) -> 44679 | O16: =INDEX(m5_,1,(ROWS($J$16:O16)-1)*7+COLUMNS($J$16:O16)) -> 44680 | P16: =INDEX(m5_,1,(ROWS($J$16:P16)-1)*7+COLUMNS($J$16:P16)) -> 44681 | R16: =INDEX(m6_,1,(ROWS($R$16:R16)-1)*7+COLUMNS($R$16:R16)) -> 44710 | S16: =INDEX(m6_,1,(ROWS($R$16:S16)-1)*7+COLUMNS($R$16:S16)) -> 44711 | T16: =INDEX(m6_,1,(ROWS($R$16:T16)-1)*7+COLUMNS($R$16:T16)) -> 44712 | U16: =INDEX(m6_,1,(ROWS($R$16:U16)-1)*7+COLUMNS($R$16:U16)) -> 44713 | V16: =INDEX(m6_,1,(ROWS($R$16:V16)-1)*7+COLUMNS($R$16:V16)) -> 44714 | W16: =INDEX(m6_,1,(ROWS($R$16:W16)-1)*7+COLUMNS($R$16:W16)) -> 44715 | X16: =INDEX(m6_,1,(ROWS($R$16:X16)-1)*7+COLUMNS($R$16:X16)) -> 44716
B17: =INDEX(m4_,1,(ROWS($B$16:B17)-1)*7+COLUMNS($B$16:B17)) -> 44654 | C17: =INDEX(m4_,1,(ROWS($B$16:C17)-1)*7+COLUMNS($B$16:C17)) -> 44655 | D17: =INDEX(m4_,1,(ROWS($B$16:D17)-1)*7+COLUMNS($B$16:D17)) -> 44656 | E17: =INDEX(m4_,1,(ROWS($B$16:E17)-1)*7+COLUMNS($B$16:E17)) -> 44657 | F17: =INDEX(m4_,1,(ROWS($B$16:F17)-1)*7+COLUMNS($B$16:F17)) -> 44658 | G17: =INDEX(m4_,1,(ROWS($B$16:G17)-1)*7+COLUMNS($B$16:G17)) -> 44659 | H17: =INDEX(m4_,1,(ROWS($B$16:H17)-1)*7+COLUMNS($B$16:H17)) -> 44660 | J17: =INDEX(m5_,1,(ROWS($J$16:J17)-1)*7+COLUMNS($J$16:J17)) -> 44682 | K17: =INDEX(m5_,1,(ROWS($J$16:K17)-1)*7+COLUMNS($J$16:K17)) -> 44683 | L17: =INDEX(m5_,1,(ROWS($J$16:L17)-1)*7+COLUMNS($J$16:L17)) -> 44684 | M17: =INDEX(m5_,1,(ROWS($J$16:M17)-1)*7+COLUMNS($J$16:M17)) -> 44685 | N17: =INDEX(m5_,1,(ROWS($J$16:N17)-1)*7+COLUMNS($J$16:N17)) -> 44686 | O17: =INDEX(m5_,1,(ROWS($J$16:O17)-1)*7+COLUMNS($J$16:O17)) -> 44687 | P17: =INDEX(m5_,1,(ROWS($J$16:P17)-1)*7+COLUMNS($J$16:P17)) -> 44688 | R17: =INDEX(m6_,1,(ROWS($R$16:R17)-1)*7+COLUMNS($R$16:R17)) -> 44717 | S17: =INDEX(m6_,1,(ROWS($R$16:S17)-1)*7+COLUMNS($R$16:S17)) -> 44718 | T17: =INDEX(m6_,1,(ROWS($R$16:T17)-1)*7+COLUMNS($R$16:T17)) -> 44719 | U17: =INDEX(m6_,1,(ROWS($R$16:U17)-1)*7+COLUMNS($R$16:U17)) -> 44720 | V17: =INDEX(m6_,1,(ROWS($R$16:V17)-1)*7+COLUMNS($R$16:V17)) -> 44721 | W17: =INDEX(m6_,1,(ROWS($R$16:W17)-1)*7+COLUMNS($R$16:W17)) -> 44722 | X17: =INDEX(m6_,1,(ROWS($R$16:X17)-1)*7+COLUMNS($R$16:X17)) -> 44723
B18: =INDEX(m4_,1,(ROWS($B$16:B18)-1)*7+COLUMNS($B$16:B18)) -> 44661 | C18: =INDEX(m4_,1,(ROWS($B$16:C18)-1)*7+COLUMNS($B$16:C18)) -> 44662 | D18: =INDEX(m4_,1,(ROWS($B$16:D18)-1)*7+COLUMNS($B$16:D18)) -> 44663 | E18: =INDEX(m4_,1,(ROWS($B$16:E18)-1)*7+COLUMNS($B$16:E18)) -> 44664 | F18: =INDEX(m4_,1,(ROWS($B$16:F18)-1)*7+COLUMNS($B$16:F18)) -> 44665 | G18: =INDEX(m4_,1,(ROWS($B$16:G18)-1)*7+COLUMNS($B$16:G18)) -> 44666 | H18: =INDEX(m4_,1,(ROWS($B$16:H18)-1)*7+COLUMNS($B$16:H18)) -> 44667 | J18: =INDEX(m5_,1,(ROWS($J$16:J18)-1)*7+COLUMNS($J$16:J18)) -> 44689 | K18: =INDEX(m5_,1,(ROWS($J$16:K18)-1)*7+COLUMNS($J$16:K18)) -> 44690 | L18: =INDEX(m5_,1,(ROWS($J$16:L18)-1)*7+COLUMNS($J$16:L18)) -> 44691 | M18: =INDEX(m5_,1,(ROWS($J$16:M18)-1)*7+COLUMNS($J$16:M18)) -> 44692 | N18: =INDEX(m5_,1,(ROWS($J$16:N18)-1)*7+COLUMNS($J$16:N18)) -> 44693 | O18: =INDEX(m5_,1,(ROWS($J$16:O18)-1)*7+COLUMNS($J$16:O18)) -> 44694 | P18: =INDEX(m5_,1,(ROWS($J$16:P18)-1)*7+COLUMNS($J$16:P18)) -> 44695 | R18: =INDEX(m6_,1,(ROWS($R$16:R18)-1)*7+COLUMNS($R$16:R18)) -> 44724 | S18: =INDEX(m6_,1,(ROWS($R$16:S18)-1)*7+COLUMNS($R$16:S18)) -> 44725 | T18: =INDEX(m6_,1,(ROWS($R$16:T18)-1)*7+COLUMNS($R$16:T18)) -> 44726 | U18: =INDEX(m6_,1,(ROWS($R$16:U18)-1)*7+COLUMNS($R$16:U18)) -> 44727 | V18: =INDEX(m6_,1,(ROWS($R$16:V18)-1)*7+COLUMNS($R$16:V18)) -> 44728 | W18: =INDEX(m6_,1,(ROWS($R$16:W18)-1)*7+COLUMNS($R$16:W18)) -> 44729 | X18: =INDEX(m6_,1,(ROWS($R$16:X18)-1)*7+COLUMNS($R$16:X18)) -> 44730
B19: =INDEX(m4_,1,(ROWS($B$16:B19)-1)*7+COLUMNS($B$16:B19)) -> 44668 | C19: =INDEX(m4_,1,(ROWS($B$16:C19)-1)*7+COLUMNS($B$16:C19)) -> 44669 | D19: =INDEX(m4_,1,(ROWS($B$16:D19)-1)*7+COLUMNS($B$16:D19)) -> 44670 | E19: =INDEX(m4_,1,(ROWS($B$16:E19)-1)*7+COLUMNS($B$16:E19)) -> 44671 | F19: =INDEX(m4_,1,(ROWS($B$16:F19)-1)*7+COLUMNS($B$16:F19)) -> 44672 | G19: =INDEX(m4_,1,(ROWS($B$16:G19)-1)*7+COLUMNS($B$16:G19)) -> 44673 | H19: =INDEX(m4_,1,(ROWS($B$16:H19)-1)*7+COLUMNS($B$16:H19)) -> 44674 | J19: =INDEX(m5_,1,(ROWS($J$16:J19)-1)*7+COLUMNS($J$16:J19)) -> 44696 | K19: =INDEX(m5_,1,(ROWS($J$16:K19)-1)*7+COLUMNS($J$16:K19)) -> 44697 | L19: =INDEX(m5_,1,(ROWS($J$16:L19)-1)*7+COLUMNS($J$16:L19)) -> 44698 | M19: =INDEX(m5_,1,(ROWS($J$16:M19)-1)*7+COLUMNS($J$16:M19)) -> 44699 | N19: =INDEX(m5_,1,(ROWS($J$16:N19)-1)*7+COLUMNS($J$16:N19)) -> 44700 | O19: =INDEX(m5_,1,(ROWS($J$16:O19)-1)*7+COLUMNS($J$16:O19)) -> 44701 | P19: =INDEX(m5_,1,(ROWS($J$16:P19)-1)*7+COLUMNS($J$16:P19)) -> 44702 | R19: =INDEX(m6_,1,(ROWS($R$16:R19)-1)*7+COLUMNS($R$16:R19)) -> 44731 | S19: =INDEX(m6_,1,(ROWS($R$16:S19)-1)*7+COLUMNS($R$16:S19)) -> 44732 | T19: =INDEX(m6_,1,(ROWS($R$16:T19)-1)*7+COLUMNS($R$16:T19)) -> 44733 | U19: =INDEX(m6_,1,(ROWS($R$16:U19)-1)*7+COLUMNS($R$16:U19)) -> 44734 | V19: =INDEX(m6_,1,(ROWS($R$16:V19)-1)*7+COLUMNS($R$16:V19)) -> 44735 | W19: =INDEX(m6_,1,(ROWS($R$16:W19)-1)*7+COLUMNS($R$16:W19)) -> 44736 | X19: =INDEX(m6_,1,(ROWS($R$16:X19)-1)*7+COLUMNS($R$16:X19)) -> 44737
B20: =INDEX(m4_,1,(ROWS($B$16:B20)-1)*7+COLUMNS($B$16:B20)) -> 44675 | C20: =INDEX(m4_,1,(ROWS($B$16:C20)-1)*7+COLUMNS($B$16:C20)) -> 44676 | D20: =INDEX(m4_,1,(ROWS($B$16:D20)-1)*7+COLUMNS($B$16:D20)) -> 44677 | E20: =INDEX(m4_,1,(ROWS($B$16:E20)-1)*7+COLUMNS($B$16:E20)) -> 44678 | F20: =INDEX(m4_,1,(ROWS($B$16:F20)-1)*7+COLUMNS($B$16:F20)) -> 44679 | G20: =INDEX(m4_,1,(ROWS($B$16:G20)-1)*7+COLUMNS($B$16:G20)) -> 44680 | H20: =INDEX(m4_,1,(ROWS($B$16:H20)-1)*7+COLUMNS($B$16:H20)) -> 44681 | J20: =INDEX(m5_,1,(ROWS($J$16:J20)-1)*7+COLUMNS($J$16:J20)) -> 44703 | K20: =INDEX(m5_,1,(ROWS($J$16:K20)-1)*7+COLUMNS($J$16:K20)) -> 44704 | L20: =INDEX(m5_,1,(ROWS($J$16:L20)-1)*7+COLUMNS($J$16:L20)) -> 44705 | M20: =INDEX(m5_,1,(ROWS($J$16:M20)-1)*7+COLUMNS($J$16:M20)) -> 44706 | N20: =INDEX(m5_,1,(ROWS($J$16:N20)-1)*7+COLUMNS($J$16:N20)) -> 44707 | O20: =INDEX(m5_,1,(ROWS($J$16:O20)-1)*7+COLUMNS($J$16:O20)) -> 44708 | P20: =INDEX(m5_,1,(ROWS($J$16:P20)-1)*7+COLUMNS($J$16:P20)) -> 44709 | R20: =INDEX(m6_,1,(ROWS($R$16:R20)-1)*7+COLUMNS($R$16:R20)) -> 44738 | S20: =INDEX(m6_,1,(ROWS($R$16:S20)-1)*7+COLUMNS($R$16:S20)) -> 44739 | T20: =INDEX(m6_,1,(ROWS($R$16:T20)-1)*7+COLUMNS($R$16:T20)) -> 44740 | U20: =INDEX(m6_,1,(ROWS($R$16:U20)-1)*7+COLUMNS($R$16:U20)) -> 44741 | V20: =INDEX(m6_,1,(ROWS($R$16:V20)-1)*7+COLUMNS($R$16:V20)) -> 44742 | W20: =INDEX(m6_,1,(ROWS($R$16:W20)-1)*7+COLUMNS($R$16:W20)) -> 44743 | X20: =INDEX(m6_,1,(ROWS($R$16:X20)-1)*7+COLUMNS($R$16:X20)) -> 44744
B21: =INDEX(m4_,1,(ROWS($B$16:B21)-1)*7+COLUMNS($B$16:B21)) -> 44682 | C21: =INDEX(m4_,1,(ROWS($B$16:C21)-1)*7+COLUMNS($B$16:C21)) -> 44683 | D21: =INDEX(m4_,1,(ROWS($B$16:D21)-1)*7+COLUMNS($B$16:D21)) -> 44684 | E21: =INDEX(m4_,1,(ROWS($B$16:E21)-1)*7+COLUMNS($B$16:E21)) -> 44685 | F21: =INDEX(m4_,1,(ROWS($B$16:F21)-1)*7+COLUMNS($B$16:F21)) -> 44686 | G21: =INDEX(m4_,1,(ROWS($B$16:G21)-1)*7+COLUMNS($B$16:G21)) -> 44687 | H21: =INDEX(m4_,1,(ROWS($B$16:H21)-1)*7+COLUMNS($B$16:H21)) -> 44688 | J21: =INDEX(m5_,1,(ROWS($J$16:J21)-1)*7+COLUMNS($J$16:J21)) -> 44710 | K21: =INDEX(m5_,1,(ROWS($J$16:K21)-1)*7+COLUMNS($J$16:K21)) -> 44711 | L21: =INDEX(m5_,1,(ROWS($J$16:L21)-1)*7+COLUMNS($J$16:L21)) -> 44712 | M21: =INDEX(m5_,1,(ROWS($J$16:M21)-1)*7+COLUMNS($J$16:M21)) -> 44713 | N21: =INDEX(m5_,1,(ROWS($J$16:N21)-1)*7+COLUMNS($J$16:N21)) -> 44714 | O21: =INDEX(m5_,1,(ROWS($J$16:O21)-1)*7+COLUMNS($J$16:O21)) -> 44715 | P21: =INDEX(m5_,1,(ROWS($J$16:P21)-1)*7+COLUMNS($J$16:P21)) -> 44716 | R21: =INDEX(m6_,1,(ROWS($R$16:R21)-1)*7+COLUMNS($R$16:R21)) -> 44745 | S21: =INDEX(m6_,1,(ROWS($R$16:S21)-1)*7+COLUMNS($R$16:S21)) -> 44746 | T21: =INDEX(m6_,1,(ROWS($R$16:T21)-1)*7+COLUMNS($R$16:T21)) -> 44747 | U21: =INDEX(m6_,1,(ROWS($R$16:U21)-1)*7+COLUMNS($R$16:U21)) -> 44748 | V21: =INDEX(m6_,1,(ROWS($R$16:V21)-1)*7+COLUMNS($R$16:V21)) -> 44749 | W21: =INDEX(m6_,1,(ROWS($R$16:W21)-1)*7+COLUMNS($R$16:W21)) -> 44750 | X21: =INDEX(m6_,1,(ROWS($R$16:X21)-1)*7+COLUMNS($R$16:X21)) -> 44751
B23: =Mini!B12 -> 44743 | J23: =Mini!B13 -> 44774 | R23: =Mini!B14 -> 44805
B24: Do | C24: Lu | D24: Ma | E24: Mi | F24: Ju | G24: Vi | H24: Sa | J24: Do | K24: Lu | L24: Ma | M24: Mi | N24: Ju | O24: Vi | P24: Sa | R24: Do | S24: Lu | T24: Ma | U24: Mi | V24: Ju | W24: Vi | X24: Sa
B25: =INDEX(m7_,1,(ROWS($B$25:B25)-1)*7+COLUMNS($B$25:B25)) -> 44738 | C25: =INDEX(m7_,1,(ROWS($B$25:C25)-1)*7+COLUMNS($B$25:C25)) -> 44739 | D25: =INDEX(m7_,1,(ROWS($B$25:D25)-1)*7+COLUMNS($B$25:D25)) -> 44740 | E25: =INDEX(m7_,1,(ROWS($B$25:E25)-1)*7+COLUMNS($B$25:E25)) -> 44741 | F25: =INDEX(m7_,1,(ROWS($B$25:F25)-1)*7+COLUMNS($B$25:F25)) -> 44742 | G25: =INDEX(m7_,1,(ROWS($B$25:G25)-1)*7+COLUMNS($B$25:G25)) -> 44743 | H25: =INDEX(m7_,1,(ROWS($B$25:H25)-1)*7+COLUMNS($B$25:H25)) -> 44744 | J25: =INDEX(m8_,1,(ROWS($J$25:J25)-1)*7+COLUMNS($J$25:J25)) -> 44773 | K25: =INDEX(m8_,1,(ROWS($J$25:K25)-1)*7+COLUMNS($J$25:K25)) -> 44774 | L25: =INDEX(m8_,1,(ROWS($J$25:L25)-1)*7+COLUMNS($J$25:L25)) -> 44775 | M25: =INDEX(m8_,1,(ROWS($J$25:M25)-1)*7+COLUMNS($J$25:M25)) -> 44776 | N25: =INDEX(m8_,1,(ROWS($J$25:N25)-1)*7+COLUMNS($J$25:N25)) -> 44777 | O25: =INDEX(m8_,1,(ROWS($J$25:O25)-1)*7+COLUMNS($J$25:O25)) -> 44778 | P25: =INDEX(m8_,1,(ROWS($J$25:P25)-1)*7+COLUMNS($J$25:P25)) -> 44779 | R25: =INDEX(m9_,1,(ROWS($R$25:R25)-1)*7+COLUMNS($R$25:R25)) -> 44801 | S25: =INDEX(m9_,1,(ROWS($R$25:S25)-1)*7+COLUMNS($R$25:S25)) -> 44802 | T25: =INDEX(m9_,1,(ROWS($R$25:T25)-1)*7+COLUMNS($R$25:T25)) -> 44803 | U25: =INDEX(m9_,1,(ROWS($R$25:U25)-1)*7+COLUMNS($R$25:U25)) -> 44804 | V25: =INDEX(m9_,1,(ROWS($R$25:V25)-1)*7+COLUMNS($R$25:V25)) -> 44805 | W25: =INDEX(m9_,1,(ROWS($R$25:W25)-1)*7+COLUMNS($R$25:W25)) -> 44806 | X25: =INDEX(m9_,1,(ROWS($R$25:X25)-1)*7+COLUMNS($R$25:X25)) -> 44807
B26: =INDEX(m7_,1,(ROWS($B$25:B26)-1)*7+COLUMNS($B$25:B26)) -> 44745 | C26: =INDEX(m7_,1,(ROWS($B$25:C26)-1)*7+COLUMNS($B$25:C26)) -> 44746 | D26: =INDEX(m7_,1,(ROWS($B$25:D26)-1)*7+COLUMNS($B$25:D26)) -> 44747 | E26: =INDEX(m7_,1,(ROWS($B$25:E26)-1)*7+COLUMNS($B$25:E26)) -> 44748 | F26: =INDEX(m7_,1,(ROWS($B$25:F26)-1)*7+COLUMNS($B$25:F26)) -> 44749 | G26: =INDEX(m7_,1,(ROWS($B$25:G26)-1)*7+COLUMNS($B$25:G26)) -> 44750 | H26: =INDEX(m7_,1,(ROWS($B$25:H26)-1)*7+COLUMNS($B$25:H26)) -> 44751 | J26: =INDEX(m8_,1,(ROWS($J$25:J26)-1)*7+COLUMNS($J$25:J26)) -> 44780 | K26: =INDEX(m8_,1,(ROWS($J$25:K26)-1)*7+COLUMNS($J$25:K26)) -> 44781 | L26: =INDEX(m8_,1,(ROWS($J$25:L26)-1)*7+COLUMNS($J$25:L26)) -> 44782 | M26: =INDEX(m8_,1,(ROWS($J$25:M26)-1)*7+COLUMNS($J$25:M26)) -> 44783 | N26: =INDEX(m8_,1,(ROWS($J$25:N26)-1)*7+COLUMNS($J$25:N26)) -> 44784 | O26: =INDEX(m8_,1,(ROWS($J$25:O26)-1)*7+COLUMNS($J$25:O26)) -> 44785 | P26: =INDEX(m8_,1,(ROWS($J$25:P26)-1)*7+COLUMNS($J$25:P26)) -> 44786 | R26: =INDEX(m9_,1,(ROWS($R$25:R26)-1)*7+COLUMNS($R$25:R26)) -> 44808 | S26: =INDEX(m9_,1,(ROWS($R$25:S26)-1)*7+COLUMNS($R$25:S26)) -> 44809 | T26: =INDEX(m9_,1,(ROWS($R$25:T26)-1)*7+COLUMNS($R$25:T26)) -> 44810 | U26: =INDEX(m9_,1,(ROWS($R$25:U26)-1)*7+COLUMNS($R$25:U26)) -> 44811 | V26: =INDEX(m9_,1,(ROWS($R$25:V26)-1)*7+COLUMNS($R$25:V26)) -> 44812 | W26: =INDEX(m9_,1,(ROWS($R$25:W26)-1)*7+COLUMNS($R$25:W26)) -> 44813 | X26: =INDEX(m9_,1,(ROWS($R$25:X26)-1)*7+COLUMNS($R$25:X26)) -> 44814
B27: =INDEX(m7_,1,(ROWS($B$25:B27)-1)*7+COLUMNS($B$25:B27)) -> 44752 | C27: =INDEX(m7_,1,(ROWS($B$25:C27)-1)*7+COLUMNS($B$25:C27)) -> 44753 | D27: =INDEX(m7_,1,(ROWS($B$25:D27)-1)*7+COLUMNS($B$25:D27)) -> 44754 | E27: =INDEX(m7_,1,(ROWS($B$25:E27)-1)*7+COLUMNS($B$25:E27)) -> 44755 | F27: =INDEX(m7_,1,(ROWS($B$25:F27)-1)*7+COLUMNS($B$25:F27)) -> 44756 | G27: =INDEX(m7_,1,(ROWS($B$25:G27)-1)*7+COLUMNS($B$25:G27)) -> 44757 | H27: =INDEX(m7_,1,(ROWS($B$25:H27)-1)*7+COLUMNS($B$25:H27)) -> 44758 | J27: =INDEX(m8_,1,(ROWS($J$25:J27)-1)*7+COLUMNS($J$25:J27)) -> 44787 | K27: =INDEX(m8_,1,(ROWS($J$25:K27)-1)*7+COLUMNS($J$25:K27)) -> 44788 | L27: =INDEX(m8_,1,(ROWS($J$25:L27)-1)*7+COLUMNS($J$25:L27)) -> 44789 | M27: =INDEX(m8_,1,(ROWS($J$25:M27)-1)*7+COLUMNS($J$25:M27)) -> 44790 | N27: =INDEX(m8_,1,(ROWS($J$25:N27)-1)*7+COLUMNS($J$25:N27)) -> 44791 | O27: =INDEX(m8_,1,(ROWS($J$25:O27)-1)*7+COLUMNS($J$25:O27)) -> 44792 | P27: =INDEX(m8_,1,(ROWS($J$25:P27)-1)*7+COLUMNS($J$25:P27)) -> 44793 | R27: =INDEX(m9_,1,(ROWS($R$25:R27)-1)*7+COLUMNS($R$25:R27)) -> 44815 | S27: =INDEX(m9_,1,(ROWS($R$25:S27)-1)*7+COLUMNS($R$25:S27)) -> 44816 | T27: =INDEX(m9_,1,(ROWS($R$25:T27)-1)*7+COLUMNS($R$25:T27)) -> 44817 | U27: =INDEX(m9_,1,(ROWS($R$25:U27)-1)*7+COLUMNS($R$25:U27)) -> 44818 | V27: =INDEX(m9_,1,(ROWS($R$25:V27)-1)*7+COLUMNS($R$25:V27)) -> 44819 | W27: =INDEX(m9_,1,(ROWS($R$25:W27)-1)*7+COLUMNS($R$25:W27)) -> 44820 | X27: =INDEX(m9_,1,(ROWS($R$25:X27)-1)*7+COLUMNS($R$25:X27)) -> 44821
B28: =INDEX(m7_,1,(ROWS($B$25:B28)-1)*7+COLUMNS($B$25:B28)) -> 44759 | C28: =INDEX(m7_,1,(ROWS($B$25:C28)-1)*7+COLUMNS($B$25:C28)) -> 44760 | D28: =INDEX(m7_,1,(ROWS($B$25:D28)-1)*7+COLUMNS($B$25:D28)) -> 44761 | E28: =INDEX(m7_,1,(ROWS($B$25:E28)-1)*7+COLUMNS($B$25:E28)) -> 44762 | F28: =INDEX(m7_,1,(ROWS($B$25:F28)-1)*7+COLUMNS($B$25:F28)) -> 44763 | G28: =INDEX(m7_,1,(ROWS($B$25:G28)-1)*7+COLUMNS($B$25:G28)) -> 44764 | H28: =INDEX(m7_,1,(ROWS($B$25:H28)-1)*7+COLUMNS($B$25:H28)) -> 44765 | J28: =INDEX(m8_,1,(ROWS($J$25:J28)-1)*7+COLUMNS($J$25:J28)) -> 44794 | K28: =INDEX(m8_,1,(ROWS($J$25:K28)-1)*7+COLUMNS($J$25:K28)) -> 44795 | L28: =INDEX(m8_,1,(ROWS($J$25:L28)-1)*7+COLUMNS($J$25:L28)) -> 44796 | M28: =INDEX(m8_,1,(ROWS($J$25:M28)-1)*7+COLUMNS($J$25:M28)) -> 44797 | N28: =INDEX(m8_,1,(ROWS($J$25:N28)-1)*7+COLUMNS($J$25:N28)) -> 44798 | O28: =INDEX(m8_,1,(ROWS($J$25:O28)-1)*7+COLUMNS($J$25:O28)) -> 44799 | P28: =INDEX(m8_,1,(ROWS($J$25:P28)-1)*7+COLUMNS($J$25:P28)) -> 44800 | R28: =INDEX(m9_,1,(ROWS($R$25:R28)-1)*7+COLUMNS($R$25:R28)) -> 44822 | S28: =INDEX(m9_,1,(ROWS($R$25:S28)-1)*7+COLUMNS($R$25:S28)) -> 44823 | T28: =INDEX(m9_,1,(ROWS($R$25:T28)-1)*7+COLUMNS($R$25:T28)) -> 44824 | U28: =INDEX(m9_,1,(ROWS($R$25:U28)-1)*7+COLUMNS($R$25:U28)) -> 44825 | V28: =INDEX(m9_,1,(ROWS($R$25:V28)-1)*7+COLUMNS($R$25:V28)) -> 44826 | W28: =INDEX(m9_,1,(ROWS($R$25:W28)-1)*7+COLUMNS($R$25:W28)) -> 44827 | X28: =INDEX(m9_,1,(ROWS($R$25:X28)-1)*7+COLUMNS($R$25:X28)) -> 44828
B29: =INDEX(m7_,1,(ROWS($B$25:B29)-1)*7+COLUMNS($B$25:B29)) -> 44766 | C29: =INDEX(m7_,1,(ROWS($B$25:C29)-1)*7+COLUMNS($B$25:C29)) -> 44767 | D29: =INDEX(m7_,1,(ROWS($B$25:D29)-1)*7+COLUMNS($B$25:D29)) -> 44768 | E29: =INDEX(m7_,1,(ROWS($B$25:E29)-1)*7+COLUMNS($B$25:E29)) -> 44769 | F29: =INDEX(m7_,1,(ROWS($B$25:F29)-1)*7+COLUMNS($B$25:F29)) -> 44770 | G29: =INDEX(m7_,1,(ROWS($B$25:G29)-1)*7+COLUMNS($B$25:G29)) -> 44771 | H29: =INDEX(m7_,1,(ROWS($B$25:H29)-1)*7+COLUMNS($B$25:H29)) -> 44772 | J29: =INDEX(m8_,1,(ROWS($J$25:J29)-1)*7+COLUMNS($J$25:J29)) -> 44801 | K29: =INDEX(m8_,1,(ROWS($J$25:K29)-1)*7+COLUMNS($J$25:K29)) -> 44802 | L29: =INDEX(m8_,1,(ROWS($J$25:L29)-1)*7+COLUMNS($J$25:L29)) -> 44803 | M29: =INDEX(m8_,1,(ROWS($J$25:M29)-1)*7+COLUMNS($J$25:M29)) -> 44804 | N29: =INDEX(m8_,1,(ROWS($J$25:N29)-1)*7+COLUMNS($J$25:N29)) -> 44805 | O29: =INDEX(m8_,1,(ROWS($J$25:O29)-1)*7+COLUMNS($J$25:O29)) -> 44806 | P29: =INDEX(m8_,1,(ROWS($J$25:P29)-1)*7+COLUMNS($J$25:P29)) -> 44807 | R29: =INDEX(m9_,1,(ROWS($R$25:R29)-1)*7+COLUMNS($R$25:R29)) -> 44829 | S29: =INDEX(m9_,1,(ROWS($R$25:S29)-1)*7+COLUMNS($R$25:S29)) -> 44830 | T29: =INDEX(m9_,1,(ROWS($R$25:T29)-1)*7+COLUMNS($R$25:T29)) -> 44831 | U29: =INDEX(m9_,1,(ROWS($R$25:U29)-1)*7+COLUMNS($R$25:U29)) -> 44832 | V29: =INDEX(m9_,1,(ROWS($R$25:V29)-1)*7+COLUMNS($R$25:V29)) -> 44833 | W29: =INDEX(m9_,1,(ROWS($R$25:W29)-1)*7+COLUMNS($R$25:W29)) -> 44834 | X29: =INDEX(m9_,1,(ROWS($R$25:X29)-1)*7+COLUMNS($R$25:X29)) -> 44835
B30: =INDEX(m7_,1,(ROWS($B$25:B30)-1)*7+COLUMNS($B$25:B30)) -> 44773 | C30: =INDEX(m7_,1,(ROWS($B$25:C30)-1)*7+COLUMNS($B$25:C30)) -> 44774 | D30: =INDEX(m7_,1,(ROWS($B$25:D30)-1)*7+COLUMNS($B$25:D30)) -> 44775 | E30: =INDEX(m7_,1,(ROWS($B$25:E30)-1)*7+COLUMNS($B$25:E30)) -> 44776 | F30: =INDEX(m7_,1,(ROWS($B$25:F30)-1)*7+COLUMNS($B$25:F30)) -> 44777 | G30: =INDEX(m7_,1,(ROWS($B$25:G30)-1)*7+COLUMNS($B$25:G30)) -> 44778 | H30: =INDEX(m7_,1,(ROWS($B$25:H30)-1)*7+COLUMNS($B$25:H30)) -> 44779 | J30: =INDEX(m8_,1,(ROWS($J$25:J30)-1)*7+COLUMNS($J$25:J30)) -> 44808 | K30: =INDEX(m8_,1,(ROWS($J$25:K30)-1)*7+COLUMNS($J$25:K30)) -> 44809 | L30: =INDEX(m8_,1,(ROWS($J$25:L30)-1)*7+COLUMNS($J$25:L30)) -> 44810 | M30: =INDEX(m8_,1,(ROWS($J$25:M30)-1)*7+COLUMNS($J$25:M30)) -> 44811 | N30: =INDEX(m8_,1,(ROWS($J$25:N30)-1)*7+COLUMNS($J$25:N30)) -> 44812 | O30: =INDEX(m8_,1,(ROWS($J$25:O30)-1)*7+COLUMNS($J$25:O30)) -> 44813 | P30: =INDEX(m8_,1,(ROWS($J$25:P30)-1)*7+COLUMNS($J$25:P30)) -> 44814 | R30: =INDEX(m9_,1,(ROWS($R$25:R30)-1)*7+COLUMNS($R$25:R30)) -> 44836 | S30: =INDEX(m9_,1,(ROWS($R$25:S30)-1)*7+COLUMNS($R$25:S30)) -> 44837 | T30: =INDEX(m9_,1,(ROWS($R$25:T30)-1)*7+COLUMNS($R$25:T30)) -> 44838 | U30: =INDEX(m9_,1,(ROWS($R$25:U30)-1)*7+COLUMNS($R$25:U30)) -> 44839 | V30: =INDEX(m9_,1,(ROWS($R$25:V30)-1)*7+COLUMNS($R$25:V30)) -> 44840 | W30: =INDEX(m9_,1,(ROWS($R$25:W30)-1)*7+COLUMNS($R$25:W30)) -> 44841 | X30: =INDEX(m9_,1,(ROWS($R$25:X30)-1)*7+COLUMNS($R$25:X30)) -> 44842
B32: =Mini!B15 -> 44835 | J32: =Mini!B16 -> 44866 | R32: =Mini!B17 -> 44896
B33: Do | C33: Lu | D33: Ma | E33: Mi | F33: Ju | G33: Vi | H33: Sa | J33: Do | K33: Lu | L33: Ma | M33: Mi | N33: Ju | O33: Vi | P33: Sa | R33: Do | S33: Lu | T33: Ma | U33: Mi | V33: Ju | W33: Vi | X33: Sa
B34: =INDEX(m10_,1,(ROWS($B$34:B34)-1)*7+COLUMNS($B$34:B34)) -> 44829 | C34: =INDEX(m10_,1,(ROWS($B$34:C34)-1)*7+COLUMNS($B$34:C34)) -> 44830 | D34: =INDEX(m10_,1,(ROWS($B$34:D34)-1)*7+COLUMNS($B$34:D34)) -> 44831 | E34: =INDEX(m10_,1,(ROWS($B$34:E34)-1)*7+COLUMNS($B$34:E34)) -> 44832 | F34: =INDEX(m10_,1,(ROWS($B$34:F34)-1)*7+COLUMNS($B$34:F34)) -> 44833 | G34: =INDEX(m10_,1,(ROWS($B$34:G34)-1)*7+COLUMNS($B$34:G34)) -> 44834 | H34: =INDEX(m10_,1,(ROWS($B$34:H34)-1)*7+COLUMNS($B$34:H34)) -> 44835 | J34: =INDEX(m11_,1,(ROWS($J$34:J34)-1)*7+COLUMNS($J$34:J34)) -> 44864 | K34: =INDEX(m11_,1,(ROWS($J$34:K34)-1)*7+COLUMNS($J$34:K34)) -> 44865 | L34: =INDEX(m11_,1,(ROWS($J$34:L34)-1)*7+COLUMNS($J$34:L34)) -> 44866 | M34: =INDEX(m11_,1,(ROWS($J$34:M34)-1)*7+COLUMNS($J$34:M34)) -> 44867 | N34: =INDEX(m11_,1,(ROWS($J$34:N34)-1)*7+COLUMNS($J$34:N34)) -> 44868 | O34: =INDEX(m11_,1,(ROWS($J$34:O34)-1)*7+COLUMNS($J$34:O34)) -> 44869 | P34: =INDEX(m11_,1,(ROWS($J$34:P34)-1)*7+COLUMNS($J$34:P34)) -> 44870 | R34: =INDEX(m12_,1,(ROWS($R$34:R34)-1)*7+COLUMNS($R$34:R34)) -> 44892 | S34: =INDEX(m12_,1,(ROWS($R$34:S34)-1)*7+COLUMNS($R$34:S34)) -> 44893 | T34: =INDEX(m12_,1,(ROWS($R$34:T34)-1)*7+COLUMNS($R$34:T34)) -> 44894 | U34: =INDEX(m12_,1,(ROWS($R$34:U34)-1)*7+COLUMNS($R$34:U34)) -> 44895 | V34: =INDEX(m12_,1,(ROWS($R$34:V34)-1)*7+COLUMNS($R$34:V34)) -> 44896 | W34: =INDEX(m12_,1,(ROWS($R$34:W34)-1)*7+COLUMNS($R$34:W34)) -> 44897 | X34: =INDEX(m12_,1,(ROWS($R$34:X34)-1)*7+COLUMNS($R$34:X34)) -> 44898
B35: =INDEX(m10_,1,(ROWS($B$34:B35)-1)*7+COLUMNS($B$34:B35)) -> 44836 | C35: =INDEX(m10_,1,(ROWS($B$34:C35)-1)*7+COLUMNS($B$34:C35)) -> 44837 | D35: =INDEX(m10_,1,(ROWS($B$34:D35)-1)*7+COLUMNS($B$34:D35)) -> 44838 | E35: =INDEX(m10_,1,(ROWS($B$34:E35)-1)*7+COLUMNS($B$34:E35)) -> 44839 | F35: =INDEX(m10_,1,(ROWS($B$34:F35)-1)*7+COLUMNS($B$34:F35)) -> 44840 | G35: =INDEX(m10_,1,(ROWS($B$34:G35)-1)*7+COLUMNS($B$34:G35)) -> 44841 | H35: =INDEX(m10_,1,(ROWS($B$34:H35)-1)*7+COLUMNS($B$34:H35)) -> 44842 | J35: =INDEX(m11_,1,(ROWS($J$34:J35)-1)*7+COLUMNS($J$34:J35)) -> 44871 | K35: =INDEX(m11_,1,(ROWS($J$34:K35)-1)*7+COLUMNS($J$34:K35)) -> 44872 | L35: =INDEX(m11_,1,(ROWS($J$34:L35)-1)*7+COLUMNS($J$34:L35)) -> 44873 | M35: =INDEX(m11_,1,(ROWS($J$34:M35)-1)*7+COLUMNS($J$34:M35)) -> 44874 | N35: =INDEX(m11_,1,(ROWS($J$34:N35)-1)*7+COLUMNS($J$34:N35)) -> 44875 | O35: =INDEX(m11_,1,(ROWS($J$34:O35)-1)*7+COLUMNS($J$34:O35)) -> 44876 | P35: =INDEX(m11_,1,(ROWS($J$34:P35)-1)*7+COLUMNS($J$34:P35)) -> 44877 | R35: =INDEX(m12_,1,(ROWS($R$34:R35)-1)*7+COLUMNS($R$34:R35)) -> 44899 | S35: =INDEX(m12_,1,(ROWS($R$34:S35)-1)*7+COLUMNS($R$34:S35)) -> 44900 | T35: =INDEX(m12_,1,(ROWS($R$34:T35)-1)*7+COLUMNS($R$34:T35)) -> 44901 | U35: =INDEX(m12_,1,(ROWS($R$34:U35)-1)*7+COLUMNS($R$34:U35)) -> 44902 | V35: =INDEX(m12_,1,(ROWS($R$34:V35)-1)*7+COLUMNS($R$34:V35)) -> 44903 | W35: =INDEX(m12_,1,(ROWS($R$34:W35)-1)*7+COLUMNS($R$34:W35)) -> 44904 | X35: =INDEX(m12_,1,(ROWS($R$34:X35)-1)*7+COLUMNS($R$34:X35)) -> 44905
B36: =INDEX(m10_,1,(ROWS($B$34:B36)-1)*7+COLUMNS($B$34:B36)) -> 44843 | C36: =INDEX(m10_,1,(ROWS($B$34:C36)-1)*7+COLUMNS($B$34:C36)) -> 44844 | D36: =INDEX(m10_,1,(ROWS($B$34:D36)-1)*7+COLUMNS($B$34:D36)) -> 44845 | E36: =INDEX(m10_,1,(ROWS($B$34:E36)-1)*7+COLUMNS($B$34:E36)) -> 44846 | F36: =INDEX(m10_,1,(ROWS($B$34:F36)-1)*7+COLUMNS($B$34:F36)) -> 44847 | G36: =INDEX(m10_,1,(ROWS($B$34:G36)-1)*7+COLUMNS($B$34:G36)) -> 44848 | H36: =INDEX(m10_,1,(ROWS($B$34:H36)-1)*7+COLUMNS($B$34:H36)) -> 44849 | J36: =INDEX(m11_,1,(ROWS($J$34:J36)-1)*7+COLUMNS($J$34:J36)) -> 44878 | K36: =INDEX(m11_,1,(ROWS($J$34:K36)-1)*7+COLUMNS($J$34:K36)) -> 44879 | L36: =INDEX(m11_,1,(ROWS($J$34:L36)-1)*7+COLUMNS($J$34:L36)) -> 44880 | M36: =INDEX(m11_,1,(ROWS($J$34:M36)-1)*7+COLUMNS($J$34:M36)) -> 44881 | N36: =INDEX(m11_,1,(ROWS($J$34:N36)-1)*7+COLUMNS($J$34:N36)) -> 44882 | O36: =INDEX(m11_,1,(ROWS($J$34:O36)-1)*7+COLUMNS($J$34:O36)) -> 44883 | P36: =INDEX(m11_,1,(ROWS($J$34:P36)-1)*7+COLUMNS($J$34:P36)) -> 44884 | R36: =INDEX(m12_,1,(ROWS($R$34:R36)-1)*7+COLUMNS($R$34:R36)) -> 44906 | S36: =INDEX(m12_,1,(ROWS($R$34:S36)-1)*7+COLUMNS($R$34:S36)) -> 44907 | T36: =INDEX(m12_,1,(ROWS($R$34:T36)-1)*7+COLUMNS($R$34:T36)) -> 44908 | U36: =INDEX(m12_,1,(ROWS($R$34:U36)-1)*7+COLUMNS($R$34:U36)) -> 44909 | V36: =INDEX(m12_,1,(ROWS($R$34:V36)-1)*7+COLUMNS($R$34:V36)) -> 44910 | W36: =INDEX(m12_,1,(ROWS($R$34:W36)-1)*7+COLUMNS($R$34:W36)) -> 44911 | X36: =INDEX(m12_,1,(ROWS($R$34:X36)-1)*7+COLUMNS($R$34:X36)) -> 44912
B37: =INDEX(m10_,1,(ROWS($B$34:B37)-1)*7+COLUMNS($B$34:B37)) -> 44850 | C37: =INDEX(m10_,1,(ROWS($B$34:C37)-1)*7+COLUMNS($B$34:C37)) -> 44851 | D37: =INDEX(m10_,1,(ROWS($B$34:D37)-1)*7+COLUMNS($B$34:D37)) -> 44852 | E37: =INDEX(m10_,1,(ROWS($B$34:E37)-1)*7+COLUMNS($B$34:E37)) -> 44853 | F37: =INDEX(m10_,1,(ROWS($B$34:F37)-1)*7+COLUMNS($B$34:F37)) -> 44854 | G37: =INDEX(m10_,1,(ROWS($B$34:G37)-1)*7+COLUMNS($B$34:G37)) -> 44855 | H37: =INDEX(m10_,1,(ROWS($B$34:H37)-1)*7+COLUMNS($B$34:H37)) -> 44856 | J37: =INDEX(m11_,1,(ROWS($J$34:J37)-1)*7+COLUMNS($J$34:J37)) -> 44885 | K37: =INDEX(m11_,1,(ROWS($J$34:K37)-1)*7+COLUMNS($J$34:K37)) -> 44886 | L37: =INDEX(m11_,1,(ROWS($J$34:L37)-1)*7+COLUMNS($J$34:L37)) -> 44887 | M37: =INDEX(m11_,1,(ROWS($J$34:M37)-1)*7+COLUMNS($J$34:M37)) -> 44888 | N37: =INDEX(m11_,1,(ROWS($J$34:N37)-1)*7+COLUMNS($J$34:N37)) -> 44889 | O37: =INDEX(m11_,1,(ROWS($J$34:O37)-1)*7+COLUMNS($J$34:O37)) -> 44890 | P37: =INDEX(m11_,1,(ROWS($J$34:P37)-1)*7+COLUMNS($J$34:P37)) -> 44891 | R37: =INDEX(m12_,1,(ROWS($R$34:R37)-1)*7+COLUMNS($R$34:R37)) -> 44913 | S37: =INDEX(m12_,1,(ROWS($R$34:S37)-1)*7+COLUMNS($R$34:S37)) -> 44914 | T37: =INDEX(m12_,1,(ROWS($R$34:T37)-1)*7+COLUMNS($R$34:T37)) -> 44915 | U37: =INDEX(m12_,1,(ROWS($R$34:U37)-1)*7+COLUMNS($R$34:U37)) -> 44916 | V37: =INDEX(m12_,1,(ROWS($R$34:V37)-1)*7+COLUMNS($R$34:V37)) -> 44917 | W37: =INDEX(m12_,1,(ROWS($R$34:W37)-1)*7+COLUMNS($R$34:W37)) -> 44918 | X37: =INDEX(m12_,1,(ROWS($R$34:X37)-1)*7+COLUMNS($R$34:X37)) -> 44919
B38: =INDEX(m10_,1,(ROWS($B$34:B38)-1)*7+COLUMNS($B$34:B38)) -> 44857 | C38: =INDEX(m10_,1,(ROWS($B$34:C38)-1)*7+COLUMNS($B$34:C38)) -> 44858 | D38: =INDEX(m10_,1,(ROWS($B$34:D38)-1)*7+COLUMNS($B$34:D38)) -> 44859 | E38: =INDEX(m10_,1,(ROWS($B$34:E38)-1)*7+COLUMNS($B$34:E38)) -> 44860 | F38: =INDEX(m10_,1,(ROWS($B$34:F38)-1)*7+COLUMNS($B$34:F38)) -> 44861 | G38: =INDEX(m10_,1,(ROWS($B$34:G38)-1)*7+COLUMNS($B$34:G38)) -> 44862 | H38: =INDEX(m10_,1,(ROWS($B$34:H38)-1)*7+COLUMNS($B$34:H38)) -> 44863 | J38: =INDEX(m11_,1,(ROWS($J$34:J38)-1)*7+COLUMNS($J$34:J38)) -> 44892 | K38: =INDEX(m11_,1,(ROWS($J$34:K38)-1)*7+COLUMNS($J$34:K38)) -> 44893 | L38: =INDEX(m11_,1,(ROWS($J$34:L38)-1)*7+COLUMNS($J$34:L38)) -> 44894 | M38: =INDEX(m11_,1,(ROWS($J$34:M38)-1)*7+COLUMNS($J$34:M38)) -> 44895 | N38: =INDEX(m11_,1,(ROWS($J$34:N38)-1)*7+COLUMNS($J$34:N38)) -> 44896 | O38: =INDEX(m11_,1,(ROWS($J$34:O38)-1)*7+COLUMNS($J$34:O38)) -> 44897 | P38: =INDEX(m11_,1,(ROWS($J$34:P38)-1)*7+COLUMNS($J$34:P38)) -> 44898 | R38: =INDEX(m12_,1,(ROWS($R$34:R38)-1)*7+COLUMNS($R$34:R38)) -> 44920 | S38: =INDEX(m12_,1,(ROWS($R$34:S38)-1)*7+COLUMNS($R$34:S38)) -> 44921 | T38: =INDEX(m12_,1,(ROWS($R$34:T38)-1)*7+COLUMNS($R$34:T38)) -> 44922 | U38: =INDEX(m12_,1,(ROWS($R$34:U38)-1)*7+COLUMNS($R$34:U38)) -> 44923 | V38: =INDEX(m12_,1,(ROWS($R$34:V38)-1)*7+COLUMNS($R$34:V38)) -> 44924 | W38: =INDEX(m12_,1,(ROWS($R$34:W38)-1)*7+COLUMNS($R$34:W38)) -> 44925 | X38: =INDEX(m12_,1,(ROWS($R$34:X38)-1)*7+COLUMNS($R$34:X38)) -> 44926
B39: =INDEX(m10_,1,(ROWS($B$34:B39)-1)*7+COLUMNS($B$34:B39)) -> 44864 | C39: =INDEX(m10_,1,(ROWS($B$34:C39)-1)*7+COLUMNS($B$34:C39)) -> 44865 | D39: =INDEX(m10_,1,(ROWS($B$34:D39)-1)*7+COLUMNS($B$34:D39)) -> 44866 | E39: =INDEX(m10_,1,(ROWS($B$34:E39)-1)*7+COLUMNS($B$34:E39)) -> 44867 | F39: =INDEX(m10_,1,(ROWS($B$34:F39)-1)*7+COLUMNS($B$34:F39)) -> 44868 | G39: =INDEX(m10_,1,(ROWS($B$34:G39)-1)*7+COLUMNS($B$34:G39)) -> 44869 | H39: =INDEX(m10_,1,(ROWS($B$34:H39)-1)*7+COLUMNS($B$34:H39)) -> 44870 | J39: =INDEX(m11_,1,(ROWS($J$34:J39)-1)*7+COLUMNS($J$34:J39)) -> 44899 | K39: =INDEX(m11_,1,(ROWS($J$34:K39)-1)*7+COLUMNS($J$34:K39)) -> 44900 | L39: =INDEX(m11_,1,(ROWS($J$34:L39)-1)*7+COLUMNS($J$34:L39)) -> 44901 | M39: =INDEX(m11_,1,(ROWS($J$34:M39)-1)*7+COLUMNS($J$34:M39)) -> 44902 | N39: =INDEX(m11_,1,(ROWS($J$34:N39)-1)*7+COLUMNS($J$34:N39)) -> 44903 | O39: =INDEX(m11_,1,(ROWS($J$34:O39)-1)*7+COLUMNS($J$34:O39)) -> 44904 | P39: =INDEX(m11_,1,(ROWS($J$34:P39)-1)*7+COLUMNS($J$34:P39)) -> 44905 | R39: =INDEX(m12_,1,(ROWS($R$34:R39)-1)*7+COLUMNS($R$34:R39)) -> 44927 | S39: =INDEX(m12_,1,(ROWS($R$34:S39)-1)*7+COLUMNS($R$34:S39)) -> 44928 | T39: =INDEX(m12_,1,(ROWS($R$34:T39)-1)*7+COLUMNS($R$34:T39)) -> 44929 | U39: =INDEX(m12_,1,(ROWS($R$34:U39)-1)*7+COLUMNS($R$34:U39)) -> 44930 | V39: =INDEX(m12_,1,(ROWS($R$34:V39)-1)*7+COLUMNS($R$34:V39)) -> 44931 | W39: =INDEX(m12_,1,(ROWS($R$34:W39)-1)*7+COLUMNS($R$34:W39)) -> 44932 | X39: =INDEX(m12_,1,(ROWS($R$34:X39)-1)*7+COLUMNS($R$34:X39)) -> 44933 | Z39: http://aplicaexcelcontable.com/blog

Sheet Calendiario - color 2
B3: Año | D3: =year -> 2022 | AA3: Notas
B5: =Mini!B6 -> 44562 | J5: =Mini!B7 -> 44593 | R5: =Mini!B8 -> 44621
B6: Do | C6: Lu | D6: Ma | E6: Mi | F6: Ju | G6: Vi | H6: Sa | J6: Do | K6: Lu | L6: Ma | M6: Mi | N6: Ju | O6: Vi | P6: Sa | R6: Do | S6: Lu | T6: Ma | U6: Mi | V6: Ju | W6: Vi | X6: Sa
B7: =INDEX(m1_,1,(ROWS($B$7:B7)-1)*7+COLUMNS($B$7:B7)) -> 44556 | C7: =INDEX(m1_,1,(ROWS($B$7:C7)-1)*7+COLUMNS($B$7:C7)) -> 44557 | D7: =INDEX(m1_,1,(ROWS($B$7:D7)-1)*7+COLUMNS($B$7:D7)) -> 44558 | E7: =INDEX(m1_,1,(ROWS($B$7:E7)-1)*7+COLUMNS($B$7:E7)) -> 44559 | F7: =INDEX(m1_,1,(ROWS($B$7:F7)-1)*7+COLUMNS($B$7:F7)) -> 44560 | G7: =INDEX(m1_,1,(ROWS($B$7:G7)-1)*7+COLUMNS($B$7:G7)) -> 44561 | H7: =INDEX(m1_,1,(ROWS($B$7:H7)-1)*7+COLUMNS($B$7:H7)) -> 44562 | J7: =INDEX(m2_,1,(ROWS($J$7:J7)-1)*7+COLUMNS($J$7:J7)) -> 44591 | K7: =INDEX(m2_,1,(ROWS($J$7:K7)-1)*7+COLUMNS($J$7:K7)) -> 44592 | L7: =INDEX(m2_,1,(ROWS($J$7:L7)-1)*7+COLUMNS($J$7:L7)) -> 44593 | M7: =INDEX(m2_,1,(ROWS($J$7:M7)-1)*7+COLUMNS($J$7:M7)) -> 44594 | N7: =INDEX(m2_,1,(ROWS($J$7:N7)-1)*7+COLUMNS($J$7:N7)) -> 44595 | O7: =INDEX(m2_,1,(ROWS($J$7:O7)-1)*7+COLUMNS($J$7:O7)) -> 44596 | P7: =INDEX(m2_,1,(ROWS($J$7:P7)-1)*7+COLUMNS($J$7:P7)) -> 44597 | R7: =INDEX(m3_,1,(ROWS($R$7:R7)-1)*7+COLUMNS($R$7:R7)) -> 44619 | S7: =INDEX(m3_,1,(ROWS($R$7:S7)-1)*7+COLUMNS($R$7:S7)) -> 44620 | T7: =INDEX(m3_,1,(ROWS($R$7:T7)-1)*7+COLUMNS($R$7:T7)) -> 44621 | U7: =INDEX(m3_,1,(ROWS($R$7:U7)-1)*7+COLUMNS($R$7:U7)) -> 44622 | V7: =INDEX(m3_,1,(ROWS($R$7:V7)-1)*7+COLUMNS($R$7:V7)) -> 44623 | W7: =INDEX(m3_,1,(ROWS($R$7:W7)-1)*7+COLUMNS($R$7:W7)) -> 44624 | X7: =INDEX(m3_,1,(ROWS($R$7:X7)-1)*7+COLUMNS($R$7:X7)) -> 44625
B8: =INDEX(m1_,1,(ROWS($B$7:B8)-1)*7+COLUMNS($B$7:B8)) -> 44563 | C8: =INDEX(m1_,1,(ROWS($B$7:C8)-1)*7+COLUMNS($B$7:C8)) -> 44564 | D8: =INDEX(m1_,1,(ROWS($B$7:D8)-1)*7+COLUMNS($B$7:D8)) -> 44565 | E8: =INDEX(m1_,1,(ROWS($B$7:E8)-1)*7+COLUMNS($B$7:E8)) -> 44566 | F8: =INDEX(m1_,1,(ROWS($B$7:F8)-1)*7+COLUMNS($B$7:F8)) -> 44567 | G8: =INDEX(m1_,1,(ROWS($B$7:G8)-1)*7+COLUMNS($B$7:G8)) -> 44568 | H8: =INDEX(m1_,1,(ROWS($B$7:H8)-1)*7+COLUMNS($B$7:H8)) -> 44569 | J8: =INDEX(m2_,1,(ROWS($J$7:J8)-1)*7+COLUMNS($J$7:J8)) -> 44598 | K8: =INDEX(m2_,1,(ROWS($J$7:K8)-1)*7+COLUMNS($J$7:K8)) -> 44599 | L8: =INDEX(m2_,1,(ROWS($J$7:L8)-1)*7+COLUMNS($J$7:L8)) -> 44600 | M8: =INDEX(m2_,1,(ROWS($J$7:M8)-1)*7+COLUMNS($J$7:M8)) -> 44601 | N8: =INDEX(m2_,1,(ROWS($J$7:N8)-1)*7+COLUMNS($J$7:N8)) -> 44602 | O8: =INDEX(m2_,1,(ROWS($J$7:O8)-1)*7+COLUMNS($J$7:O8)) -> 44603 | P8: =INDEX(m2_,1,(ROWS($J$7:P8)-1)*7+COLUMNS($J$7:P8)) -> 44604 | R8: =INDEX(m3_,1,(ROWS($R$7:R8)-1)*7+COLUMNS($R$7:R8)) -> 44626 | S8: =INDEX(m3_,1,(ROWS($R$7:S8)-1)*7+COLUMNS($R$7:S8)) -> 44627 | T8: =INDEX(m3_,1,(ROWS($R$7:T8)-1)*7+COLUMNS($R$7:T8)) -> 44628 | U8: =INDEX(m3_,1,(ROWS($R$7:U8)-1)*7+COLUMNS($R$7:U8)) -> 44629 | V8: =INDEX(m3_,1,(ROWS($R$7:V8)-1)*7+COLUMNS($R$7:V8)) -> 44630 | W8: =INDEX(m3_,1,(ROWS($R$7:W8)-1)*7+COLUMNS($R$7:W8)) -> 44631 | X8: =INDEX(m3_,1,(ROWS($R$7:X8)-1)*7+COLUMNS($R$7:X8)) -> 44632
B9: =INDEX(m1_,1,(ROWS($B$7:B9)-1)*7+COLUMNS($B$7:B9)) -> 44570 | C9: =INDEX(m1_,1,(ROWS($B$7:C9)-1)*7+COLUMNS($B$7:C9)) -> 44571 | D9: =INDEX(m1_,1,(ROWS($B$7:D9)-1)*7+COLUMNS($B$7:D9)) -> 44572 | E9: =INDEX(m1_,1,(ROWS($B$7:E9)-1)*7+COLUMNS($B$7:E9)) -> 44573 | F9: =INDEX(m1_,1,(ROWS($B$7:F9)-1)*7+COLUMNS($B$7:F9)) -> 44574 | G9: =INDEX(m1_,1,(ROWS($B$7:G9)-1)*7+COLUMNS($B$7:G9)) -> 44575 | H9: =INDEX(m1_,1,(ROWS($B$7:H9)-1)*7+COLUMNS($B$7:H9)) -> 44576 | J9: =INDEX(m2_,1,(ROWS($J$7:J9)-1)*7+COLUMNS($J$7:J9)) -> 44605 | K9: =INDEX(m2_,1,(ROWS($J$7:K9)-1)*7+COLUMNS($J$7:K9)) -> 44606 | L9: =INDEX(m2_,1,(ROWS($J$7:L9)-1)*7+COLUMNS($J$7:L9)) -> 44607 | M9: =INDEX(m2_,1,(ROWS($J$7:M9)-1)*7+COLUMNS($J$7:M9)) -> 44608 | N9: =INDEX(m2_,1,(ROWS($J$7:N9)-1)*7+COLUMNS($J$7:N9)) -> 44609 | O9: =INDEX(m2_,1,(ROWS($J$7:O9)-1)*7+COLUMNS($J$7:O9)) -> 44610 | P9: =INDEX(m2_,1,(ROWS($J$7:P9)-1)*7+COLUMNS($J$7:P9)) -> 44611 | R9: =INDEX(m3_,1,(ROWS($R$7:R9)-1)*7+COLUMNS($R$7:R9)) -> 44633 | S9: =INDEX(m3_,1,(ROWS($R$7:S9)-1)*7+COLUMNS($R$7:S9)) -> 44634 | T9: =INDEX(m3_,1,(ROWS($R$7:T9)-1)*7+COLUMNS($R$7:T9)) -> 44635 | U9: =INDEX(m3_,1,(ROWS($R$7:U9)-1)*7+COLUMNS($R$7:U9)) -> 44636 | V9: =INDEX(m3_,1,(ROWS($R$7:V9)-1)*7+COLUMNS($R$7:V9)) -> 44637 | W9: =INDEX(m3_,1,(ROWS($R$7:W9)-1)*7+COLUMNS($R$7:W9)) -> 44638 | X9: =INDEX(m3_,1,(ROWS($R$7:X9)-1)*7+COLUMNS($R$7:X9)) -> 44639
B10: =INDEX(m1_,1,(ROWS($B$7:B10)-1)*7+COLUMNS($B$7:B10)) -> 44577 | C10: =INDEX(m1_,1,(ROWS($B$7:C10)-1)*7+COLUMNS($B$7:C10)) -> 44578 | D10: =INDEX(m1_,1,(ROWS($B$7:D10)-1)*7+COLUMNS($B$7:D10)) -> 44579 | E10: =INDEX(m1_,1,(ROWS($B$7:E10)-1)*7+COLUMNS($B$7:E10)) -> 44580 | F10: =INDEX(m1_,1,(ROWS($B$7:F10)-1)*7+COLUMNS($B$7:F10)) -> 44581 | G10: =INDEX(m1_,1,(ROWS($B$7:G10)-1)*7+COLUMNS($B$7:G10)) -> 44582 | H10: =INDEX(m1_,1,(ROWS($B$7:H10)-1)*7+COLUMNS($B$7:H10)) -> 44583 | J10: =INDEX(m2_,1,(ROWS($J$7:J10)-1)*7+COLUMNS($J$7:J10)) -> 44612 | K10: =INDEX(m2_,1,(ROWS($J$7:K10)-1)*7+COLUMNS($J$7:K10)) -> 44613 | L10: =INDEX(m2_,1,(ROWS($J$7:L10)-1)*7+COLUMNS($J$7:L10)) -> 44614 | M10: =INDEX(m2_,1,(ROWS($J$7:M10)-1)*7+COLUMNS($J$7:M10)) -> 44615 | N10: =INDEX(m2_,1,(ROWS($J$7:N10)-1)*7+COLUMNS($J$7:N10)) -> 44616 | O10: =INDEX(m2_,1,(ROWS($J$7:O10)-1)*7+COLUMNS($J$7:O10)) -> 44617 | P10: =INDEX(m2_,1,(ROWS($J$7:P10)-1)*7+COLUMNS($J$7:P10)) -> 44618 | R10: =INDEX(m3_,1,(ROWS($R$7:R10)-1)*7+COLUMNS($R$7:R10)) -> 44640 | S10: =INDEX(m3_,1,(ROWS($R$7:S10)-1)*7+COLUMNS($R$7:S10)) -> 44641 | T10: =INDEX(m3_,1,(ROWS($R$7:T10)-1)*7+COLUMNS($R$7:T10)) -> 44642 | U10: =INDEX(m3_,1,(ROWS($R$7:U10)-1)*7+COLUMNS($R$7:U10)) -> 44643 | V10: =INDEX(m3_,1,(ROWS($R$7:V10)-1)*7+COLUMNS($R$7:V10)) -> 44644 | W10: =INDEX(m3_,1,(ROWS($R$7:W10)-1)*7+COLUMNS($R$7:W10)) -> 44645 | X10: =INDEX(m3_,1,(ROWS($R$7:X10)-1)*7+COLUMNS($R$7:X10)) -> 44646
B11: =INDEX(m1_,1,(ROWS($B$7:B11)-1)*7+COLUMNS($B$7:B11)) -> 44584 | C11: =INDEX(m1_,1,(ROWS($B$7:C11)-1)*7+COLUMNS($B$7:C11)) -> 44585 | D11: =INDEX(m1_,1,(ROWS($B$7:D11)-1)*7+COLUMNS($B$7:D11)) -> 44586 | E11: =INDEX(m1_,1,(ROWS($B$7:E11)-1)*7+COLUMNS($B$7:E11)) -> 44587 | F11: =INDEX(m1_,1,(ROWS($B$7:F11)-1)*7+COLUMNS($B$7:F11)) -> 44588 | G11: =INDEX(m1_,1,(ROWS($B$7:G11)-1)*7+COLUMNS($B$7:G11)) -> 44589 | H11: =INDEX(m1_,1,(ROWS($B$7:H11)-1)*7+COLUMNS($B$7:H11)) -> 44590 | J11: =INDEX(m2_,1,(ROWS($J$7:J11)-1)*7+COLUMNS($J$7:J11)) -> 44619 | K11: =INDEX(m2_,1,(ROWS($J$7:K11)-1)*7+COLUMNS($J$7:K11)) -> 44620 | L11: =INDEX(m2_,1,(ROWS($J$7:L11)-1)*7+COLUMNS($J$7:L11)) -> 44621 | M11: =INDEX(m2_,1,(ROWS($J$7:M11)-1)*7+COLUMNS($J$7:M11)) -> 44622 | N11: =INDEX(m2_,1,(ROWS($J$7:N11)-1)*7+COLUMNS($J$7:N11)) -> 44623 | O11: =INDEX(m2_,1,(ROWS($J$7:O11)-1)*7+COLUMNS($J$7:O11)) -> 44624 | P11: =INDEX(m2_,1,(ROWS($J$7:P11)-1)*7+COLUMNS($J$7:P11)) -> 44625 | R11: =INDEX(m3_,1,(ROWS($R$7:R11)-1)*7+COLUMNS($R$7:R11)) -> 44647 | S11: =INDEX(m3_,1,(ROWS($R$7:S11)-1)*7+COLUMNS($R$7:S11)) -> 44648 | T11: =INDEX(m3_,1,(ROWS($R$7:T11)-1)*7+COLUMNS($R$7:T11)) -> 44649 | U11: =INDEX(m3_,1,(ROWS($R$7:U11)-1)*7+COLUMNS($R$7:U11)) -> 44650 | V11: =INDEX(m3_,1,(ROWS($R$7:V11)-1)*7+COLUMNS($R$7:V11)) -> 44651 | W11: =INDEX(m3_,1,(ROWS($R$7:W11)-1)*7+COLUMNS($R$7:W11)) -> 44652 | X11: =INDEX(m3_,1,(ROWS($R$7:X11)-1)*7+COLUMNS($R$7:X11)) -> 44653
B12: =INDEX(m1_,1,(ROWS($B$7:B12)-1)*7+COLUMNS($B$7:B12)) -> 44591 | C12: =INDEX(m1_,1,(ROWS($B$7:C12)-1)*7+COLUMNS($B$7:C12)) -> 44592 | D12: =INDEX(m1_,1,(ROWS($B$7:D12)-1)*7+COLUMNS($B$7:D12)) -> 44593 | E12: =INDEX(m1_,1,(ROWS($B$7:E12)-1)*7+COLUMNS($B$7:E12)) -> 44594 | F12: =INDEX(m1_,1,(ROWS($B$7:F12)-1)*7+COLUMNS($B$7:F12)) -> 44595 | G12: =INDEX(m1_,1,(ROWS($B$7:G12)-1)*7+COLUMNS($B$7:G12)) -> 44596 | H12: =INDEX(m1_,1,(ROWS($B$7:H12)-1)*7+COLUMNS($B$7:H12)) -> 44597 | J12: =INDEX(m2_,1,(ROWS($J$7:J12)-1)*7+COLUMNS($J$7:J12)) -> 44626 | K12: =INDEX(m2_,1,(ROWS($J$7:K12)-1)*7+COLUMNS($J$7:K12)) -> 44627 | L12: =INDEX(m2_,1,(ROWS($J$7:L12)-1)*7+COLUMNS($J$7:L12)) -> 44628 | M12: =INDEX(m2_,1,(ROWS($J$7:M12)-1)*7+COLUMNS($J$7:M12)) -> 44629 | N12: =INDEX(m2_,1,(ROWS($J$7:N12)-1)*7+COLUMNS($J$7:N12)) -> 44630 | O12: =INDEX(m2_,1,(ROWS($J$7:O12)-1)*7+COLUMNS($J$7:O12)) -> 44631 | P12: =INDEX(m2_,1,(ROWS($J$7:P12)-1)*7+COLUMNS($J$7:P12)) -> 44632 | R12: =INDEX(m3_,1,(ROWS($R$7:R12)-1)*7+COLUMNS($R$7:R12)) -> 44654 | S12: =INDEX(m3_,1,(ROWS($R$7:S12)-1)*7+COLUMNS($R$7:S12)) -> 44655 | T12: =INDEX(m3_,1,(ROWS($R$7:T12)-1)*7+COLUMNS($R$7:T12)) -> 44656 | U12: =INDEX(m3_,1,(ROWS($R$7:U12)-1)*7+COLUMNS($R$7:U12)) -> 44657 | V12: =INDEX(m3_,1,(ROWS($R$7:V12)-1)*7+COLUMNS($R$7:V12)) -> 44658 | W12: =INDEX(m3_,1,(ROWS($R$7:W12)-1)*7+COLUMNS($R$7:W12)) -> 44659 | X12: =INDEX(m3_,1,(ROWS($R$7:X12)-1)*7+COLUMNS($R$7:X12)) -> 44660
B14: =Mini!B9 -> 44652 | J14: =Mini!B10 -> 44682 | R14: =Mini!B11 -> 44713
B15: Do | C15: Lu | D15: Ma | E15: Mi | F15: Ju | G15: Vi | H15: Sa | J15: Do | K15: Lu | L15: Ma | M15: Mi | N15: Ju | O15: Vi | P15: Sa | R15: Do | S15: Lu | T15: Ma | U15: Mi | V15: Ju | W15: Vi | X15: Sa
B16: =INDEX(m4_,1,(ROWS($B$16:B16)-1)*7+COLUMNS($B$16:B16)) -> 44647 | C16: =INDEX(m4_,1,(ROWS($B$16:C16)-1)*7+COLUMNS($B$16:C16)) -> 44648 | D16: =INDEX(m4_,1,(ROWS($B$16:D16)-1)*7+COLUMNS($B$16:D16)) -> 44649 | E16: =INDEX(m4_,1,(ROWS($B$16:E16)-1)*7+COLUMNS($B$16:E16)) -> 44650 | F16: =INDEX(m4_,1,(ROWS($B$16:F16)-1)*7+COLUMNS($B$16:F16)) -> 44651 | G16: =INDEX(m4_,1,(ROWS($B$16:G16)-1)*7+COLUMNS($B$16:G16)) -> 44652 | H16: =INDEX(m4_,1,(ROWS($B$16:H16)-1)*7+COLUMNS($B$16:H16)) -> 44653 | J16: =INDEX(m5_,1,(ROWS($J$16:J16)-1)*7+COLUMNS($J$16:J16)) -> 44675 | K16: =INDEX(m5_,1,(ROWS($J$16:K16)-1)*7+COLUMNS($J$16:K16)) -> 44676 | L16: =INDEX(m5_,1,(ROWS($J$16:L16)-1)*7+COLUMNS($J$16:L16)) -> 44677 | M16: =INDEX(m5_,1,(ROWS($J$16:M16)-1)*7+COLUMNS($J$16:M16)) -> 44678 | N16: =INDEX(m5_,1,(ROWS($J$16:N16)-1)*7+COLUMNS($J$16:N16)) -> 44679 | O16: =INDEX(m5_,1,(ROWS($J$16:O16)-1)*7+COLUMNS($J$16:O16)) -> 44680 | P16: =INDEX(m5_,1,(ROWS($J$16:P16)-1)*7+COLUMNS($J$16:P16)) -> 44681 | R16: =INDEX(m6_,1,(ROWS($R$16:R16)-1)*7+COLUMNS($R$16:R16)) -> 44710 | S16: =INDEX(m6_,1,(ROWS($R$16:S16)-1)*7+COLUMNS($R$16:S16)) -> 44711 | T16: =INDEX(m6_,1,(ROWS($R$16:T16)-1)*7+COLUMNS($R$16:T16)) -> 44712 | U16: =INDEX(m6_,1,(ROWS($R$16:U16)-1)*7+COLUMNS($R$16:U16)) -> 44713 | V16: =INDEX(m6_,1,(ROWS($R$16:V16)-1)*7+COLUMNS($R$16:V16)) -> 44714 | W16: =INDEX(m6_,1,(ROWS($R$16:W16)-1)*7+COLUMNS($R$16:W16)) -> 44715 | X16: =INDEX(m6_,1,(ROWS($R$16:X16)-1)*7+COLUMNS($R$16:X16)) -> 44716
B17: =INDEX(m4_,1,(ROWS($B$16:B17)-1)*7+COLUMNS($B$16:B17)) -> 44654 | C17: =INDEX(m4_,1,(ROWS($B$16:C17)-1)*7+COLUMNS($B$16:C17)) -> 44655 | D17: =INDEX(m4_,1,(ROWS($B$16:D17)-1)*7+COLUMNS($B$16:D17)) -> 44656 | E17: =INDEX(m4_,1,(ROWS($B$16:E17)-1)*7+COLUMNS($B$16:E17)) -> 44657 | F17: =INDEX(m4_,1,(ROWS($B$16:F17)-1)*7+COLUMNS($B$16:F17)) -> 44658 | G17: =INDEX(m4_,1,(ROWS($B$16:G17)-1)*7+COLUMNS($B$16:G17)) -> 44659 | H17: =INDEX(m4_,1,(ROWS($B$16:H17)-1)*7+COLUMNS($B$16:H17)) -> 44660 | J17: =INDEX(m5_,1,(ROWS($J$16:J17)-1)*7+COLUMNS($J$16:J17)) -> 44682 | K17: =INDEX(m5_,1,(ROWS($J$16:K17)-1)*7+COLUMNS($J$16:K17)) -> 44683 | L17: =INDEX(m5_,1,(ROWS($J$16:L17)-1)*7+COLUMNS($J$16:L17)) -> 44684 | M17: =INDEX(m5_,1,(ROWS($J$16:M17)-1)*7+COLUMNS($J$16:M17)) -> 44685 | N17: =INDEX(m5_,1,(ROWS($J$16:N17)-1)*7+COLUMNS($J$16:N17)) -> 44686 | O17: =INDEX(m5_,1,(ROWS($J$16:O17)-1)*7+COLUMNS($J$16:O17)) -> 44687 | P17: =INDEX(m5_,1,(ROWS($J$16:P17)-1)*7+COLUMNS($J$16:P17)) -> 44688 | R17: =INDEX(m6_,1,(ROWS($R$16:R17)-1)*7+COLUMNS($R$16:R17)) -> 44717 | S17: =INDEX(m6_,1,(ROWS($R$16:S17)-1)*7+COLUMNS($R$16:S17)) -> 44718 | T17: =INDEX(m6_,1,(ROWS($R$16:T17)-1)*7+COLUMNS($R$16:T17)) -> 44719 | U17: =INDEX(m6_,1,(ROWS($R$16:U17)-1)*7+COLUMNS($R$16:U17)) -> 44720 | V17: =INDEX(m6_,1,(ROWS($R$16:V17)-1)*7+COLUMNS($R$16:V17)) -> 44721 | W17: =INDEX(m6_,1,(ROWS($R$16:W17)-1)*7+COLUMNS($R$16:W17)) -> 44722 | X17: =INDEX(m6_,1,(ROWS($R$16:X17)-1)*7+COLUMNS($R$16:X17)) -> 44723
B18: =INDEX(m4_,1,(ROWS($B$16:B18)-1)*7+COLUMNS($B$16:B18)) -> 44661 | C18: =INDEX(m4_,1,(ROWS($B$16:C18)-1)*7+COLUMNS($B$16:C18)) -> 44662 | D18: =INDEX(m4_,1,(ROWS($B$16:D18)-1)*7+COLUMNS($B$16:D18)) -> 44663 | E18: =INDEX(m4_,1,(ROWS($B$16:E18)-1)*7+COLUMNS($B$16:E18)) -> 44664 | F18: =INDEX(m4_,1,(ROWS($B$16:F18)-1)*7+COLUMNS($B$16:F18)) -> 44665 | G18: =INDEX(m4_,1,(ROWS($B$16:G18)-1)*7+COLUMNS($B$16:G18)) -> 44666 | H18: =INDEX(m4_,1,(ROWS($B$16:H18)-1)*7+COLUMNS($B$16:H18)) -> 44667 | J18: =INDEX(m5_,1,(ROWS($J$16:J18)-1)*7+COLUMNS($J$16:J18)) -> 44689 | K18: =INDEX(m5_,1,(ROWS($J$16:K18)-1)*7+COLUMNS($J$16:K18)) -> 44690 | L18: =INDEX(m5_,1,(ROWS($J$16:L18)-1)*7+COLUMNS($J$16:L18)) -> 44691 | M18: =INDEX(m5_,1,(ROWS($J$16:M18)-1)*7+COLUMNS($J$16:M18)) -> 44692 | N18: =INDEX(m5_,1,(ROWS($J$16:N18)-1)*7+COLUMNS($J$16:N18)) -> 44693 | O18: =INDEX(m5_,1,(ROWS($J$16:O18)-1)*7+COLUMNS($J$16:O18)) -> 44694 | P18: =INDEX(m5_,1,(ROWS($J$16:P18)-1)*7+COLUMNS($J$16:P18)) -> 44695 | R18: =INDEX(m6_,1,(ROWS($R$16:R18)-1)*7+COLUMNS($R$16:R18)) -> 44724 | S18: =INDEX(m6_,1,(ROWS($R$16:S18)-1)*7+COLUMNS($R$16:S18)) -> 44725 | T18: =INDEX(m6_,1,(ROWS($R$16:T18)-1)*7+COLUMNS($R$16:T18)) -> 44726 | U18: =INDEX(m6_,1,(ROWS($R$16:U18)-1)*7+COLUMNS($R$16:U18)) -> 44727 | V18: =INDEX(m6_,1,(ROWS($R$16:V18)-1)*7+COLUMNS($R$16:V18)) -> 44728 | W18: =INDEX(m6_,1,(ROWS($R$16:W18)-1)*7+COLUMNS($R$16:W18)) -> 44729 | X18: =INDEX(m6_,1,(ROWS($R$16:X18)-1)*7+COLUMNS($R$16:X18)) -> 44730
B19: =INDEX(m4_,1,(ROWS($B$16:B19)-1)*7+COLUMNS($B$16:B19)) -> 44668 | C19: =INDEX(m4_,1,(ROWS($B$16:C19)-1)*7+COLUMNS($B$16:C19)) -> 44669 | D19: =INDEX(m4_,1,(ROWS($B$16:D19)-1)*7+COLUMNS($B$16:D19)) -> 44670 | E19: =INDEX(m4_,1,(ROWS($B$16:E19)-1)*7+COLUMNS($B$16:E19)) -> 44671 | F19: =INDEX(m4_,1,(ROWS($B$16:F19)-1)*7+COLUMNS($B$16:F19)) -> 44672 | G19: =INDEX(m4_,1,(ROWS($B$16:G19)-1)*7+COLUMNS($B$16:G19)) -> 44673 | H19: =INDEX(m4_,1,(ROWS($B$16:H19)-1)*7+COLUMNS($B$16:H19)) -> 44674 | J19: =INDEX(m5_,1,(ROWS($J$16:J19)-1)*7+COLUMNS($J$16:J19)) -> 44696 | K19: =INDEX(m5_,1,(ROWS($J$16:K19)-1)*7+COLUMNS($J$16:K19)) -> 44697 | L19: =INDEX(m5_,1,(ROWS($J$16:L19)-1)*7+COLUMNS($J$16:L19)) -> 44698 | M19: =INDEX(m5_,1,(ROWS($J$16:M19)-1)*7+COLUMNS($J$16:M19)) -> 44699 | N19: =INDEX(m5_,1,(ROWS($J$16:N19)-1)*7+COLUMNS($J$16:N19)) -> 44700 | O19: =INDEX(m5_,1,(ROWS($J$16:O19)-1)*7+COLUMNS($J$16:O19)) -> 44701 | P19: =INDEX(m5_,1,(ROWS($J$16:P19)-1)*7+COLUMNS($J$16:P19)) -> 44702 | R19: =INDEX(m6_,1,(ROWS($R$16:R19)-1)*7+COLUMNS($R$16:R19)) -> 44731 | S19: =INDEX(m6_,1,(ROWS($R$16:S19)-1)*7+COLUMNS($R$16:S19)) -> 44732 | T19: =INDEX(m6_,1,(ROWS($R$16:T19)-1)*7+COLUMNS($R$16:T19)) -> 44733 | U19: =INDEX(m6_,1,(ROWS($R$16:U19)-1)*7+COLUMNS($R$16:U19)) -> 44734 | V19: =INDEX(m6_,1,(ROWS($R$16:V19)-1)*7+COLUMNS($R$16:V19)) -> 44735 | W19: =INDEX(m6_,1,(ROWS($R$16:W19)-1)*7+COLUMNS($R$16:W19)) -> 44736 | X19: =INDEX(m6_,1,(ROWS($R$16:X19)-1)*7+COLUMNS($R$16:X19)) -> 44737
B20: =INDEX(m4_,1,(ROWS($B$16:B20)-1)*7+COLUMNS($B$16:B20)) -> 44675 | C20: =INDEX(m4_,1,(ROWS($B$16:C20)-1)*7+COLUMNS($B$16:C20)) -> 44676 | D20: =INDEX(m4_,1,(ROWS($B$16:D20)-1)*7+COLUMNS($B$16:D20)) -> 44677 | E20: =INDEX(m4_,1,(ROWS($B$16:E20)-1)*7+COLUMNS($B$16:E20)) -> 44678 | F20: =INDEX(m4_,1,(ROWS($B$16:F20)-1)*7+COLUMNS($B$16:F20)) -> 44679 | G20: =INDEX(m4_,1,(ROWS($B$16:G20)-1)*7+COLUMNS($B$16:G20)) -> 44680 | H20: =INDEX(m4_,1,(ROWS($B$16:H20)-1)*7+COLUMNS($B$16:H20)) -> 44681 | J20: =INDEX(m5_,1,(ROWS($J$16:J20)-1)*7+COLUMNS($J$16:J20)) -> 44703 | K20: =INDEX(m5_,1,(ROWS($J$16:K20)-1)*7+COLUMNS($J$16:K20)) -> 44704 | L20: =INDEX(m5_,1,(ROWS($J$16:L20)-1)*7+COLUMNS($J$16:L20)) -> 44705 | M20: =INDEX(m5_,1,(ROWS($J$16:M20)-1)*7+COLUMNS($J$16:M20)) -> 44706 | N20: =INDEX(m5_,1,(ROWS($J$16:N20)-1)*7+COLUMNS($J$16:N20)) -> 44707 | O20: =INDEX(m5_,1,(ROWS($J$16:O20)-1)*7+COLUMNS($J$16:O20)) -> 44708 | P20: =INDEX(m5_,1,(ROWS($J$16:P20)-1)*7+COLUMNS($J$16:P20)) -> 44709 | R20: =INDEX(m6_,1,(ROWS($R$16:R20)-1)*7+COLUMNS($R$16:R20)) -> 44738 | S20: =INDEX(m6_,1,(ROWS($R$16:S20)-1)*7+COLUMNS($R$16:S20)) -> 44739 | T20: =INDEX(m6_,1,(ROWS($R$16:T20)-1)*7+COLUMNS($R$16:T20)) -> 44740 | U20: =INDEX(m6_,1,(ROWS($R$16:U20)-1)*7+COLUMNS($R$16:U20)) -> 44741 | V20: =INDEX(m6_,1,(ROWS($R$16:V20)-1)*7+COLUMNS($R$16:V20)) -> 44742 | W20: =INDEX(m6_,1,(ROWS($R$16:W20)-1)*7+COLUMNS($R$16:W20)) -> 44743 | X20: =INDEX(m6_,1,(ROWS($R$16:X20)-1)*7+COLUMNS($R$16:X20)) -> 44744
B21: =INDEX(m4_,1,(ROWS($B$16:B21)-1)*7+COLUMNS($B$16:B21)) -> 44682 | C21: =INDEX(m4_,1,(ROWS($B$16:C21)-1)*7+COLUMNS($B$16:C21)) -> 44683 | D21: =INDEX(m4_,1,(ROWS($B$16:D21)-1)*7+COLUMNS($B$16:D21)) -> 44684 | E21: =INDEX(m4_,1,(ROWS($B$16:E21)-1)*7+COLUMNS($B$16:E21)) -> 44685 | F21: =INDEX(m4_,1,(ROWS($B$16:F21)-1)*7+COLUMNS($B$16:F21)) -> 44686 | G21: =INDEX(m4_,1,(ROWS($B$16:G21)-1)*7+COLUMNS($B$16:G21)) -> 44687 | H21: =INDEX(m4_,1,(ROWS($B$16:H21)-1)*7+COLUMNS($B$16:H21)) -> 44688 | J21: =INDEX(m5_,1,(ROWS($J$16:J21)-1)*7+COLUMNS($J$16:J21)) -> 44710 | K21: =INDEX(m5_,1,(ROWS($J$16:K21)-1)*7+COLUMNS($J$16:K21)) -> 44711 | L21: =INDEX(m5_,1,(ROWS($J$16:L21)-1)*7+COLUMNS($J$16:L21)) -> 44712 | M21: =INDEX(m5_,1,(ROWS($J$16:M21)-1)*7+COLUMNS($J$16:M21)) -> 44713 | N21: =INDEX(m5_,1,(ROWS($J$16:N21)-1)*7+COLUMNS($J$16:N21)) -> 44714 | O21: =INDEX(m5_,1,(ROWS($J$16:O21)-1)*7+COLUMNS($J$16:O21)) -> 44715 | P21: =INDEX(m5_,1,(ROWS($J$16:P21)-1)*7+COLUMNS($J$16:P21)) -> 44716 | R21: =INDEX(m6_,1,(ROWS($R$16:R21)-1)*7+COLUMNS($R$16:R21)) -> 44745 | S21: =INDEX(m6_,1,(ROWS($R$16:S21)-1)*7+COLUMNS($R$16:S21)) -> 44746 | T21: =INDEX(m6_,1,(ROWS($R$16:T21)-1)*7+COLUMNS($R$16:T21)) -> 44747 | U21: =INDEX(m6_,1,(ROWS($R$16:U21)-1)*7+COLUMNS($R$16:U21)) -> 44748 | V21: =INDEX(m6_,1,(ROWS($R$16:V21)-1)*7+COLUMNS($R$16:V21)) -> 44749 | W21: =INDEX(m6_,1,(ROWS($R$16:W21)-1)*7+COLUMNS($R$16:W21)) -> 44750 | X21: =INDEX(m6_,1,(ROWS($R$16:X21)-1)*7+COLUMNS($R$16:X21)) -> 44751
B23: =Mini!B12 -> 44743 | J23: =Mini!B13 -> 44774 | R23: =Mini!B14 -> 44805
B24: Do | C24: Lu | D24: Ma | E24: Mi | F24: Ju | G24: Vi | H24: Sa | J24: Do | K24: Lu | L24: Ma | M24: Mi | N24: Ju | O24: Vi | P24: Sa | R24: Do | S24: Lu | T24: Ma | U24: Mi | V24: Ju | W24: Vi | X24: Sa
B25: =INDEX(m7_,1,(ROWS($B$25:B25)-1)*7+COLUMNS($B$25:B25)) -> 44738 | C25: =INDEX(m7_,1,(ROWS($B$25:C25)-1)*7+COLUMNS($B$25:C25)) -> 44739 | D25: =INDEX(m7_,1,(ROWS($B$25:D25)-1)*7+COLUMNS($B$25:D25)) -> 44740 | E25: =INDEX(m7_,1,(ROWS($B$25:E25)-1)*7+COLUMNS($B$25:E25)) -> 44741 | F25: =INDEX(m7_,1,(ROWS($B$25:F25)-1)*7+COLUMNS($B$25:F25)) -> 44742 | G25: =INDEX(m7_,1,(ROWS($B$25:G25)-1)*7+COLUMNS($B$25:G25)) -> 44743 | H25: =INDEX(m7_,1,(ROWS($B$25:H25)-1)*7+COLUMNS($B$25:H25)) -> 44744 | J25: =INDEX(m8_,1,(ROWS($J$25:J25)-1)*7+COLUMNS($J$25:J25)) -> 44773 | K25: =INDEX(m8_,1,(ROWS($J$25:K25)-1)*7+COLUMNS($J$25:K25)) -> 44774 | L25: =INDEX(m8_,1,(ROWS($J$25:L25)-1)*7+COLUMNS($J$25:L25)) -> 44775 | M25: =INDEX(m8_,1,(ROWS($J$25:M25)-1)*7+COLUMNS($J$25:M25)) -> 44776 | N25: =INDEX(m8_,1,(ROWS($J$25:N25)-1)*7+COLUMNS($J$25:N25)) -> 44777 | O25: =INDEX(m8_,1,(ROWS($J$25:O25)-1)*7+COLUMNS($J$25:O25)) -> 44778 | P25: =INDEX(m8_,1,(ROWS($J$25:P25)-1)*7+COLUMNS($J$25:P25)) -> 44779 | R25: =INDEX(m9_,1,(ROWS($R$25:R25)-1)*7+COLUMNS($R$25:R25)) -> 44801 | S25: =INDEX(m9_,1,(ROWS($R$25:S25)-1)*7+COLUMNS($R$25:S25)) -> 44802 | T25: =INDEX(m9_,1,(ROWS($R$25:T25)-1)*7+COLUMNS($R$25:T25)) -> 44803 | U25: =INDEX(m9_,1,(ROWS($R$25:U25)-1)*7+COLUMNS($R$25:U25)) -> 44804 | V25: =INDEX(m9_,1,(ROWS($R$25:V25)-1)*7+COLUMNS($R$25:V25)) -> 44805 | W25: =INDEX(m9_,1,(ROWS($R$25:W25)-1)*7+COLUMNS($R$25:W25)) -> 44806 | X25: =INDEX(m9_,1,(ROWS($R$25:X25)-1)*7+COLUMNS($R$25:X25)) -> 44807
B26: =INDEX(m7_,1,(ROWS($B$25:B26)-1)*7+COLUMNS($B$25:B26)) -> 44745 | C26: =INDEX(m7_,1,(ROWS($B$25:C26)-1)*7+COLUMNS($B$25:C26)) -> 44746 | D26: =INDEX(m7_,1,(ROWS($B$25:D26)-1)*7+COLUMNS($B$25:D26)) -> 44747 | E26: =INDEX(m7_,1,(ROWS($B$25:E26)-1)*7+COLUMNS($B$25:E26)) -> 44748 | F26: =INDEX(m7_,1,(ROWS($B$25:F26)-1)*7+COLUMNS($B$25:F26)) -> 44749 | G26: =INDEX(m7_,1,(ROWS($B$25:G26)-1)*7+COLUMNS($B$25:G26)) -> 44750 | H26: =INDEX(m7_,1,(ROWS($B$25:H26)-1)*7+COLUMNS($B$25:H26)) -> 44751 | J26: =INDEX(m8_,1,(ROWS($J$25:J26)-1)*7+COLUMNS($J$25:J26)) -> 44780 | K26: =INDEX(m8_,1,(ROWS($J$25:K26)-1)*7+COLUMNS($J$25:K26)) -> 44781 | L26: =INDEX(m8_,1,(ROWS($J$25:L26)-1)*7+COLUMNS($J$25:L26)) -> 44782 | M26: =INDEX(m8_,1,(ROWS($J$25:M26)-1)*7+COLUMNS($J$25:M26)) -> 44783 | N26: =INDEX(m8_,1,(ROWS($J$25:N26)-1)*7+COLUMNS($J$25:N26)) -> 44784 | O26: =INDEX(m8_,1,(ROWS($J$25:O26)-1)*7+COLUMNS($J$25:O26)) -> 44785 | P26: =INDEX(m8_,1,(ROWS($J$25:P26)-1)*7+COLUMNS($J$25:P26)) -> 44786 | R26: =INDEX(m9_,1,(ROWS($R$25:R26)-1)*7+COLUMNS($R$25:R26)) -> 44808 | S26: =INDEX(m9_,1,(ROWS($R$25:S26)-1)*7+COLUMNS($R$25:S26)) -> 44809 | T26: =INDEX(m9_,1,(ROWS($R$25:T26)-1)*7+COLUMNS($R$25:T26)) -> 44810 | U26: =INDEX(m9_,1,(ROWS($R$25:U26)-1)*7+COLUMNS($R$25:U26)) -> 44811 | V26: =INDEX(m9_,1,(ROWS($R$25:V26)-1)*7+COLUMNS($R$25:V26)) -> 44812 | W26: =INDEX(m9_,1,(ROWS($R$25:W26)-1)*7+COLUMNS($R$25:W26)) -> 44813 | X26: =INDEX(m9_,1,(ROWS($R$25:X26)-1)*7+COLUMNS($R$25:X26)) -> 44814
B27: =INDEX(m7_,1,(ROWS($B$25:B27)-1)*7+COLUMNS($B$25:B27)) -> 44752 | C27: =INDEX(m7_,1,(ROWS($B$25:C27)-1)*7+COLUMNS($B$25:C27)) -> 44753 | D27: =INDEX(m7_,1,(ROWS($B$25:D27)-1)*7+COLUMNS($B$25:D27)) -> 44754 | E27: =INDEX(m7_,1,(ROWS($B$25:E27)-1)*7+COLUMNS($B$25:E27)) -> 44755 | F27: =INDEX(m7_,1,(ROWS($B$25:F27)-1)*7+COLUMNS($B$25:F27)) -> 44756 | G27: =INDEX(m7_,1,(ROWS($B$25:G27)-1)*7+COLUMNS($B$25:G27)) -> 44757 | H27: =INDEX(m7_,1,(ROWS($B$25:H27)-1)*7+COLUMNS($B$25:H27)) -> 44758 | J27: =INDEX(m8_,1,(ROWS($J$25:J27)-1)*7+COLUMNS($J$25:J27)) -> 44787 | K27: =INDEX(m8_,1,(ROWS($J$25:K27)-1)*7+COLUMNS($J$25:K27)) -> 44788 | L27: =INDEX(m8_,1,(ROWS($J$25:L27)-1)*7+COLUMNS($J$25:L27)) -> 44789 | M27: =INDEX(m8_,1,(ROWS($J$25:M27)-1)*7+COLUMNS($J$25:M27)) -> 44790 | N27: =INDEX(m8_,1,(ROWS($J$25:N27)-1)*7+COLUMNS($J$25:N27)) -> 44791 | O27: =INDEX(m8_,1,(ROWS($J$25:O27)-1)*7+COLUMNS($J$25:O27)) -> 44792 | P27: =INDEX(m8_,1,(ROWS($J$25:P27)-1)*7+COLUMNS($J$25:P27)) -> 44793 | R27: =INDEX(m9_,1,(ROWS($R$25:R27)-1)*7+COLUMNS($R$25:R27)) -> 44815 | S27: =INDEX(m9_,1,(ROWS($R$25:S27)-1)*7+COLUMNS($R$25:S27)) -> 44816 | T27: =INDEX(m9_,1,(ROWS($R$25:T27)-1)*7+COLUMNS($R$25:T27)) -> 44817 | U27: =INDEX(m9_,1,(ROWS($R$25:U27)-1)*7+COLUMNS($R$25:U27)) -> 44818 | V27: =INDEX(m9_,1,(ROWS($R$25:V27)-1)*7+COLUMNS($R$25:V27)) -> 44819 | W27: =INDEX(m9_,1,(ROWS($R$25:W27)-1)*7+COLUMNS($R$25:W27)) -> 44820 | X27: =INDEX(m9_,1,(ROWS($R$25:X27)-1)*7+COLUMNS($R$25:X27)) -> 44821
B28: =INDEX(m7_,1,(ROWS($B$25:B28)-1)*7+COLUMNS($B$25:B28)) -> 44759 | C28: =INDEX(m7_,1,(ROWS($B$25:C28)-1)*7+COLUMNS($B$25:C28)) -> 44760 | D28: =INDEX(m7_,1,(ROWS($B$25:D28)-1)*7+COLUMNS($B$25:D28)) -> 44761 | E28: =INDEX(m7_,1,(ROWS($B$25:E28)-1)*7+COLUMNS($B$25:E28)) -> 44762 | F28: =INDEX(m7_,1,(ROWS($B$25:F28)-1)*7+COLUMNS($B$25:F28)) -> 44763 | G28: =INDEX(m7_,1,(ROWS($B$25:G28)-1)*7+COLUMNS($B$25:G28)) -> 44764 | H28: =INDEX(m7_,1,(ROWS($B$25:H28)-1)*7+COLUMNS($B$25:H28)) -> 44765 | J28: =INDEX(m8_,1,(ROWS($J$25:J28)-1)*7+COLUMNS($J$25:J28)) -> 44794 | K28: =INDEX(m8_,1,(ROWS($J$25:K28)-1)*7+COLUMNS($J$25:K28)) -> 44795 | L28: =INDEX(m8_,1,(ROWS($J$25:L28)-1)*7+COLUMNS($J$25:L28)) -> 44796 | M28: =INDEX(m8_,1,(ROWS($J$25:M28)-1)*7+COLUMNS($J$25:M28)) -> 44797 | N28: =INDEX(m8_,1,(ROWS($J$25:N28)-1)*7+COLUMNS($J$25:N28)) -> 44798 | O28: =INDEX(m8_,1,(ROWS($J$25:O28)-1)*7+COLUMNS($J$25:O28)) -> 44799 | P28: =INDEX(m8_,1,(ROWS($J$25:P28)-1)*7+COLUMNS($J$25:P28)) -> 44800 | R28: =INDEX(m9_,1,(ROWS($R$25:R28)-1)*7+COLUMNS($R$25:R28)) -> 44822 | S28: =INDEX(m9_,1,(ROWS($R$25:S28)-1)*7+COLUMNS($R$25:S28)) -> 44823 | T28: =INDEX(m9_,1,(ROWS($R$25:T28)-1)*7+COLUMNS($R$25:T28)) -> 44824 | U28: =INDEX(m9_,1,(ROWS($R$25:U28)-1)*7+COLUMNS($R$25:U28)) -> 44825 | V28: =INDEX(m9_,1,(ROWS($R$25:V28)-1)*7+COLUMNS($R$25:V28)) -> 44826 | W28: =INDEX(m9_,1,(ROWS($R$25:W28)-1)*7+COLUMNS($R$25:W28)) -> 44827 | X28: =INDEX(m9_,1,(ROWS($R$25:X28)-1)*7+COLUMNS($R$25:X28)) -> 44828
B29: =INDEX(m7_,1,(ROWS($B$25:B29)-1)*7+COLUMNS($B$25:B29)) -> 44766 | C29: =INDEX(m7_,1,(ROWS($B$25:C29)-1)*7+COLUMNS($B$25:C29)) -> 44767 | D29: =INDEX(m7_,1,(ROWS($B$25:D29)-1)*7+COLUMNS($B$25:D29)) -> 44768 | E29: =INDEX(m7_,1,(ROWS($B$25:E29)-1)*7+COLUMNS($B$25:E29)) -> 44769 | F29: =INDEX(m7_,1,(ROWS($B$25:F29)-1)*7+COLUMNS($B$25:F29)) -> 44770 | G29: =INDEX(m7_,1,(ROWS($B$25:G29)-1)*7+COLUMNS($B$25:G29)) -> 44771 | H29: =INDEX(m7_,1,(ROWS($B$25:H29)-1)*7+COLUMNS($B$25:H29)) -> 44772 | J29: =INDEX(m8_,1,(ROWS($J$25:J29)-1)*7+COLUMNS($J$25:J29)) -> 44801 | K29: =INDEX(m8_,1,(ROWS($J$25:K29)-1)*7+COLUMNS($J$25:K29)) -> 44802 | L29: =INDEX(m8_,1,(ROWS($J$25:L29)-1)*7+COLUMNS($J$25:L29)) -> 44803 | M29: =INDEX(m8_,1,(ROWS($J$25:M29)-1)*7+COLUMNS($J$25:M29)) -> 44804 | N29: =INDEX(m8_,1,(ROWS($J$25:N29)-1)*7+COLUMNS($J$25:N29)) -> 44805 | O29: =INDEX(m8_,1,(ROWS($J$25:O29)-1)*7+COLUMNS($J$25:O29)) -> 44806 | P29: =INDEX(m8_,1,(ROWS($J$25:P29)-1)*7+COLUMNS($J$25:P29)) -> 44807 | R29: =INDEX(m9_,1,(ROWS($R$25:R29)-1)*7+COLUMNS($R$25:R29)) -> 44829 | S29: =INDEX(m9_,1,(ROWS($R$25:S29)-1)*7+COLUMNS($R$25:S29)) -> 44830 | T29: =INDEX(m9_,1,(ROWS($R$25:T29)-1)*7+COLUMNS($R$25:T29)) -> 44831 | U29: =INDEX(m9_,1,(ROWS($R$25:U29)-1)*7+COLUMNS($R$25:U29)) -> 44832 | V29: =INDEX(m9_,1,(ROWS($R$25:V29)-1)*7+COLUMNS($R$25:V29)) -> 44833 | W29: =INDEX(m9_,1,(ROWS($R$25:W29)-1)*7+COLUMNS($R$25:W29)) -> 44834 | X29: =INDEX(m9_,1,(ROWS($R$25:X29)-1)*7+COLUMNS($R$25:X29)) -> 44835
B30: =INDEX(m7_,1,(ROWS($B$25:B30)-1)*7+COLUMNS($B$25:B30)) -> 44773 | C30: =INDEX(m7_,1,(ROWS($B$25:C30)-1)*7+COLUMNS($B$25:C30)) -> 44774 | D30: =INDEX(m7_,1,(ROWS($B$25:D30)-1)*7+COLUMNS($B$25:D30)) -> 44775 | E30: =INDEX(m7_,1,(ROWS($B$25:E30)-1)*7+COLUMNS($B$25:E30)) -> 44776 | F30: =INDEX(m7_,1,(ROWS($B$25:F30)-1)*7+COLUMNS($B$25:F30)) -> 44777 | G30: =INDEX(m7_,1,(ROWS($B$25:G30)-1)*7+COLUMNS($B$25:G30)) -> 44778 | H30: =INDEX(m7_,1,(ROWS($B$25:H30)-1)*7+COLUMNS($B$25:H30)) -> 44779 | J30: =INDEX(m8_,1,(ROWS($J$25:J30)-1)*7+COLUMNS($J$25:J30)) -> 44808 | K30: =INDEX(m8_,1,(ROWS($J$25:K30)-1)*7+COLUMNS($J$25:K30)) -> 44809 | L30: =INDEX(m8_,1,(ROWS($J$25:L30)-1)*7+COLUMNS($J$25:L30)) -> 44810 | M30: =INDEX(m8_,1,(ROWS($J$25:M30)-1)*7+COLUMNS($J$25:M30)) -> 44811 | N30: =INDEX(m8_,1,(ROWS($J$25:N30)-1)*7+COLUMNS($J$25:N30)) -> 44812 | O30: =INDEX(m8_,1,(ROWS($J$25:O30)-1)*7+COLUMNS($J$25:O30)) -> 44813 | P30: =INDEX(m8_,1,(ROWS($J$25:P30)-1)*7+COLUMNS($J$25:P30)) -> 44814 | R30: =INDEX(m9_,1,(ROWS($R$25:R30)-1)*7+COLUMNS($R$25:R30)) -> 44836 | S30: =INDEX(m9_,1,(ROWS($R$25:S30)-1)*7+COLUMNS($R$25:S30)) -> 44837 | T30: =INDEX(m9_,1,(ROWS($R$25:T30)-1)*7+COLUMNS($R$25:T30)) -> 44838 | U30: =INDEX(m9_,1,(ROWS($R$25:U30)-1)*7+COLUMNS($R$25:U30)) -> 44839 | V30: =INDEX(m9_,1,(ROWS($R$25:V30)-1)*7+COLUMNS($R$25:V30)) -> 44840 | W30: =INDEX(m9_,1,(ROWS($R$25:W30)-1)*7+COLUMNS($R$25:W30)) -> 44841 | X30: =INDEX(m9_,1,(ROWS($R$25:X30)-1)*7+COLUMNS($R$25:X30)) -> 44842
B32: =Mini!B15 -> 44835 | J32: =Mini!B16 -> 44866 | R32: =Mini!B17 -> 44896
B33: Do | C33: Lu | D33: Ma | E33: Mi | F33: Ju | G33: Vi | H33: Sa | J33: Do | K33: Lu | L33: Ma | M33: Mi | N33: Ju | O33: Vi | P33: Sa | R33: Do | S33: Lu | T33: Ma | U33: Mi | V33: Ju | W33: Vi | X33: Sa
B34: =INDEX(m10_,1,(ROWS($B$34:B34)-1)*7+COLUMNS($B$34:B34)) -> 44829 | C34: =INDEX(m10_,1,(ROWS($B$34:C34)-1)*7+COLUMNS($B$34:C34)) -> 44830 | D34: =INDEX(m10_,1,(ROWS($B$34:D34)-1)*7+COLUMNS($B$34:D34)) -> 44831 | E34: =INDEX(m10_,1,(ROWS($B$34:E34)-1)*7+COLUMNS($B$34:E34)) -> 44832 | F34: =INDEX(m10_,1,(ROWS($B$34:F34)-1)*7+COLUMNS($B$34:F34)) -> 44833 | G34: =INDEX(m10_,1,(ROWS($B$34:G34)-1)*7+COLUMNS($B$34:G34)) -> 44834 | H34: =INDEX(m10_,1,(ROWS($B$34:H34)-1)*7+COLUMNS($B$34:H34)) -> 44835 | J34: =INDEX(m11_,1,(ROWS($J$34:J34)-1)*7+COLUMNS($J$34:J34)) -> 44864 | K34: =INDEX(m11_,1,(ROWS($J$34:K34)-1)*7+COLUMNS($J$34:K34)) -> 44865 | L34: =INDEX(m11_,1,(ROWS($J$34:L34)-1)*7+COLUMNS($J$34:L34)) -> 44866 | M34: =INDEX(m11_,1,(ROWS($J$34:M34)-1)*7+COLUMNS($J$34:M34)) -> 44867 | N34: =INDEX(m11_,1,(ROWS($J$34:N34)-1)*7+COLUMNS($J$34:N34)) -> 44868 | O34: =INDEX(m11_,1,(ROWS($J$34:O34)-1)*7+COLUMNS($J$34:O34)) -> 44869 | P34: =INDEX(m11_,1,(ROWS($J$34:P34)-1)*7+COLUMNS($J$34:P34)) -> 44870 | R34: =INDEX(m12_,1,(ROWS($R$34:R34)-1)*7+COLUMNS($R$34:R34)) -> 44892 | S34: =INDEX(m12_,1,(ROWS($R$34:S34)-1)*7+COLUMNS($R$34:S34)) -> 44893 | T34: =INDEX(m12_,1,(ROWS($R$34:T34)-1)*7+COLUMNS($R$34:T34)) -> 44894 | U34: =INDEX(m12_,1,(ROWS($R$34:U34)-1)*7+COLUMNS($R$34:U34)) -> 44895 | V34: =INDEX(m12_,1,(ROWS($R$34:V34)-1)*7+COLUMNS($R$34:V34)) -> 44896 | W34: =INDEX(m12_,1,(ROWS($R$34:W34)-1)*7+COLUMNS($R$34:W34)) -> 44897 | X34: =INDEX(m12_,1,(ROWS($R$34:X34)-1)*7+COLUMNS($R$34:X34)) -> 44898
B35: =INDEX(m10_,1,(ROWS($B$34:B35)-1)*7+COLUMNS($B$34:B35)) -> 44836 | C35: =INDEX(m10_,1,(ROWS($B$34:C35)-1)*7+COLUMNS($B$34:C35)) -> 44837 | D35: =INDEX(m10_,1,(ROWS($B$34:D35)-1)*7+COLUMNS($B$34:D35)) -> 44838 | E35: =INDEX(m10_,1,(ROWS($B$34:E35)-1)*7+COLUMNS($B$34:E35)) -> 44839 | F35: =INDEX(m10_,1,(ROWS($B$34:F35)-1)*7+COLUMNS($B$34:F35)) -> 44840 | G35: =INDEX(m10_,1,(ROWS($B$34:G35)-1)*7+COLUMNS($B$34:G35)) -> 44841 | H35: =INDEX(m10_,1,(ROWS($B$34:H35)-1)*7+COLUMNS($B$34:H35)) -> 44842 | J35: =INDEX(m11_,1,(ROWS($J$34:J35)-1)*7+COLUMNS($J$34:J35)) -> 44871 | K35: =INDEX(m11_,1,(ROWS($J$34:K35)-1)*7+COLUMNS($J$34:K35)) -> 44872 | L35: =INDEX(m11_,1,(ROWS($J$34:L35)-1)*7+COLUMNS($J$34:L35)) -> 44873 | M35: =INDEX(m11_,1,(ROWS($J$34:M35)-1)*7+COLUMNS($J$34:M35)) -> 44874 | N35: =INDEX(m11_,1,(ROWS($J$34:N35)-1)*7+COLUMNS($J$34:N35)) -> 44875 | O35: =INDEX(m11_,1,(ROWS($J$34:O35)-1)*7+COLUMNS($J$34:O35)) -> 44876 | P35: =INDEX(m11_,1,(ROWS($J$34:P35)-1)*7+COLUMNS($J$34:P35)) -> 44877 | R35: =INDEX(m12_,1,(ROWS($R$34:R35)-1)*7+COLUMNS($R$34:R35)) -> 44899 | S35: =INDEX(m12_,1,(ROWS($R$34:S35)-1)*7+COLUMNS($R$34:S35)) -> 44900 | T35: =INDEX(m12_,1,(ROWS($R$34:T35)-1)*7+COLUMNS($R$34:T35)) -> 44901 | U35: =INDEX(m12_,1,(ROWS($R$34:U35)-1)*7+COLUMNS($R$34:U35)) -> 44902 | V35: =INDEX(m12_,1,(ROWS($R$34:V35)-1)*7+COLUMNS($R$34:V35)) -> 44903 | W35: =INDEX(m12_,1,(ROWS($R$34:W35)-1)*7+COLUMNS($R$34:W35)) -> 44904 | X35: =INDEX(m12_,1,(ROWS($R$34:X35)-1)*7+COLUMNS($R$34:X35)) -> 44905
B36: =INDEX(m10_,1,(ROWS($B$34:B36)-1)*7+COLUMNS($B$34:B36)) -> 44843 | C36: =INDEX(m10_,1,(ROWS($B$34:C36)-1)*7+COLUMNS($B$34:C36)) -> 44844 | D36: =INDEX(m10_,1,(ROWS($B$34:D36)-1)*7+COLUMNS($B$34:D36)) -> 44845 | E36: =INDEX(m10_,1,(ROWS($B$34:E36)-1)*7+COLUMNS($B$34:E36)) -> 44846 | F36: =INDEX(m10_,1,(ROWS($B$34:F36)-1)*7+COLUMNS($B$34:F36)) -> 44847 | G36: =INDEX(m10_,1,(ROWS($B$34:G36)-1)*7+COLUMNS($B$34:G36)) -> 44848 | H36: =INDEX(m10_,1,(ROWS($B$34:H36)-1)*7+COLUMNS($B$34:H36)) -> 44849 | J36: =INDEX(m11_,1,(ROWS($J$34:J36)-1)*7+COLUMNS($J$34:J36)) -> 44878 | K36: =INDEX(m11_,1,(ROWS($J$34:K36)-1)*7+COLUMNS($J$34:K36)) -> 44879 | L36: =INDEX(m11_,1,(ROWS($J$34:L36)-1)*7+COLUMNS($J$34:L36)) -> 44880 | M36: =INDEX(m11_,1,(ROWS($J$34:M36)-1)*7+COLUMNS($J$34:M36)) -> 44881 | N36: =INDEX(m11_,1,(ROWS($J$34:N36)-1)*7+COLUMNS($J$34:N36)) -> 44882 | O36: =INDEX(m11_,1,(ROWS($J$34:O36)-1)*7+COLUMNS($J$34:O36)) -> 44883 | P36: =INDEX(m11_,1,(ROWS($J$34:P36)-1)*7+COLUMNS($J$34:P36)) -> 44884 | R36: =INDEX(m12_,1,(ROWS($R$34:R36)-1)*7+COLUMNS($R$34:R36)) -> 44906 | S36: =INDEX(m12_,1,(ROWS($R$34:S36)-1)*7+COLUMNS($R$34:S36)) -> 44907 | T36: =INDEX(m12_,1,(ROWS($R$34:T36)-1)*7+COLUMNS($R$34:T36)) -> 44908 | U36: =INDEX(m12_,1,(ROWS($R$34:U36)-1)*7+COLUMNS($R$34:U36)) -> 44909 | V36: =INDEX(m12_,1,(ROWS($R$34:V36)-1)*7+COLUMNS($R$34:V36)) -> 44910 | W36: =INDEX(m12_,1,(ROWS($R$34:W36)-1)*7+COLUMNS($R$34:W36)) -> 44911 | X36: =INDEX(m12_,1,(ROWS($R$34:X36)-1)*7+COLUMNS($R$34:X36)) -> 44912
B37: =INDEX(m10_,1,(ROWS($B$34:B37)-1)*7+COLUMNS($B$34:B37)) -> 44850 | C37: =INDEX(m10_,1,(ROWS($B$34:C37)-1)*7+COLUMNS($B$34:C37)) -> 44851 | D37: =INDEX(m10_,1,(ROWS($B$34:D37)-1)*7+COLUMNS($B$34:D37)) -> 44852 | E37: =INDEX(m10_,1,(ROWS($B$34:E37)-1)*7+COLUMNS($B$34:E37)) -> 44853 | F37: =INDEX(m10_,1,(ROWS($B$34:F37)-1)*7+COLUMNS($B$34:F37)) -> 44854 | G37: =INDEX(m10_,1,(ROWS($B$34:G37)-1)*7+COLUMNS($B$34:G37)) -> 44855 | H37: =INDEX(m10_,1,(ROWS($B$34:H37)-1)*7+COLUMNS($B$34:H37)) -> 44856 | J37: =INDEX(m11_,1,(ROWS($J$34:J37)-1)*7+COLUMNS($J$34:J37)) -> 44885 | K37: =INDEX(m11_,1,(ROWS($J$34:K37)-1)*7+COLUMNS($J$34:K37)) -> 44886 | L37: =INDEX(m11_,1,(ROWS($J$34:L37)-1)*7+COLUMNS($J$34:L37)) -> 44887 | M37: =INDEX(m11_,1,(ROWS($J$34:M37)-1)*7+COLUMNS($J$34:M37)) -> 44888 | N37: =INDEX(m11_,1,(ROWS($J$34:N37)-1)*7+COLUMNS($J$34:N37)) -> 44889 | O37: =INDEX(m11_,1,(ROWS($J$34:O37)-1)*7+COLUMNS($J$34:O37)) -> 44890 | P37: =INDEX(m11_,1,(ROWS($J$34:P37)-1)*7+COLUMNS($J$34:P37)) -> 44891 | R37: =INDEX(m12_,1,(ROWS($R$34:R37)-1)*7+COLUMNS($R$34:R37)) -> 44913 | S37: =INDEX(m12_,1,(ROWS($R$34:S37)-1)*7+COLUMNS($R$34:S37)) -> 44914 | T37: =INDEX(m12_,1,(ROWS($R$34:T37)-1)*7+COLUMNS($R$34:T37)) -> 44915 | U37: =INDEX(m12_,1,(ROWS($R$34:U37)-1)*7+COLUMNS($R$34:U37)) -> 44916 | V37: =INDEX(m12_,1,(ROWS($R$34:V37)-1)*7+COLUMNS($R$34:V37)) -> 44917 | W37: =INDEX(m12_,1,(ROWS($R$34:W37)-1)*7+COLUMNS($R$34:W37)) -> 44918 | X37: =INDEX(m12_,1,(ROWS($R$34:X37)-1)*7+COLUMNS($R$34:X37)) -> 44919
B38: =INDEX(m10_,1,(ROWS($B$34:B38)-1)*7+COLUMNS($B$34:B38)) -> 44857 | C38: =INDEX(m10_,1,(ROWS($B$34:C38)-1)*7+COLUMNS($B$34:C38)) -> 44858 | D38: =INDEX(m10_,1,(ROWS($B$34:D38)-1)*7+COLUMNS($B$34:D38)) -> 44859 | E38: =INDEX(m10_,1,(ROWS($B$34:E38)-1)*7+COLUMNS($B$34:E38)) -> 44860 | F38: =INDEX(m10_,1,(ROWS($B$34:F38)-1)*7+COLUMNS($B$34:F38)) -> 44861 | G38: =INDEX(m10_,1,(ROWS($B$34:G38)-1)*7+COLUMNS($B$34:G38)) -> 44862 | H38: =INDEX(m10_,1,(ROWS($B$34:H38)-1)*7+COLUMNS($B$34:H38)) -> 44863 | J38: =INDEX(m11_,1,(ROWS($J$34:J38)-1)*7+COLUMNS($J$34:J38)) -> 44892 | K38: =INDEX(m11_,1,(ROWS($J$34:K38)-1)*7+COLUMNS($J$34:K38)) -> 44893 | L38: =INDEX(m11_,1,(ROWS($J$34:L38)-1)*7+COLUMNS($J$34:L38)) -> 44894 | M38: =INDEX(m11_,1,(ROWS($J$34:M38)-1)*7+COLUMNS($J$34:M38)) -> 44895 | N38: =INDEX(m11_,1,(ROWS($J$34:N38)-1)*7+COLUMNS($J$34:N38)) -> 44896 | O38: =INDEX(m11_,1,(ROWS($J$34:O38)-1)*7+COLUMNS($J$34:O38)) -> 44897 | P38: =INDEX(m11_,1,(ROWS($J$34:P38)-1)*7+COLUMNS($J$34:P38)) -> 44898 | R38: =INDEX(m12_,1,(ROWS($R$34:R38)-1)*7+COLUMNS($R$34:R38)) -> 44920 | S38: =INDEX(m12_,1,(ROWS($R$34:S38)-1)*7+COLUMNS($R$34:S38)) -> 44921 | T38: =INDEX(m12_,1,(ROWS($R$34:T38)-1)*7+COLUMNS($R$34:T38)) -> 44922 | U38: =INDEX(m12_,1,(ROWS($R$34:U38)-1)*7+COLUMNS($R$34:U38)) -> 44923 | V38: =INDEX(m12_,1,(ROWS($R$34:V38)-1)*7+COLUMNS($R$34:V38)) -> 44924 | W38: =INDEX(m12_,1,(ROWS($R$34:W38)-1)*7+COLUMNS($R$34:W38)) -> 44925 | X38: =INDEX(m12_,1,(ROWS($R$34:X38)-1)*7+COLUMNS($R$34:X38)) -> 44926
B39: =INDEX(m10_,1,(ROWS($B$34:B39)-1)*7+COLUMNS($B$34:B39)) -> 44864 | C39: =INDEX(m10_,1,(ROWS($B$34:C39)-1)*7+COLUMNS($B$34:C39)) -> 44865 | D39: =INDEX(m10_,1,(ROWS($B$34:D39)-1)*7+COLUMNS($B$34:D39)) -> 44866 | E39: =INDEX(m10_,1,(ROWS($B$34:E39)-1)*7+COLUMNS($B$34:E39)) -> 44867 | F39: =INDEX(m10_,1,(ROWS($B$34:F39)-1)*7+COLUMNS($B$34:F39)) -> 44868 | G39: =INDEX(m10_,1,(ROWS($B$34:G39)-1)*7+COLUMNS($B$34:G39)) -> 44869 | H39: =INDEX(m10_,1,(ROWS($B$34:H39)-1)*7+COLUMNS($B$34:H39)) -> 44870 | J39: =INDEX(m11_,1,(ROWS($J$34:J39)-1)*7+COLUMNS($J$34:J39)) -> 44899 | K39: =INDEX(m11_,1,(ROWS($J$34:K39)-1)*7+COLUMNS($J$34:K39)) -> 44900 | L39: =INDEX(m11_,1,(ROWS($J$34:L39)-1)*7+COLUMNS($J$34:L39)) -> 44901 | M39: =INDEX(m11_,1,(ROWS($J$34:M39)-1)*7+COLUMNS($J$34:M39)) -> 44902 | N39: =INDEX(m11_,1,(ROWS($J$34:N39)-1)*7+COLUMNS($J$34:N39)) -> 44903 | O39: =INDEX(m11_,1,(ROWS($J$34:O39)-1)*7+COLUMNS($J$34:O39)) -> 44904 | P39: =INDEX(m11_,1,(ROWS($J$34:P39)-1)*7+COLUMNS($J$34:P39)) -> 44905 | R39: =INDEX(m12_,1,(ROWS($R$34:R39)-1)*7+COLUMNS($R$34:R39)) -> 44927 | S39: =INDEX(m12_,1,(ROWS($R$34:S39)-1)*7+COLUMNS($R$34:S39)) -> 44928 | T39: =INDEX(m12_,1,(ROWS($R$34:T39)-1)*7+COLUMNS($R$34:T39)) -> 44929 | U39: =INDEX(m12_,1,(ROWS($R$34:U39)-1)*7+COLUMNS($R$34:U39)) -> 44930 | V39: =INDEX(m12_,1,(ROWS($R$34:V39)-1)*7+COLUMNS($R$34:V39)) -> 44931 | W39: =INDEX(m12_,1,(ROWS($R$34:W39)-1)*7+COLUMNS($R$34:W39)) -> 44932 | X39: =INDEX(m12_,1,(ROWS($R$34:X39)-1)*7+COLUMNS($R$34:X39)) -> 44933 | Z39: http://aplicaexcelcontable.com/blog

Sheet Calendiario - color 3
B3: Año | D3: =year -> 2022 | AA3: Notas
B5: =Mini!B6 -> 44562 | J5: =Mini!B7 -> 44593 | R5: =Mini!B8 -> 44621
B6: Do | C6: Lu | D6: Ma | E6: Mi | F6: Ju | G6: Vi | H6: Sa | J6: Do | K6: Lu | L6: Ma | M6: Mi | N6: Ju | O6: Vi | P6: Sa | R6: Do | S6: Lu | T6: Ma | U6: Mi | V6: Ju | W6: Vi | X6: Sa
B7: =INDEX(m1_,1,(ROWS($B$7:B7)-1)*7+COLUMNS($B$7:B7)) -> 44556 | C7: =INDEX(m1_,1,(ROWS($B$7:C7)-1)*7+COLUMNS($B$7:C7)) -> 44557 | D7: =INDEX(m1_,1,(ROWS($B$7:D7)-1)*7+COLUMNS($B$7:D7)) -> 44558 | E7: =INDEX(m1_,1,(ROWS($B$7:E7)-1)*7+COLUMNS($B$7:E7)) -> 44559 | F7: =INDEX(m1_,1,(ROWS($B$7:F7)-1)*7+COLUMNS($B$7:F7)) -> 44560 | G7: =INDEX(m1_,1,(ROWS($B$7:G7)-1)*7+COLUMNS($B$7:G7)) -> 44561 | H7: =INDEX(m1_,1,(ROWS($B$7:H7)-1)*7+COLUMNS($B$7:H7)) -> 44562 | J7: =INDEX(m2_,1,(ROWS($J$7:J7)-1)*7+COLUMNS($J$7:J7)) -> 44591 | K7: =INDEX(m2_,1,(ROWS($J$7:K7)-1)*7+COLUMNS($J$7:K7)) -> 44592 | L7: =INDEX(m2_,1,(ROWS($J$7:L7)-1)*7+COLUMNS($J$7:L7)) -> 44593 | M7: =INDEX(m2_,1,(ROWS($J$7:M7)-1)*7+COLUMNS($J$7:M7)) -> 44594 | N7: =INDEX(m2_,1,(ROWS($J$7:N7)-1)*7+COLUMNS($J$7:N7)) -> 44595 | O7: =INDEX(m2_,1,(ROWS($J$7:O7)-1)*7+COLUMNS($J$7:O7)) -> 44596 | P7: =INDEX(m2_,1,(ROWS($J$7:P7)-1)*7+COLUMNS($J$7:P7)) -> 44597 | R7: =INDEX(m3_,1,(ROWS($R$7:R7)-1)*7+COLUMNS($R$7:R7)) -> 44619 | S7: =INDEX(m3_,1,(ROWS($R$7:S7)-1)*7+COLUMNS($R$7:S7)) -> 44620 | T7: =INDEX(m3_,1,(ROWS($R$7:T7)-1)*7+COLUMNS($R$7:T7)) -> 44621 | U7: =INDEX(m3_,1,(ROWS($R$7:U7)-1)*7+COLUMNS($R$7:U7)) -> 44622 | V7: =INDEX(m3_,1,(ROWS($R$7:V7)-1)*7+COLUMNS($R$7:V7)) -> 44623 | W7: =INDEX(m3_,1,(ROWS($R$7:W7)-1)*7+COLUMNS($R$7:W7)) -> 44624 | X7: =INDEX(m3_,1,(ROWS($R$7:X7)-1)*7+COLUMNS($R$7:X7)) -> 44625
B8: =INDEX(m1_,1,(ROWS($B$7:B8)-1)*7+COLUMNS($B$7:B8)) -> 44563 | C8: =INDEX(m1_,1,(ROWS($B$7:C8)-1)*7+COLUMNS($B$7:C8)) -> 44564 | D8: =INDEX(m1_,1,(ROWS($B$7:D8)-1)*7+COLUMNS($B$7:D8)) -> 44565 | E8: =INDEX(m1_,1,(ROWS($B$7:E8)-1)*7+COLUMNS($B$7:E8)) -> 44566 | F8: =INDEX(m1_,1,(ROWS($B$7:F8)-1)*7+COLUMNS($B$7:F8)) -> 44567 | G8: =INDEX(m1_,1,(ROWS($B$7:G8)-1)*7+COLUMNS($B$7:G8)) -> 44568 | H8: =INDEX(m1_,1,(ROWS($B$7:H8)-1)*7+COLUMNS($B$7:H8)) -> 44569 | J8: =INDEX(m2_,1,(ROWS($J$7:J8)-1)*7+COLUMNS($J$7:J8)) -> 44598 | K8: =INDEX(m2_,1,(ROWS($J$7:K8)-1)*7+COLUMNS($J$7:K8)) -> 44599 | L8: =INDEX(m2_,1,(ROWS($J$7:L8)-1)*7+COLUMNS($J$7:L8)) -> 44600 | M8: =INDEX(m2_,1,(ROWS($J$7:M8)-1)*7+COLUMNS($J$7:M8)) -> 44601 | N8: =INDEX(m2_,1,(ROWS($J$7:N8)-1)*7+COLUMNS($J$7:N8)) -> 44602 | O8: =INDEX(m2_,1,(ROWS($J$7:O8)-1)*7+COLUMNS($J$7:O8)) -> 44603 | P8: =INDEX(m2_,1,(ROWS($J$7:P8)-1)*7+COLUMNS($J$7:P8)) -> 44604 | R8: =INDEX(m3_,1,(ROWS($R$7:R8)-1)*7+COLUMNS($R$7:R8)) -> 44626 | S8: =INDEX(m3_,1,(ROWS($R$7:S8)-1)*7+COLUMNS($R$7:S8)) -> 44627 | T8: =INDEX(m3_,1,(ROWS($R$7:T8)-1)*7+COLUMNS($R$7:T8)) -> 44628 | U8: =INDEX(m3_,1,(ROWS($R$7:U8)-1)*7+COLUMNS($R$7:U8)) -> 44629 | V8: =INDEX(m3_,1,(ROWS($R$7:V8)-1)*7+COLUMNS($R$7:V8)) -> 44630 | W8: =INDEX(m3_,1,(ROWS($R$7:W8)-1)*7+COLUMNS($R$7:W8)) -> 44631 | X8: =INDEX(m3_,1,(ROWS($R$7:X8)-1)*7+COLUMNS($R$7:X8)) -> 44632
B9: =INDEX(m1_,1,(ROWS($B$7:B9)-1)*7+COLUMNS($B$7:B9)) -> 44570 | C9: =INDEX(m1_,1,(ROWS($B$7:C9)-1)*7+COLUMNS($B$7:C9)) -> 44571 | D9: =INDEX(m1_,1,(ROWS($B$7:D9)-1)*7+COLUMNS($B$7:D9)) -> 44572 | E9: =INDEX(m1_,1,(ROWS($B$7:E9)-1)*7+COLUMNS($B$7:E9)) -> 44573 | F9: =INDEX(m1_,1,(ROWS($B$7:F9)-1)*7+COLUMNS($B$7:F9)) -> 44574 | G9: =INDEX(m1_,1,(ROWS($B$7:G9)-1)*7+COLUMNS($B$7:G9)) -> 44575 | H9: =INDEX(m1_,1,(ROWS($B$7:H9)-1)*7+COLUMNS($B$7:H9)) -> 44576 | J9: =INDEX(m2_,1,(ROWS($J$7:J9)-1)*7+COLUMNS($J$7:J9)) -> 44605 | K9: =INDEX(m2_,1,(ROWS($J$7:K9)-1)*7+COLUMNS($J$7:K9)) -> 44606 | L9: =INDEX(m2_,1,(ROWS($J$7:L9)-1)*7+COLUMNS($J$7:L9)) -> 44607 | M9: =INDEX(m2_,1,(ROWS($J$7:M9)-1)*7+COLUMNS($J$7:M9)) -> 44608 | N9: =INDEX(m2_,1,(ROWS($J$7:N9)-1)*7+COLUMNS($J$7:N9)) -> 44609 | O9: =INDEX(m2_,1,(ROWS($J$7:O9)-1)*7+COLUMNS($J$7:O9)) -> 44610 | P9: =INDEX(m2_,1,(ROWS($J$7:P9)-1)*7+COLUMNS($J$7:P9)) -> 44611 | R9: =INDEX(m3_,1,(ROWS($R$7:R9)-1)*7+COLUMNS($R$7:R9)) -> 44633 | S9: =INDEX(m3_,1,(ROWS($R$7:S9)-1)*7+COLUMNS($R$7:S9)) -> 44634 | T9: =INDEX(m3_,1,(ROWS($R$7:T9)-1)*7+COLUMNS($R$7:T9)) -> 44635 | U9: =INDEX(m3_,1,(ROWS($R$7:U9)-1)*7+COLUMNS($R$7:U9)) -> 44636 | V9: =INDEX(m3_,1,(ROWS($R$7:V9)-1)*7+COLUMNS($R$7:V9)) -> 44637 | W9: =INDEX(m3_,1,(ROWS($R$7:W9)-1)*7+COLUMNS($R$7:W9)) -> 44638 | X9: =INDEX(m3_,1,(ROWS($R$7:X9)-1)*7+COLUMNS($R$7:X9)) -> 44639
B10: =INDEX(m1_,1,(ROWS($B$7:B10)-1)*7+COLUMNS($B$7:B10)) -> 44577 | C10: =INDEX(m1_,1,(ROWS($B$7:C10)-1)*7+COLUMNS($B$7:C10)) -> 44578 | D10: =INDEX(m1_,1,(ROWS($B$7:D10)-1)*7+COLUMNS($B$7:D10)) -> 44579 | E10: =INDEX(m1_,1,(ROWS($B$7:E10)-1)*7+COLUMNS($B$7:E10)) -> 44580 | F10: =INDEX(m1_,1,(ROWS($B$7:F10)-1)*7+COLUMNS($B$7:F10)) -> 44581 | G10: =INDEX(m1_,1,(ROWS($B$7:G10)-1)*7+COLUMNS($B$7:G10)) -> 44582 | H10: =INDEX(m1_,1,(ROWS($B$7:H10)-1)*7+COLUMNS($B$7:H10)) -> 44583 | J10: =INDEX(m2_,1,(ROWS($J$7:J10)-1)*7+COLUMNS($J$7:J10)) -> 44612 | K10: =INDEX(m2_,1,(ROWS($J$7:K10)-1)*7+COLUMNS($J$7:K10)) -> 44613 | L10: =INDEX(m2_,1,(ROWS($J$7:L10)-1)*7+COLUMNS($J$7:L10)) -> 44614 | M10: =INDEX(m2_,1,(ROWS($J$7:M10)-1)*7+COLUMNS($J$7:M10)) -> 44615 | N10: =INDEX(m2_,1,(ROWS($J$7:N10)-1)*7+COLUMNS($J$7:N10)) -> 44616 | O10: =INDEX(m2_,1,(ROWS($J$7:O10)-1)*7+COLUMNS($J$7:O10)) -> 44617 | P10: =INDEX(m2_,1,(ROWS($J$7:P10)-1)*7+COLUMNS($J$7:P10)) -> 44618 | R10: =INDEX(m3_,1,(ROWS($R$7:R10)-1)*7+COLUMNS($R$7:R10)) -> 44640 | S10: =INDEX(m3_,1,(ROWS($R$7:S10)-1)*7+COLUMNS($R$7:S10)) -> 44641 | T10: =INDEX(m3_,1,(ROWS($R$7:T10)-1)*7+COLUMNS($R$7:T10)) -> 44642 | U10: =INDEX(m3_,1,(ROWS($R$7:U10)-1)*7+COLUMNS($R$7:U10)) -> 44643 | V10: =INDEX(m3_,1,(ROWS($R$7:V10)-1)*7+COLUMNS($R$7:V10)) -> 44644 | W10: =INDEX(m3_,1,(ROWS($R$7:W10)-1)*7+COLUMNS($R$7:W10)) -> 44645 | X10: =INDEX(m3_,1,(ROWS($R$7:X10)-1)*7+COLUMNS($R$7:X10)) -> 44646
B11: =INDEX(m1_,1,(ROWS($B$7:B11)-1)*7+COLUMNS($B$7:B11)) -> 44584 | C11: =INDEX(m1_,1,(ROWS($B$7:C11)-1)*7+COLUMNS($B$7:C11)) -> 44585 | D11: =INDEX(m1_,1,(ROWS($B$7:D11)-1)*7+COLUMNS($B$7:D11)) -> 44586 | E11: =INDEX(m1_,1,(ROWS($B$7:E11)-1)*7+COLUMNS($B$7:E11)) -> 44587 | F11: =INDEX(m1_,1,(ROWS($B$7:F11)-1)*7+COLUMNS($B$7:F11)) -> 44588 | G11: =INDEX(m1_,1,(ROWS($B$7:G11)-1)*7+COLUMNS($B$7:G11)) -> 44589 | H11: =INDEX(m1_,1,(ROWS($B$7:H11)-1)*7+COLUMNS($B$7:H11)) -> 44590 | J11: =INDEX(m2_,1,(ROWS($J$7:J11)-1)*7+COLUMNS($J$7:J11)) -> 44619 | K11: =INDEX(m2_,1,(ROWS($J$7:K11)-1)*7+COLUMNS($J$7:K11)) -> 44620 | L11: =INDEX(m2_,1,(ROWS($J$7:L11)-1)*7+COLUMNS($J$7:L11)) -> 44621 | M11: =INDEX(m2_,1,(ROWS($J$7:M11)-1)*7+COLUMNS($J$7:M11)) -> 44622 | N11: =INDEX(m2_,1,(ROWS($J$7:N11)-1)*7+COLUMNS($J$7:N11)) -> 44623 | O11: =INDEX(m2_,1,(ROWS($J$7:O11)-1)*7+COLUMNS($J$7:O11)) -> 44624 | P11: =INDEX(m2_,1,(ROWS($J$7:P11)-1)*7+COLUMNS($J$7:P11)) -> 44625 | R11: =INDEX(m3_,1,(ROWS($R$7:R11)-1)*7+COLUMNS($R$7:R11)) -> 44647 | S11: =INDEX(m3_,1,(ROWS($R$7:S11)-1)*7+COLUMNS($R$7:S11)) -> 44648 | T11: =INDEX(m3_,1,(ROWS($R$7:T11)-1)*7+COLUMNS($R$7:T11)) -> 44649 | U11: =INDEX(m3_,1,(ROWS($R$7:U11)-1)*7+COLUMNS($R$7:U11)) -> 44650 | V11: =INDEX(m3_,1,(ROWS($R$7:V11)-1)*7+COLUMNS($R$7:V11)) -> 44651 | W11: =INDEX(m3_,1,(ROWS($R$7:W11)-1)*7+COLUMNS($R$7:W11)) -> 44652 | X11: =INDEX(m3_,1,(ROWS($R$7:X11)-1)*7+COLUMNS($R$7:X11)) -> 44653
B12: =INDEX(m1_,1,(ROWS($B$7:B12)-1)*7+COLUMNS($B$7:B12)) -> 44591 | C12: =INDEX(m1_,1,(ROWS($B$7:C12)-1)*7+COLUMNS($B$7:C12)) -> 44592 | D12: =INDEX(m1_,1,(ROWS($B$7:D12)-1)*7+COLUMNS($B$7:D12)) -> 44593 | E12: =INDEX(m1_,1,(ROWS($B$7:E12)-1)*7+COLUMNS($B$7:E12)) -> 44594 | F12: =INDEX(m1_,1,(ROWS($B$7:F12)-1)*7+COLUMNS($B$7:F12)) -> 44595 | G12: =INDEX(m1_,1,(ROWS($B$7:G12)-1)*7+COLUMNS($B$7:G12)) -> 44596 | H12: =INDEX(m1_,1,(ROWS($B$7:H12)-1)*7+COLUMNS($B$7:H12)) -> 44597 | J12: =INDEX(m2_,1,(ROWS($J$7:J12)-1)*7+COLUMNS($J$7:J12)) -> 44626 | K12: =INDEX(m2_,1,(ROWS($J$7:K12)-1)*7+COLUMNS($J$7:K12)) -> 44627 | L12: =INDEX(m2_,1,(ROWS($J$7:L12)-1)*7+COLUMNS($J$7:L12)) -> 44628 | M12: =INDEX(m2_,1,(ROWS($J$7:M12)-1)*7+COLUMNS($J$7:M12)) -> 44629 | N12: =INDEX(m2_,1,(ROWS($J$7:N12)-1)*7+COLUMNS($J$7:N12)) -> 44630 | O12: =INDEX(m2_,1,(ROWS($J$7:O12)-1)*7+COLUMNS($J$7:O12)) -> 44631 | P12: =INDEX(m2_,1,(ROWS($J$7:P12)-1)*7+COLUMNS($J$7:P12)) -> 44632 | R12: =INDEX(m3_,1,(ROWS($R$7:R12)-1)*7+COLUMNS($R$7:R12)) -> 44654 | S12: =INDEX(m3_,1,(ROWS($R$7:S12)-1)*7+COLUMNS($R$7:S12)) -> 44655 | T12: =INDEX(m3_,1,(ROWS($R$7:T12)-1)*7+COLUMNS($R$7:T12)) -> 44656 | U12: =INDEX(m3_,1,(ROWS($R$7:U12)-1)*7+COLUMNS($R$7:U12)) -> 44657 | V12: =INDEX(m3_,1,(ROWS($R$7:V12)-1)*7+COLUMNS($R$7:V12)) -> 44658 | W12: =INDEX(m3_,1,(ROWS($R$7:W12)-1)*7+COLUMNS($R$7:W12)) -> 44659 | X12: =INDEX(m3_,1,(ROWS($R$7:X12)-1)*7+COLUMNS($R$7:X12)) -> 44660
B14: =Mini!B9 -> 44652 | J14: =Mini!B10 -> 44682 | R14: =Mini!B11 -> 44713
B15: Do | C15: Lu | D15: Ma | E15: Mi | F15: Ju | G15: Vi | H15: Sa | J15: Do | K15: Lu | L15: Ma | M15: Mi | N15: Ju | O15: Vi | P15: Sa | R15: Do | S15: Lu | T15: Ma | U15: Mi | V15: Ju | W15: Vi | X15: Sa
B16: =INDEX(m4_,1,(ROWS($B$16:B16)-1)*7+COLUMNS($B$16:B16)) -> 44647 | C16: =INDEX(m4_,1,(ROWS($B$16:C16)-1)*7+COLUMNS($B$16:C16)) -> 44648 | D16: =INDEX(m4_,1,(ROWS($B$16:D16)-1)*7+COLUMNS($B$16:D16)) -> 44649 | E16: =INDEX(m4_,1,(ROWS($B$16:E16)-1)*7+COLUMNS($B$16:E16)) -> 44650 | F16: =INDEX(m4_,1,(ROWS($B$16:F16)-1)*7+COLUMNS($B$16:F16)) -> 44651 | G16: =INDEX(m4_,1,(ROWS($B$16:G16)-1)*7+COLUMNS($B$16:G16)) -> 44652 | H16: =INDEX(m4_,1,(ROWS($B$16:H16)-1)*7+COLUMNS($B$16:H16)) -> 44653 | J16: =INDEX(m5_,1,(ROWS($J$16:J16)-1)*7+COLUMNS($J$16:J16)) -> 44675 | K16: =INDEX(m5_,1,(ROWS($J$16:K16)-1)*7+COLUMNS($J$16:K16)) -> 44676 | L16: =INDEX(m5_,1,(ROWS($J$16:L16)-1)*7+COLUMNS($J$16:L16)) -> 44677 | M16: =INDEX(m5_,1,(ROWS($J$16:M16)-1)*7+COLUMNS($J$16:M16)) -> 44678 | N16: =INDEX(m5_,1,(ROWS($J$16:N16)-1)*7+COLUMNS($J$16:N16)) -> 44679 | O16: =INDEX(m5_,1,(ROWS($J$16:O16)-1)*7+COLUMNS($J$16:O16)) -> 44680 | P16: =INDEX(m5_,1,(ROWS($J$16:P16)-1)*7+COLUMNS($J$16:P16)) -> 44681 | R16: =INDEX(m6_,1,(ROWS($R$16:R16)-1)*7+COLUMNS($R$16:R16)) -> 44710 | S16: =INDEX(m6_,1,(ROWS($R$16:S16)-1)*7+COLUMNS($R$16:S16)) -> 44711 | T16: =INDEX(m6_,1,(ROWS($R$16:T16)-1)*7+COLUMNS($R$16:T16)) -> 44712 | U16: =INDEX(m6_,1,(ROWS($R$16:U16)-1)*7+COLUMNS($R$16:U16)) -> 44713 | V16: =INDEX(m6_,1,(ROWS($R$16:V16)-1)*7+COLUMNS($R$16:V16)) -> 44714 | W16: =INDEX(m6_,1,(ROWS($R$16:W16)-1)*7+COLUMNS($R$16:W16)) -> 44715 | X16: =INDEX(m6_,1,(ROWS($R$16:X16)-1)*7+COLUMNS($R$16:X16)) -> 44716
B17: =INDEX(m4_,1,(ROWS($B$16:B17)-1)*7+COLUMNS($B$16:B17)) -> 44654 | C17: =INDEX(m4_,1,(ROWS($B$16:C17)-1)*7+COLUMNS($B$16:C17)) -> 44655 | D17: =INDEX(m4_,1,(ROWS($B$16:D17)-1)*7+COLUMNS($B$16:D17)) -> 44656 | E17: =INDEX(m4_,1,(ROWS($B$16:E17)-1)*7+COLUMNS($B$16:E17)) -> 44657 | F17: =INDEX(m4_,1,(ROWS($B$16:F17)-1)*7+COLUMNS($B$16:F17)) -> 44658 | G17: =INDEX(m4_,1,(ROWS($B$16:G17)-1)*7+COLUMNS($B$16:G17)) -> 44659 | H17: =INDEX(m4_,1,(ROWS($B$16:H17)-1)*7+COLUMNS($B$16:H17)) -> 44660 | J17: =INDEX(m5_,1,(ROWS($J$16:J17)-1)*7+COLUMNS($J$16:J17)) -> 44682 | K17: =INDEX(m5_,1,(ROWS($J$16:K17)-1)*7+COLUMNS($J$16:K17)) -> 44683 | L17: =INDEX(m5_,1,(ROWS($J$16:L17)-1)*7+COLUMNS($J$16:L17)) -> 44684 | M17: =INDEX(m5_,1,(ROWS($J$16:M17)-1)*7+COLUMNS($J$16:M17)) -> 44685 | N17: =INDEX(m5_,1,(ROWS($J$16:N17)-1)*7+COLUMNS($J$16:N17)) -> 44686 | O17: =INDEX(m5_,1,(ROWS($J$16:O17)-1)*7+COLUMNS($J$16:O17)) -> 44687 | P17: =INDEX(m5_,1,(ROWS($J$16:P17)-1)*7+COLUMNS($J$16:P17)) -> 44688 | R17: =INDEX(m6_,1,(ROWS($R$16:R17)-1)*7+COLUMNS($R$16:R17)) -> 44717 | S17: =INDEX(m6_,1,(ROWS($R$16:S17)-1)*7+COLUMNS($R$16:S17)) -> 44718 | T17: =INDEX(m6_,1,(ROWS($R$16:T17)-1)*7+COLUMNS($R$16:T17)) -> 44719 | U17: =INDEX(m6_,1,(ROWS($R$16:U17)-1)*7+COLUMNS($R$16:U17)) -> 44720 | V17: =INDEX(m6_,1,(ROWS($R$16:V17)-1)*7+COLUMNS($R$16:V17)) -> 44721 | W17: =INDEX(m6_,1,(ROWS($R$16:W17)-1)*7+COLUMNS($R$16:W17)) -> 44722 | X17: =INDEX(m6_,1,(ROWS($R$16:X17)-1)*7+COLUMNS($R$16:X17)) -> 44723
B18: =INDEX(m4_,1,(ROWS($B$16:B18)-1)*7+COLUMNS($B$16:B18)) -> 44661 | C18: =INDEX(m4_,1,(ROWS($B$16:C18)-1)*7+COLUMNS($B$16:C18)) -> 44662 | D18: =INDEX(m4_,1,(ROWS($B$16:D18)-1)*7+COLUMNS($B$16:D18)) -> 44663 | E18: =INDEX(m4_,1,(ROWS($B$16:E18)-1)*7+COLUMNS($B$16:E18)) -> 44664 | F18: =INDEX(m4_,1,(ROWS($B$16:F18)-1)*7+COLUMNS($B$16:F18)) -> 44665 | G18: =INDEX(m4_,1,(ROWS($B$16:G18)-1)*7+COLUMNS($B$16:G18)) -> 44666 | H18: =INDEX(m4_,1,(ROWS($B$16:H18)-1)*7+COLUMNS($B$16:H18)) -> 44667 | J18: =INDEX(m5_,1,(ROWS($J$16:J18)-1)*7+COLUMNS($J$16:J18)) -> 44689 | K18: =INDEX(m5_,1,(ROWS($J$16:K18)-1)*7+COLUMNS($J$16:K18)) -> 44690 | L18: =INDEX(m5_,1,(ROWS($J$16:L18)-1)*7+COLUMNS($J$16:L18)) -> 44691 | M18: =INDEX(m5_,1,(ROWS($J$16:M18)-1)*7+COLUMNS($J$16:M18)) -> 44692 | N18: =INDEX(m5_,1,(ROWS($J$16:N18)-1)*7+COLUMNS($J$16:N18)) -> 44693 | O18: =INDEX(m5_,1,(ROWS($J$16:O18)-1)*7+COLUMNS($J$16:O18)) -> 44694 | P18: =INDEX(m5_,1,(ROWS($J$16:P18)-1)*7+COLUMNS($J$16:P18)) -> 44695 | R18: =INDEX(m6_,1,(ROWS($R$16:R18)-1)*7+COLUMNS($R$16:R18)) -> 44724 | S18: =INDEX(m6_,1,(ROWS($R$16:S18)-1)*7+COLUMNS($R$16:S18)) -> 44725 | T18: =INDEX(m6_,1,(ROWS($R$16:T18)-1)*7+COLUMNS($R$16:T18)) -> 44726 | U18: =INDEX(m6_,1,(ROWS($R$16:U18)-1)*7+COLUMNS($R$16:U18)) -> 44727 | V18: =INDEX(m6_,1,(ROWS($R$16:V18)-1)*7+COLUMNS($R$16:V18)) -> 44728 | W18: =INDEX(m6_,1,(ROWS($R$16:W18)-1)*7+COLUMNS($R$16:W18)) -> 44729 | X18: =INDEX(m6_,1,(ROWS($R$16:X18)-1)*7+COLUMNS($R$16:X18)) -> 44730
B19: =INDEX(m4_,1,(ROWS($B$16:B19)-1)*7+COLUMNS($B$16:B19)) -> 44668 | C19: =INDEX(m4_,1,(ROWS($B$16:C19)-1)*7+COLUMNS($B$16:C19)) -> 44669 | D19: =INDEX(m4_,1,(ROWS($B$16:D19)-1)*7+COLUMNS($B$16:D19)) -> 44670 | E19: =INDEX(m4_,1,(ROWS($B$16:E19)-1)*7+COLUMNS($B$16:E19)) -> 44671 | F19: =INDEX(m4_,1,(ROWS($B$16:F19)-1)*7+COLUMNS($B$16:F19)) -> 44672 | G19: =INDEX(m4_,1,(ROWS($B$16:G19)-1)*7+COLUMNS($B$16:G19)) -> 44673 | H19: =INDEX(m4_,1,(ROWS($B$16:H19)-1)*7+COLUMNS($B$16:H19)) -> 44674 | J19: =INDEX(m5_,1,(ROWS($J$16:J19)-1)*7+COLUMNS($J$16:J19)) -> 44696 | K19: =INDEX(m5_,1,(ROWS($J$16:K19)-1)*7+COLUMNS($J$16:K19)) -> 44697 | L19: =INDEX(m5_,1,(ROWS($J$16:L19)-1)*7+COLUMNS($J$16:L19)) -> 44698 | M19: =INDEX(m5_,1,(ROWS($J$16:M19)-1)*7+COLUMNS($J$16:M19)) -> 44699 | N19: =INDEX(m5_,1,(ROWS($J$16:N19)-1)*7+COLUMNS($J$16:N19)) -> 44700 | O19: =INDEX(m5_,1,(ROWS($J$16:O19)-1)*7+COLUMNS($J$16:O19)) -> 44701 | P19: =INDEX(m5_,1,(ROWS($J$16:P19)-1)*7+COLUMNS($J$16:P19)) -> 44702 | R19: =INDEX(m6_,1,(ROWS($R$16:R19)-1)*7+COLUMNS($R$16:R19)) -> 44731 | S19: =INDEX(m6_,1,(ROWS($R$16:S19)-1)*7+COLUMNS($R$16:S19)) -> 44732 | T19: =INDEX(m6_,1,(ROWS($R$16:T19)-1)*7+COLUMNS($R$16:T19)) -> 44733 | U19: =INDEX(m6_,1,(ROWS($R$16:U19)-1)*7+COLUMNS($R$16:U19)) -> 44734 | V19: =INDEX(m6_,1,(ROWS($R$16:V19)-1)*7+COLUMNS($R$16:V19)) -> 44735 | W19: =INDEX(m6_,1,(ROWS($R$16:W19)-1)*7+COLUMNS($R$16:W19)) -> 44736 | X19: =INDEX(m6_,1,(ROWS($R$16:X19)-1)*7+COLUMNS($R$16:X19)) -> 44737
B20: =INDEX(m4_,1,(ROWS($B$16:B20)-1)*7+COLUMNS($B$16:B20)) -> 44675 | C20: =INDEX(m4_,1,(ROWS($B$16:C20)-1)*7+COLUMNS($B$16:C20)) -> 44676 | D20: =INDEX(m4_,1,(ROWS($B$16:D20)-1)*7+COLUMNS($B$16:D20)) -> 44677 | E20: =INDEX(m4_,1,(ROWS($B$16:E20)-1)*7+COLUMNS($B$16:E20)) -> 44678 | F20: =INDEX(m4_,1,(ROWS($B$16:F20)-1)*7+COLUMNS($B$16:F20)) -> 44679 | G20: =INDEX(m4_,1,(ROWS($B$16:G20)-1)*7+COLUMNS($B$16:G20)) -> 44680 | H20: =INDEX(m4_,1,(ROWS($B$16:H20)-1)*7+COLUMNS($B$16:H20)) -> 44681 | J20: =INDEX(m5_,1,(ROWS($J$16:J20)-1)*7+COLUMNS($J$16:J20)) -> 44703 | K20: =INDEX(m5_,1,(ROWS($J$16:K20)-1)*7+COLUMNS($J$16:K20)) -> 44704 | L20: =INDEX(m5_,1,(ROWS($J$16:L20)-1)*7+COLUMNS($J$16:L20)) -> 44705 | M20: =INDEX(m5_,1,(ROWS($J$16:M20)-1)*7+COLUMNS($J$16:M20)) -> 44706 | N20: =INDEX(m5_,1,(ROWS($J$16:N20)-1)*7+COLUMNS($J$16:N20)) -> 44707 | O20: =INDEX(m5_,1,(ROWS($J$16:O20)-1)*7+COLUMNS($J$16:O20)) -> 44708 | P20: =INDEX(m5_,1,(ROWS($J$16:P20)-1)*7+COLUMNS($J$16:P20)) -> 44709 | R20: =INDEX(m6_,1,(ROWS($R$16:R20)-1)*7+COLUMNS($R$16:R20)) -> 44738 | S20: =INDEX(m6_,1,(ROWS($R$16:S20)-1)*7+COLUMNS($R$16:S20)) -> 44739 | T20: =INDEX(m6_,1,(ROWS($R$16:T20)-1)*7+COLUMNS($R$16:T20)) -> 44740 | U20: =INDEX(m6_,1,(ROWS($R$16:U20)-1)*7+COLUMNS($R$16:U20)) -> 44741 | V20: =INDEX(m6_,1,(ROWS($R$16:V20)-1)*7+COLUMNS($R$16:V20)) -> 44742 | W20: =INDEX(m6_,1,(ROWS($R$16:W20)-1)*7+COLUMNS($R$16:W20)) -> 44743 | X20: =INDEX(m6_,1,(ROWS($R$16:X20)-1)*7+COLUMNS($R$16:X20)) -> 44744
B21: =INDEX(m4_,1,(ROWS($B$16:B21)-1)*7+COLUMNS($B$16:B21)) -> 44682 | C21: =INDEX(m4_,1,(ROWS($B$16:C21)-1)*7+COLUMNS($B$16:C21)) -> 44683 | D21: =INDEX(m4_,1,(ROWS($B$16:D21)-1)*7+COLUMNS($B$16:D21)) -> 44684 | E21: =INDEX(m4_,1,(ROWS($B$16:E21)-1)*7+COLUMNS($B$16:E21)) -> 44685 | F21: =INDEX(m4_,1,(ROWS($B$16:F21)-1)*7+COLUMNS($B$16:F21)) -> 44686 | G21: =INDEX(m4_,1,(ROWS($B$16:G21)-1)*7+COLUMNS($B$16:G21)) -> 44687 | H21: =INDEX(m4_,1,(ROWS($B$16:H21)-1)*7+COLUMNS($B$16:H21)) -> 44688 | J21: =INDEX(m5_,1,(ROWS($J$16:J21)-1)*7+COLUMNS($J$16:J21)) -> 44710 | K21: =INDEX(m5_,1,(ROWS($J$16:K21)-1)*7+COLUMNS($J$16:K21)) -> 44711 | L21: =INDEX(m5_,1,(ROWS($J$16:L21)-1)*7+COLUMNS($J$16:L21)) -> 44712 | M21: =INDEX(m5_,1,(ROWS($J$16:M21)-1)*7+COLUMNS($J$16:M21)) -> 44713 | N21: =INDEX(m5_,1,(ROWS($J$16:N21)-1)*7+COLUMNS($J$16:N21)) -> 44714 | O21: =INDEX(m5_,1,(ROWS($J$16:O21)-1)*7+COLUMNS($J$16:O21)) -> 44715 | P21: =INDEX(m5_,1,(ROWS($J$16:P21)-1)*7+COLUMNS($J$16:P21)) -> 44716 | R21: =INDEX(m6_,1,(ROWS($R$16:R21)-1)*7+COLUMNS($R$16:R21)) -> 44745 | S21: =INDEX(m6_,1,(ROWS($R$16:S21)-1)*7+COLUMNS($R$16:S21)) -> 44746 | T21: =INDEX(m6_,1,(ROWS($R$16:T21)-1)*7+COLUMNS($R$16:T21)) -> 44747 | U21: =INDEX(m6_,1,(ROWS($R$16:U21)-1)*7+COLUMNS($R$16:U21)) -> 44748 | V21: =INDEX(m6_,1,(ROWS($R$16:V21)-1)*7+COLUMNS($R$16:V21)) -> 44749 | W21: =INDEX(m6_,1,(ROWS($R$16:W21)-1)*7+COLUMNS($R$16:W21)) -> 44750 | X21: =INDEX(m6_,1,(ROWS($R$16:X21)-1)*7+COLUMNS($R$16:X21)) -> 44751
B23: =Mini!B12 -> 44743 | J23: =Mini!B13 -> 44774 | R23: =Mini!B14 -> 44805
B24: Do | C24: Lu | D24: Ma | E24: Mi | F24: Ju | G24: Vi | H24: Sa | J24: Do | K24: Lu | L24: Ma | M24: Mi | N24: Ju | O24: Vi | P24: Sa | R24: Do | S24: Lu | T24: Ma | U24: Mi | V24: Ju | W24: Vi | X24: Sa
B25: =INDEX(m7_,1,(ROWS($B$25:B25)-1)*7+COLUMNS($B$25:B25)) -> 44738 | C25: =INDEX(m7_,1,(ROWS($B$25:C25)-1)*7+COLUMNS($B$25:C25)) -> 44739 | D25: =INDEX(m7_,1,(ROWS($B$25:D25)-1)*7+COLUMNS($B$25:D25)) -> 44740 | E25: =INDEX(m7_,1,(ROWS($B$25:E25)-1)*7+COLUMNS($B$25:E25)) -> 44741 | F25: =INDEX(m7_,1,(ROWS($B$25:F25)-1)*7+COLUMNS($B$25:F25)) -> 44742 | G25: =INDEX(m7_,1,(ROWS($B$25:G25)-1)*7+COLUMNS($B$25:G25)) -> 44743 | H25: =INDEX(m7_,1,(ROWS($B$25:H25)-1)*7+COLUMNS($B$25:H25)) -> 44744 | J25: =INDEX(m8_,1,(ROWS($J$25:J25)-1)*7+COLUMNS($J$25:J25)) -> 44773 | K25: =INDEX(m8_,1,(ROWS($J$25:K25)-1)*7+COLUMNS($J$25:K25)) -> 44774 | L25: =INDEX(m8_,1,(ROWS($J$25:L25)-1)*7+COLUMNS($J$25:L25)) -> 44775 | M25: =INDEX(m8_,1,(ROWS($J$25:M25)-1)*7+COLUMNS($J$25:M25)) -> 44776 | N25: =INDEX(m8_,1,(ROWS($J$25:N25)-1)*7+COLUMNS($J$25:N25)) -> 44777 | O25: =INDEX(m8_,1,(ROWS($J$25:O25)-1)*7+COLUMNS($J$25:O25)) -> 44778 | P25: =INDEX(m8_,1,(ROWS($J$25:P25)-1)*7+COLUMNS($J$25:P25)) -> 44779 | R25: =INDEX(m9_,1,(ROWS($R$25:R25)-1)*7+COLUMNS($R$25:R25)) -> 44801 | S25: =INDEX(m9_,1,(ROWS($R$25:S25)-1)*7+COLUMNS($R$25:S25)) -> 44802 | T25: =INDEX(m9_,1,(ROWS($R$25:T25)-1)*7+COLUMNS($R$25:T25)) -> 44803 | U25: =INDEX(m9_,1,(ROWS($R$25:U25)-1)*7+COLUMNS($R$25:U25)) -> 44804 | V25: =INDEX(m9_,1,(ROWS($R$25:V25)-1)*7+COLUMNS($R$25:V25)) -> 44805 | W25: =INDEX(m9_,1,(ROWS($R$25:W25)-1)*7+COLUMNS($R$25:W25)) -> 44806 | X25: =INDEX(m9_,1,(ROWS($R$25:X25)-1)*7+COLUMNS($R$25:X25)) -> 44807
B26: =INDEX(m7_,1,(ROWS($B$25:B26)-1)*7+COLUMNS($B$25:B26)) -> 44745 | C26: =INDEX(m7_,1,(ROWS($B$25:C26)-1)*7+COLUMNS($B$25:C26)) -> 44746 | D26: =INDEX(m7_,1,(ROWS($B$25:D26)-1)*7+COLUMNS($B$25:D26)) -> 44747 | E26: =INDEX(m7_,1,(ROWS($B$25:E26)-1)*7+COLUMNS($B$25:E26)) -> 44748 | F26: =INDEX(m7_,1,(ROWS($B$25:F26)-1)*7+COLUMNS($B$25:F26)) -> 44749 | G26: =INDEX(m7_,1,(ROWS($B$25:G26)-1)*7+COLUMNS($B$25:G26)) -> 44750 | H26: =INDEX(m7_,1,(ROWS($B$25:H26)-1)*7+COLUMNS($B$25:H26)) -> 44751 | J26: =INDEX(m8_,1,(ROWS($J$25:J26)-1)*7+COLUMNS($J$25:J26)) -> 44780 | K26: =INDEX(m8_,1,(ROWS($J$25:K26)-1)*7+COLUMNS($J$25:K26)) -> 44781 | L26: =INDEX(m8_,1,(ROWS($J$25:L26)-1)*7+COLUMNS($J$25:L26)) -> 44782 | M26: =INDEX(m8_,1,(ROWS($J$25:M26)-1)*7+COLUMNS($J$25:M26)) -> 44783 | N26: =INDEX(m8_,1,(ROWS($J$25:N26)-1)*7+COLUMNS($J$25:N26)) -> 44784 | O26: =INDEX(m8_,1,(ROWS($J$25:O26)-1)*7+COLUMNS($J$25:O26)) -> 44785 | P26: =INDEX(m8_,1,(ROWS($J$25:P26)-1)*7+COLUMNS($J$25:P26)) -> 44786 | R26: =INDEX(m9_,1,(ROWS($R$25:R26)-1)*7+COLUMNS($R$25:R26)) -> 44808 | S26: =INDEX(m9_,1,(ROWS($R$25:S26)-1)*7+COLUMNS($R$25:S26)) -> 44809 | T26: =INDEX(m9_,1,(ROWS($R$25:T26)-1)*7+COLUMNS($R$25:T26)) -> 44810 | U26: =INDEX(m9_,1,(ROWS($R$25:U26)-1)*7+COLUMNS($R$25:U26)) -> 44811 | V26: =INDEX(m9_,1,(ROWS($R$25:V26)-1)*7+COLUMNS($R$25:V26)) -> 44812 | W26: =INDEX(m9_,1,(ROWS($R$25:W26)-1)*7+COLUMNS($R$25:W26)) -> 44813 | X26: =INDEX(m9_,1,(ROWS($R$25:X26)-1)*7+COLUMNS($R$25:X26)) -> 44814
B27: =INDEX(m7_,1,(ROWS($B$25:B27)-1)*7+COLUMNS($B$25:B27)) -> 44752 | C27: =INDEX(m7_,1,(ROWS($B$25:C27)-1)*7+COLUMNS($B$25:C27)) -> 44753 | D27: =INDEX(m7_,1,(ROWS($B$25:D27)-1)*7+COLUMNS($B$25:D27)) -> 44754 | E27: =INDEX(m7_,1,(ROWS($B$25:E27)-1)*7+COLUMNS($B$25:E27)) -> 44755 | F27: =INDEX(m7_,1,(ROWS($B$25:F27)-1)*7+COLUMNS($B$25:F27)) -> 44756 | G27: =INDEX(m7_,1,(ROWS($B$25:G27)-1)*7+COLUMNS($B$25:G27)) -> 44757 | H27: =INDEX(m7_,1,(ROWS($B$25:H27)-1)*7+COLUMNS($B$25:H27)) -> 44758 | J27: =INDEX(m8_,1,(ROWS($J$25:J27)-1)*7+COLUMNS($J$25:J27)) -> 44787 | K27: =INDEX(m8_,1,(ROWS($J$25:K27)-1)*7+COLUMNS($J$25:K27)) -> 44788 | L27: =INDEX(m8_,1,(ROWS($J$25:L27)-1)*7+COLUMNS($J$25:L27)) -> 44789 | M27: =INDEX(m8_,1,(ROWS($J$25:M27)-1)*7+COLUMNS($J$25:M27)) -> 44790 | N27: =INDEX(m8_,1,(ROWS($J$25:N27)-1)*7+COLUMNS($J$25:N27)) -> 44791 | O27: =INDEX(m8_,1,(ROWS($J$25:O27)-1)*7+COLUMNS($J$25:O27)) -> 44792 | P27: =INDEX(m8_,1,(ROWS($J$25:P27)-1)*7+COLUMNS($J$25:P27)) -> 44793 | R27: =INDEX(m9_,1,(ROWS($R$25:R27)-1)*7+COLUMNS($R$25:R27)) -> 44815 | S27: =INDEX(m9_,1,(ROWS($R$25:S27)-1)*7+COLUMNS($R$25:S27)) -> 44816 | T27: =INDEX(m9_,1,(ROWS($R$25:T27)-1)*7+COLUMNS($R$25:T27)) -> 44817 | U27: =INDEX(m9_,1,(ROWS($R$25:U27)-1)*7+COLUMNS($R$25:U27)) -> 44818 | V27: =INDEX(m9_,1,(ROWS($R$25:V27)-1)*7+COLUMNS($R$25:V27)) -> 44819 | W27: =INDEX(m9_,1,(ROWS($R$25:W27)-1)*7+COLUMNS($R$25:W27)) -> 44820 | X27: =INDEX(m9_,1,(ROWS($R$25:X27)-1)*7+COLUMNS($R$25:X27)) -> 44821
B28: =INDEX(m7_,1,(ROWS($B$25:B28)-1)*7+COLUMNS($B$25:B28)) -> 44759 | C28: =INDEX(m7_,1,(ROWS($B$25:C28)-1)*7+COLUMNS($B$25:C28)) -> 44760 | D28: =INDEX(m7_,1,(ROWS($B$25:D28)-1)*7+COLUMNS($B$25:D28)) -> 44761 | E28: =INDEX(m7_,1,(ROWS($B$25:E28)-1)*7+COLUMNS($B$25:E28)) -> 44762 | F28: =INDEX(m7_,1,(ROWS($B$25:F28)-1)*7+COLUMNS($B$25:F28)) -> 44763 | G28: =INDEX(m7_,1,(ROWS($B$25:G28)-1)*7+COLUMNS($B$25:G28)) -> 44764 | H28: =INDEX(m7_,1,(ROWS($B$25:H28)-1)*7+COLUMNS($B$25:H28)) -> 44765 | J28: =INDEX(m8_,1,(ROWS($J$25:J28)-1)*7+COLUMNS($J$25:J28)) -> 44794 | K28: =INDEX(m8_,1,(ROWS($J$25:K28)-1)*7+COLUMNS($J$25:K28)) -> 44795 | L28: =INDEX(m8_,1,(ROWS($J$25:L28)-1)*7+COLUMNS($J$25:L28)) -> 44796 | M28: =INDEX(m8_,1,(ROWS($J$25:M28)-1)*7+COLUMNS($J$25:M28)) -> 44797 | N28: =INDEX(m8_,1,(ROWS($J$25:N28)-1)*7+COLUMNS($J$25:N28)) -> 44798 | O28: =INDEX(m8_,1,(ROWS($J$25:O28)-1)*7+COLUMNS($J$25:O28)) -> 44799 | P28: =INDEX(m8_,1,(ROWS($J$25:P28)-1)*7+COLUMNS($J$25:P28)) -> 44800 | R28: =INDEX(m9_,1,(ROWS($R$25:R28)-1)*7+COLUMNS($R$25:R28)) -> 44822 | S28: =INDEX(m9_,1,(ROWS($R$25:S28)-1)*7+COLUMNS($R$25:S28)) -> 44823 | T28: =INDEX(m9_,1,(ROWS($R$25:T28)-1)*7+COLUMNS($R$25:T28)) -> 44824 | U28: =INDEX(m9_,1,(ROWS($R$25:U28)-1)*7+COLUMNS($R$25:U28)) -> 44825 | V28: =INDEX(m9_,1,(ROWS($R$25:V28)-1)*7+COLUMNS($R$25:V28)) -> 44826 | W28: =INDEX(m9_,1,(ROWS($R$25:W28)-1)*7+COLUMNS($R$25:W28)) -> 44827 | X28: =INDEX(m9_,1,(ROWS($R$25:X28)-1)*7+COLUMNS($R$25:X28)) -> 44828
B29: =INDEX(m7_,1,(ROWS($B$25:B29)-1)*7+COLUMNS($B$25:B29)) -> 44766 | C29: =INDEX(m7_,1,(ROWS($B$25:C29)-1)*7+COLUMNS($B$25:C29)) -> 44767 | D29: =INDEX(m7_,1,(ROWS($B$25:D29)-1)*7+COLUMNS($B$25:D29)) -> 44768 | E29: =INDEX(m7_,1,(ROWS($B$25:E29)-1)*7+COLUMNS($B$25:E29)) -> 44769 | F29: =INDEX(m7_,1,(ROWS($B$25:F29)-1)*7+COLUMNS($B$25:F29)) -> 44770 | G29: =INDEX(m7_,1,(ROWS($B$25:G29)-1)*7+COLUMNS($B$25:G29)) -> 44771 | H29: =INDEX(m7_,1,(ROWS($B$25:H29)-1)*7+COLUMNS($B$25:H29)) -> 44772 | J29: =INDEX(m8_,1,(ROWS($J$25:J29)-1)*7+COLUMNS($J$25:J29)) -> 44801 | K29: =INDEX(m8_,1,(ROWS($J$25:K29)-1)*7+COLUMNS($J$25:K29)) -> 44802 | L29: =INDEX(m8_,1,(ROWS($J$25:L29)-1)*7+COLUMNS($J$25:L29)) -> 44803 | M29: =INDEX(m8_,1,(ROWS($J$25:M29)-1)*7+COLUMNS($J$25:M29)) -> 44804 | N29: =INDEX(m8_,1,(ROWS($J$25:N29)-1)*7+COLUMNS($J$25:N29)) -> 44805 | O29: =INDEX(m8_,1,(ROWS($J$25:O29)-1)*7+COLUMNS($J$25:O29)) -> 44806 | P29: =INDEX(m8_,1,(ROWS($J$25:P29)-1)*7+COLUMNS($J$25:P29)) -> 44807 | R29: =INDEX(m9_,1,(ROWS($R$25:R29)-1)*7+COLUMNS($R$25:R29)) -> 44829 | S29: =INDEX(m9_,1,(ROWS($R$25:S29)-1)*7+COLUMNS($R$25:S29)) -> 44830 | T29: =INDEX(m9_,1,(ROWS($R$25:T29)-1)*7+COLUMNS($R$25:T29)) -> 44831 | U29: =INDEX(m9_,1,(ROWS($R$25:U29)-1)*7+COLUMNS($R$25:U29)) -> 44832 | V29: =INDEX(m9_,1,(ROWS($R$25:V29)-1)*7+COLUMNS($R$25:V29)) -> 44833 | W29: =INDEX(m9_,1,(ROWS($R$25:W29)-1)*7+COLUMNS($R$25:W29)) -> 44834 | X29: =INDEX(m9_,1,(ROWS($R$25:X29)-1)*7+COLUMNS($R$25:X29)) -> 44835
B30: =INDEX(m7_,1,(ROWS($B$25:B30)-1)*7+COLUMNS($B$25:B30)) -> 44773 | C30: =INDEX(m7_,1,(ROWS($B$25:C30)-1)*7+COLUMNS($B$25:C30)) -> 44774 | D30: =INDEX(m7_,1,(ROWS($B$25:D30)-1)*7+COLUMNS($B$25:D30)) -> 44775 | E30: =INDEX(m7_,1,(ROWS($B$25:E30)-1)*7+COLUMNS($B$25:E30)) -> 44776 | F30: =INDEX(m7_,1,(ROWS($B$25:F30)-1)*7+COLUMNS($B$25:F30)) -> 44777 | G30: =INDEX(m7_,1,(ROWS($B$25:G30)-1)*7+COLUMNS($B$25:G30)) -> 44778 | H30: =INDEX(m7_,1,(ROWS($B$25:H30)-1)*7+COLUMNS($B$25:H30)) -> 44779 | J30: =INDEX(m8_,1,(ROWS($J$25:J30)-1)*7+COLUMNS($J$25:J30)) -> 44808 | K30: =INDEX(m8_,1,(ROWS($J$25:K30)-1)*7+COLUMNS($J$25:K30)) -> 44809 | L30: =INDEX(m8_,1,(ROWS($J$25:L30)-1)*7+COLUMNS($J$25:L30)) -> 44810 | M30: =INDEX(m8_,1,(ROWS($J$25:M30)-1)*7+COLUMNS($J$25:M30)) -> 44811 | N30: =INDEX(m8_,1,(ROWS($J$25:N30)-1)*7+COLUMNS($J$25:N30)) -> 44812 | O30: =INDEX(m8_,1,(ROWS($J$25:O30)-1)*7+COLUMNS($J$25:O30)) -> 44813 | P30: =INDEX(m8_,1,(ROWS($J$25:P30)-1)*7+COLUMNS($J$25:P30)) -> 44814 | R30: =INDEX(m9_,1,(ROWS($R$25:R30)-1)*7+COLUMNS($R$25:R30)) -> 44836 | S30: =INDEX(m9_,1,(ROWS($R$25:S30)-1)*7+COLUMNS($R$25:S30)) -> 44837 | T30: =INDEX(m9_,1,(ROWS($R$25:T30)-1)*7+COLUMNS($R$25:T30)) -> 44838 | U30: =INDEX(m9_,1,(ROWS($R$25:U30)-1)*7+COLUMNS($R$25:U30)) -> 44839 | V30: =INDEX(m9_,1,(ROWS($R$25:V30)-1)*7+COLUMNS($R$25:V30)) -> 44840 | W30: =INDEX(m9_,1,(ROWS($R$25:W30)-1)*7+COLUMNS($R$25:W30)) -> 44841 | X30: =INDEX(m9_,1,(ROWS($R$25:X30)-1)*7+COLUMNS($R$25:X30)) -> 44842
B32: =Mini!B15 -> 44835 | J32: =Mini!B16 -> 44866 | R32: =Mini!B17 -> 44896
B33: Do | C33: Lu | D33: Ma | E33: Mi | F33: Ju | G33: Vi | H33: Sa | J33: Do | K33: Lu | L33: Ma | M33: Mi | N33: Ju | O33: Vi | P33: Sa | R33: Do | S33: Lu | T33: Ma | U33: Mi | V33: Ju | W33: Vi | X33: Sa
