Workbook
Name Calendar: daysAndWks + DateOfFirst - WEEKDAY(DateOfFirst,2)
Name dailyEvents: Diario!$C$5:$D$370
Name DateOfFirst: DATE(YEAR(Mini!$B$5),MONTH(Mini!$B1),1)
Name daysAndWks: COLUMN(OFFSET(INDIRECT("$A$1"),0,0,1,42))-1
Name dayTypes: Diario!$N$5:$N$8
Name lstDailyEvents: Diario!$L$5:$L$370
Name lstWeekDays: 'Calendario - color 1'!$B$6:$H$6
Name lstWeekDays: 'Calendiario - color 2'!$B$6:$H$6
Name lstWeekDays: 'Calendiario - color 3'!$B$6:$H$6
Name lstWeekDays: Completo!$B$6:$H$6
Name m1_: Mini!$C$6:$AR$6
Name m10_: Mini!$C$15:$AR$15
Name m11_: Mini!$C$16:$AR$16
Name m12_: Mini!$C$17:$AR$17
Name m2_: Mini!$C$7:$AR$7
Name m3_: Mini!$C$8:$AR$8
Name m4_: Mini!$C$9:$AR$9
Name m5_: Mini!$C$10:$AR$10
Name m6_: Mini!$C$11:$AR$11
Name m7_: Mini!$C$12:$AR$12
Name m8_: Mini!$C$13:$AR$13
Name m9_: Mini!$C$14:$AR$14
Name month1: Mensual!$B$5:$H$10
Name month10: Mensual!$B$86:$H$91
Name month11: Mensual!$B$95:$H$100
Name month12: Mensual!$B$104:$H$109
Name month2: Mensual!$B$14:$H$19
Name month3: Mensual!$B$23:$H$28
Name month4: Mensual!$B$32:$H$37
Name month5: Mensual!$B$41:$H$46
Name month6: Mensual!$B$50:$H$55
Name month7: Mensual!$B$59:$H$64
Name month8: Mensual!$B$68:$H$73
Name month9: Mensual!$B$77:$H$82
Name symAnn: Diario!$O$6
Name symHol: Diario!$O$7
Name symImp: Diario!$O$5
Name symVac: Diario!$O$8
Name valAnn: Diario!$N$6
Name valEventStats: Diario!$S$5
Name valHol: Diario!$N$7
Name valImp: Diario!$N$5
Name valVac: Diario!$N$8
Name valYearStart: Diario!$C$5
Name year: Completo!$J$3

Sheet Completo
B3: Año | J3: 2022 | AA3: Notas
B5: =Mini!B6 -> 44562 | J5: =Mini!B7 -> 44593 | R5: =Mini!B8 -> 44621
B6: Do | C6: Lu | D6: Ma | E6: Mi | F6: Ju | G6: Vi | H6: Sa | J6: Do | K6: Lu | L6: Ma | M6: Mi | N6: Ju | O6: Vi | P6: Sa | R6: Do | S6: Lu | T6: Ma | U6: Mi | V6: Ju | W6: Vi | X6: Sa
B7: =INDEX(m1_,1,(ROWS($B$7:B7)-1)*7+COLUMNS($B$7:B7)) -> 44556 | C7: =INDEX(m1_,1,(ROWS($B$7:C7)-1)*7+COLUMNS($B$7:C7)) -> 44557 | D7: =INDEX(m1_,1,(ROWS($B$7:D7)-1)*7+COLUMNS($B$7:D7)) -> 44558 | E7: =INDEX(m1_,1,(ROWS($B$7:E7)-1)*7+COLUMNS($B$7:E7)) -> 44559 | F7: =INDEX(m1_,1,(ROWS($B$7:F7)-1)*7+COLUMNS($B$7:F7)) -> 44560 | G7: =INDEX(m1_,1,(ROWS($B$7:G7)-1)*7+COLUMNS($B$7:G7)) -> 44561 | H7: =INDEX(m1_,1,(ROWS($B$7:H7)-1)*7+COLUMNS($B$7:H7)) -> 44562 | J7: =INDEX(m2_,1,(ROWS($J$7:J7)-1)*7+COLUMNS($J$7:J7)) -> 44591 | K7: =INDEX(m2_,1,(ROWS($J$7:K7)-1)*7+COLUMNS($J$7:K7)) -> 44592 | L7: =INDEX(m2_,1,(ROWS($J$7:L7)-1)*7+COLUMNS($J$7:L7)) -> 44593 | M7: =INDEX(m2_,1,(ROWS($J$7:M7)-1)*7+COLUMNS($J$7:M7)) -> 44594 | N7: =INDEX(m2_,1,(ROWS($J$7:N7)-1)*7+COLUMNS($J$7:N7)) -> 44595 | O7: =INDEX(m2_,1,(ROWS($J$7:O7)-1)*7+COLUMNS($J$7:O7)) -> 44596 | P7: =INDEX(m2_,1,(ROWS($J$7:P7)-1)*7+COLUMNS($J$7:P7)) -> 44597 | R7: =INDEX(m3_,1,(ROWS($R$7:R7)-1)*7+COLUMNS($R$7:R7)) -> 44619 | S7: =INDEX(m3_,1,(ROWS($R$7:S7)-1)*7+COLUMNS($R$7:S7)) -> 44620 | T7: =INDEX(m3_,1,(ROWS($R$7:T7)-1)*7+COLUMNS($R$7:T7)) -> 44621 | U7: =INDEX(m3_,1,(ROWS($R$7:U7)-1)*7+COLUMNS($R$7:U7)) -> 44622 | V7: =INDEX(m3_,1,(ROWS($R$7:V7)-1)*7+COLUMNS($R$7:V7)) -> 44623 | W7: =INDEX(m3_,1,(ROWS($R$7:W7)-1)*7+COLUMNS($R$7:W7)) -> 44624 | X7: =INDEX(m3_,1,(ROWS($R$7:X7)-1)*7+COLUMNS($R$7:X7)) -> 44625
B8: =INDEX(m1_,1,(ROWS($B$7:B8)-1)*7+COLUMNS($B$7:B8)) -> 44563 | C8: =INDEX(m1_,1,(ROWS($B$7:C8)-1)*7+COLUMNS($B$7:C8)) -> 44564 | D8: =INDEX(m1_,1,(ROWS($B$7:D8)-1)*7+COLUMNS($B$7:D8)) -> 44565 | E8: =INDEX(m1_,1,(ROWS($B$7:E8)-1)*7+COLUMNS($B$7:E8)) -> 44566 | F8: =INDEX(m1_,1,(ROWS($B$7:F8)-1)*7+COLUMNS($B$7:F8)) -> 44567 | G8: =INDEX(m1_,1,(ROWS($B$7:G8)-1)*7+COLUMNS($B$7:G8)) -> 44568 | H8: =INDEX(m1_,1,(ROWS($B$7:H8)-1)*7+COLUMNS($B$7:H8)) -> 44569 | J8: =INDEX(m2_,1,(ROWS($J$7:J8)-1)*7+COLUMNS($J$7:J8)) -> 44598 | K8: =INDEX(m2_,1,(ROWS($J$7:K8)-1)*7+COLUMNS($J$7:K8)) -> 44599 | L8: =INDEX(m2_,1,(ROWS($J$7:L8)-1)*7+COLUMNS($J$7:L8)) -> 44600 | M8: =INDEX(m2_,1,(ROWS($J$7:M8)-1)*7+COLUMNS($J$7:M8)) -> 44601 | N8: =INDEX(m2_,1,(ROWS($J$7:N8)-1)*7+COLUMNS($J$7:N8)) -> 44602 | O8: =INDEX(m2_,1,(ROWS($J$7:O8)-1)*7+COLUMNS($J$7:O8)) -> 44603 | P8: =INDEX(m2_,1,(ROWS($J$7:P8)-1)*7+COLUMNS($J$7:P8)) -> 44604 | R8: =INDEX(m3_,1,(ROWS($R$7:R8)-1)*7+COLUMNS($R$7:R8)) -> 44626 | S8: =INDEX(m3_,1,(ROWS($R$7:S8)-1)*7+COLUMNS($R$7:S8)) -> 44627 | T8: =INDEX(m3_,1,(ROWS($R$7:T8)-1)*7+COLUMNS($R$7:T8)) -> 44628 | U8: =INDEX(m3_,1,(ROWS($R$7:U8)-1)*7+COLUMNS($R$7:U8)) -> 44629 | V8: =INDEX(m3_,1,(ROWS($R$7:V8)-1)*7+COLUMNS($R$7:V8)) -> 44630 | W8: =INDEX(m3_,1,(ROWS($R$7:W8)-1)*7+COLUMNS($R$7:W8)) -> 44631 | X8: =INDEX(m3_,1,(ROWS($R$7:X8)-1)*7+COLUMNS($R$7:X8)) -> 44632
B9: =INDEX(m1_,1,(ROWS($B$7:B9)-1)*7+COLUMNS($B$7:B9)) -> 44570 | C9: =INDEX(m1_,1,(ROWS($B$7:C9)-1)*7+COLUMNS($B$7:C9)) -> 44571 | D9: =INDEX(m1_,1,(ROWS($B$7:D9)-1)*7+COLUMNS($B$7:D9)) -> 44572 | E9: =INDEX(m1_,1,(ROWS($B$7:E9)-1)*7+COLUMNS($B$7:E9)) -> 44573 | F9: =INDEX(m1_,1,(ROWS($B$7:F9)-1)*7+COLUMNS($B$7:F9)) -> 44574 | G9: =INDEX(m1_,1,(ROWS($B$7:G9)-1)*7+COLUMNS($B$7:G9)) -> 44575 | H9: =INDEX(m1_,1,(ROWS($B$7:H9)-1)*7+COLUMNS($B$7:H9)) -> 44576 | J9: =INDEX(m2_,1,(ROWS($J$7:J9)-1)*7+COLUMNS($J$7:J9)) -> 44605 | K9: =INDEX(m2_,1,(ROWS($J$7:K9)-1)*7+COLUMNS($J$7:K9)) -> 44606 | L9: =INDEX(m2_,1,(ROWS($J$7:L9)-1)*7+COLUMNS($J$7:L9)) -> 44607 | M9: =INDEX(m2_,1,(ROWS($J$7:M9)-1)*7+COLUMNS($J$7:M9)) -> 44608 | N9: =INDEX(m2_,1,(ROWS($J$7:N9)-1)*7+COLUMNS($J$7:N9)) -> 44609 | O9: =INDEX(m2_,1,(ROWS($J$7:O9)-1)*7+COLUMNS($J$7:O9)) -> 44610 | P9: =INDEX(m2_,1,(ROWS($J$7:P9)-1)*7+COLUMNS($J$7:P9)) -> 44611 | R9: =INDEX(m3_,1,(ROWS($R$7:R9)-1)*7+COLUMNS($R$7:R9)) -> 44633 | S9: =INDEX(m3_,1,(ROWS($R$7:S9)-1)*7+COLUMNS($R$7:S9)) -> 44634 | T9: =INDEX(m3_,1,(ROWS($R$7:T9)-1)*7+COLUMNS($R$7:T9)) -> 44635 | U9: =INDEX(m3_,1,(ROWS($R$7:U9)-1)*7+COLUMNS($R$7:U9)) -> 44636 | V9: =INDEX(m3_,1,(ROWS($R$7:V9)-1)*7+COLUMNS($R$7:V9)) -> 44637 | W9: =INDEX(m3_,1,(ROWS($R$7:W9)-1)*7+COLUMNS($R$7:W9)) -> 44638 | X9: =INDEX(m3_,1,(ROWS($R$7:X9)-1)*7+COLUMNS($R$7:X9)) -> 44639
B10: =INDEX(m1_,1,(ROWS($B$7:B10)-1)*7+COLUMNS($B$7:B10)) -> 44577 | C10: =INDEX(m1_,1,(ROWS($B$7:C10)-1)*7+COLUMNS($B$7:C10)) -> 44578 | D10: =INDEX(m1_,1,(ROWS($B$7:D10)-1)*7+COLUMNS($B$7:D10)) -> 44579 | E10: =INDEX(m1_,1,(ROWS($B$7:E10)-1)*7+COLUMNS($B$7:E10)) -> 44580 | F10: =INDEX(m1_,1,(ROWS($B$7:F10)-1)*7+COLUMNS($B$7:F10)) -> 44581 | G10: =INDEX(m1_,1,(ROWS($B$7:G10)-1)*7+COLUMNS($B$7:G10)) -> 44582 | H10: =INDEX(m1_,1,(ROWS($B$7:H10)-1)*7+COLUMNS($B$7:H10)) -> 44583 | J10: =INDEX(m2_,1,(ROWS($J$7:J10)-1)*7+COLUMNS($J$7:J10)) -> 44612 | K10: =INDEX(m2_,1,(ROWS($J$7:K10)-1)*7+COLUMNS($J$7:K10)) -> 44613 | L10: =INDEX(m2_,1,(ROWS($J$7:L10)-1)*7+COLUMNS($J$7:L10)) -> 44614 | M10: =INDEX(m2_,1,(ROWS($J$7:M10)-1)*7+COLUMNS($J$7:M10)) -> 44615 | N10: =INDEX(m2_,1,(ROWS($J$7:N10)-1)*7+COLUMNS($J$7:N10)) -> 44616 | O10: =INDEX(m2_,1,(ROWS($J$7:O10)-1)*7+COLUMNS($J$7:O10)) -> 44617 | P10: =INDEX(m2_,1,(ROWS($J$7:P10)-1)*7+COLUMNS($J$7:P10)) -> 44618 | R10: =INDEX(m3_,1,(ROWS($R$7:R10)-1)*7+COLUMNS($R$7:R10)) -> 44640 | S10: =INDEX(m3_,1,(ROWS($R$7:S10)-1)*7+COLUMNS($R$7:S10)) -> 44641 | T10: =INDEX(m3_,1,(ROWS($R$7:T10)-1)*7+COLUMNS($R$7:T10)) -> 44642 | U10: =INDEX(m3_,1,(ROWS($R$7:U10)-1)*7+COLUMNS($R$7:U10)) -> 44643 | V10: =INDEX(m3_,1,(ROWS($R$7:V10)-1)*7+COLUMNS($R$7:V10)) -> 44644 | W10: =INDEX(m3_,1,(ROWS($R$7:W10)-1)*7+COLUMNS($R$7:W10)) -> 44645 | X10: =INDEX(m3_,1,(ROWS($R$7:X10)-1)*7+COLUMNS($R$7:X10)) -> 44646
B11: =INDEX(m1_,1,(ROWS($B$7:B11)-1)*7+COLUMNS($B$7:B11)) -> 44584 | C11: =INDEX(m1_,1,(ROWS($B$7:C11)-1)*7+COLUMNS($B$7:C11)) -> 44585 | D11: =INDEX(m1_,1,(ROWS($B$7:D11)-1)*7+COLUMNS($B$7:D11)) -> 44586 | E11: =INDEX(m1_,1,(ROWS($B$7:E11)-1)*7+COLUMNS($B$7:E11)) -> 44587 | F11: =INDEX(m1_,1,(ROWS($B$7:F11)-1)*7+COLUMNS($B$7:F11)) -> 44588 | G11: =INDEX(m1_,1,(ROWS($B$7:G11)-1)*7+COLUMNS($B$7:G11)) -> 44589 | H11: =INDEX(m1_,1,(ROWS($B$7:H11)-1)*7+COLUMNS($B$7:H11)) -> 44590 | J11: =INDEX(m2_,1,(ROWS($J$7:J11)-1)*7+COLUMNS($J$7:J11)) -> 44619 | K11: =INDEX(m2_,1,(ROWS($J$7:K11)-1)*7+COLUMNS($J$7:K11)) -> 44620 | L11: =INDEX(m2_,1,(ROWS($J$7:L11)-1)*7+COLUMNS($J$7:L11)) -> 44621 | M11: =INDEX(m2_,1,(ROWS($J$7:M11)-1)*7+COLUMNS($J$7:M11)) -> 44622 | N11: =INDEX(m2_,1,(ROWS($J$7:N11)-1)*7+COLUMNS($J$7:N11)) -> 44623 | O11: =INDEX(m2_,1,(ROWS($J$7:O11)-1)*7+COLUMNS($J$7:O11)) -> 44624 | P11: =INDEX(m2_,1,(ROWS($J$7:P11)-1)*7+COLUMNS($J$7:P11)) -> 44625 | R11: =INDEX(m3_,1,(ROWS($R$7:R11)-1)*7+COLUMNS($R$7:R11)) -> 44647 | S11: =INDEX(m3_,1,(ROWS($R$7:S11)-1)*7+COLUMNS($R$7:S11)) -> 44648 | T11: =INDEX(m3_,1,(ROWS($R$7:T11)-1)*7+COLUMNS($R$7:T11)) -> 44649 | U11: =INDEX(m3_,1,(ROWS($R$7:U11)-1)*7+COLUMNS($R$7:U11)) -> 44650 | V11: =INDEX(m3_,1,(ROWS($R$7:V11)-1)*7+COLUMNS($R$7:V11)) -> 44651 | W11: =INDEX(m3_,1,(ROWS($R$7:W11)-1)*7+COLUMNS($R$7:W11)) -> 44652 | X11: =INDEX(m3_,1,(ROWS($R$7:X11)-1)*7+COLUMNS($R$7:X11)) -> 44653
B12: =INDEX(m1_,1,(ROWS($B$7:B12)-1)*7+COLUMNS($B$7:B12)) -> 44591 | C12: =INDEX(m1_,1,(ROWS($B$7:C12)-1)*7+COLUMNS($B$7:C12)) -> 44592 | D12: =INDEX(m1_,1,(ROWS($B$7:D12)-1)*7+COLUMNS($B$7:D12)) -> 44593 | E12: =INDEX(m1_,1,(ROWS($B$7:E12)-1)*7+COLUMNS($B$7:E12)) -> 44594 | F12: =INDEX(m1_,1,(ROWS($B$7:F12)-1)*7+COLUMNS($B$7:F12)) -> 44595 | G12: =INDEX(m1_,1,(ROWS($B$7:G12)-1)*7+COLUMNS($B$7:G12)) -> 44596 | H12: =INDEX(m1_,1,(ROWS($B$7:H12)-1)*7+COLUMNS($B$7:H12)) -> 44597 | J12: =INDEX(m2_,1,(ROWS($J$7:J12)-1)*7+COLUMNS($J$7:J12)) -> 44626 | K12: =INDEX(m2_,1,(ROWS($J$7:K12)-1)*7+COLUMNS($J$7:K12)) -> 44627 | L12: =INDEX(m2_,1,(ROWS($J$7:L12)-1)*7+COLUMNS($J$7:L12)) -> 44628 | M12: =INDEX(m2_,1,(ROWS($J$7:M12)-1)*7+COLUMNS($J$7:M12)) -> 44629 | N12: =INDEX(m2_,1,(ROWS($J$7:N12)-1)*7+COLUMNS($J$7:N12)) -> 44630 | O12: =INDEX(m2_,1,(ROWS($J$7:O12)-1)*7+COLUMNS($J$7:O12)) -> 44631 | P12: =INDEX(m2_,1,(ROWS($J$7:P12)-1)*7+COLUMNS($J$7:P12)) -> 44632 | R12: =INDEX(m3_,1,(ROWS($R$7:R12)-1)*7+COLUMNS($R$7:R12)) -> 44654 | S12: =INDEX(m3_,1,(ROWS($R$7:S12)-1)*7+COLUMNS($R$7:S12)) -> 44655 | T12: =INDEX(m3_,1,(ROWS($R$7:T12)-1)*7+COLUMNS($R$7:T12)) -> 44656 | U12: =INDEX(m3_,1,(ROWS($R$7:U12)-1)*7+COLUMNS($R$7:U12)) -> 44657 | V12: =INDEX(m3_,1,(ROWS($R$7:V12)-1)*7+COLUMNS($R$7:V12)) -> 44658 | W12: =INDEX(m3_,1,(ROWS($R$7:W12)-1)*7+COLUMNS($R$7:W12)) -> 44659 | X12: =INDEX(m3_,1,(ROWS($R$7:X12)-1)*7+COLUMNS($R$7:X12)) -> 44660
B14: =Mini!B9 -> 44652 | J14: =Mini!B10 -> 44682 | R14: =Mini!B11 -> 44713
B15: Do | C15: Lu | D15: Ma | E15: Mi | F15: Ju | G15: Vi | H15: Sa | J15: Do | K15: Lu | L15: Ma | M15: Mi | N15: Ju | O15: Vi | P15: Sa | R15: Do | S15: Lu | T15: Ma | U15: Mi | V15: Ju | W15: Vi | X15: Sa
B16: =INDEX(m4_,1,(ROWS($B$16:B16)-1)*7+COLUMNS($B$16:B16)) -> 44647 | C16: =INDEX(m4_,1,(ROWS($B$16:C16)-1)*7+COLUMNS($B$16:C16)) -> 44648 | D16: =INDEX(m4_,1,(ROWS($B$16:D16)-1)*7+COLUMNS($B$16:D16)) -> 44649 | E16: =INDEX(m4_,1,(ROWS($B$16:E16)-1)*7+COLUMNS($B$16:E16)) -> 44650 | F16: =INDEX(m4_,1,(ROWS($B$16:F16)-1)*7+COLUMNS($B$16:F16)) -> 44651 | G16: =INDEX(m4_,1,(ROWS($B$16:G16)-1)*7+COLUMNS($B$16:G16)) -> 44652 | H16: =INDEX(m4_,1,(ROWS($B$16:H16)-1)*7+COLUMNS($B$16:H16)) -> 44653 | J16: =INDEX(m5_,1,(ROWS($J$16:J16)-1)*7+COLUMNS($J$16:J16)) -> 44675 | K16: =INDEX(m5_,1,(ROWS($J$16:K16)-1)*7+COLUMNS($J$16:K16)) -> 44676 | L16: =INDEX(m5_,1,(ROWS($J$16:L16)-1)*7+COLUMNS($J$16:L16)) -> 44677 | M16: =INDEX(m5_,1,(ROWS($J$16:M16)-1)*7+COLUMNS($J$16:M16)) -> 44678 | N16: =INDEX(m5_,1,(ROWS($J$16:N16)-1)*7+COLUMNS($J$16:N16)) -> 44679 | O16: =INDEX(m5_,1,(ROWS($J$16:O16)-1)*7+COLUMNS($J$16:O16)) -> 44680 | P16: =INDEX(m5_,1,(ROWS($J$16:P16)-1)*7+COLUMNS($J$16:P16)) -> 44681 | R16: =INDEX(m6_,1,(ROWS($R$16:R16)-1)*7+COLUMNS($R$16:R16)) -> 44710 | S16: =INDEX(m6_,1,(ROWS($R$16:S16)-1)*7+COLUMNS($R$16:S16)) -> 44711 | T16: =INDEX(m6_,1,(ROWS($R$16:T16)-1)*7+COLUMNS($R$16:T16)) -> 44712 | U16: =INDEX(m6_,1,(ROWS($R$16:U16)-1)*7+COLUMNS($R$16:U16)) -> 44713 | V16: =INDEX(m6_,1,(ROWS($R$16:V16)-1)*7+COLUMNS($R$16:V16)) -> 44714 | W16: =INDEX(m6_,1,(ROWS($R$16:W16)-1)*7+COLUMNS($R$16:W16)) -> 44715 | X16: =INDEX(m6_,1,(ROWS($R$16:X16)-1)*7+COLUMNS($R$16:X16)) -> 44716
B17: =INDEX(m4_,1,(ROWS($B$16:B17)-1)*7+COLUMNS($B$16:B17)) -> 44654 | C17: =INDEX(m4_,1,(ROWS($B$16:C17)-1)*7+COLUMNS($B$16:C17)) -> 44655 | D17: =INDEX(m4_,1,(ROWS($B$16:D17)-1)*7+COLUMNS($B$16:D17)) -> 44656 | E17: =INDEX(m4_,1,(ROWS($B$16:E17)-1)*7+COLUMNS($B$16:E17)) -> 44657 | F17: =INDEX(m4_,1,(ROWS($B$16:F17)-1)*7+COLUMNS($B$16:F17)) -> 44658 | G17: =INDEX(m4_,1,(ROWS($B$16:G17)-1)*7+COLUMNS($B$16:G17)) -> 44659 | H17: =INDEX(m4_,1,(ROWS($B$16:H17)-1)*7+COLUMNS($B$16:H17)) -> 44660 | J17: =INDEX(m5_,1,(ROWS($J$16:J17)-1)*7+COLUMNS($J$16:J17)) -> 44682 | K17: =INDEX(m5_,1,(ROWS($J$16:K17)-1)*7+COLUMNS($J$16:K17)) -> 44683 | L17: =INDEX(m5_,1,(ROWS($J$16:L17)-1)*7+COLUMNS($J$16:L17)) -> 44684 | M17: =INDEX(m5_,1,(ROWS($J$16:M17)-1)*7+COLUMNS($J$16:M17)) -> 44685 | N17: =INDEX(m5_,1,(ROWS($J$16:N17)-1)*7+COLUMNS($J$16:N17)) -> 44686 | O17: =INDEX(m5_,1,(ROWS($J$16:O17)-1)*7+COLUMNS($J$16:O17)) -> 44687 | P17: =INDEX(m5_,1,(ROWS($J$16:P17)-1)*7+COLUMNS($J$16:P17)) -> 44688 | R17: =INDEX(m6_,1,(ROWS($R$16:R17)-1)*7+COLUMNS($R$16:R17)) -> 44717 | S17: =INDEX(m6_,1,(ROWS($R$16:S17)-1)*7+COLUMNS($R$16:S17)) -> 44718 | T17: =INDEX(m6_,1,(ROWS($R$16:T17)-1)*7+COLUMNS($R$16:T17)) -> 44719 | U17: =INDEX(m6_,1,(ROWS($R$16:U17)-1)*7+COLUMNS($R$16:U17)) -> 44720 | V17: =INDEX(m6_,1,(ROWS($R$16:V17)-1)*7+COLUMNS($R$16:V17)) -> 44721 | W17: =INDEX(m6_,1,(ROWS($R$16:W17)-1)*7+COLUMNS($R$16:W17)) -> 44722 | X17: =INDEX(m6_,1,(ROWS($R$16:X17)-1)*7+COLUMNS($R$16:X17)) -> 44723
B18: =INDEX(m4_,1,(ROWS($B$16:B18)-1)*7+COLUMNS($B$16:B18)) -> 44661 | C18: =INDEX(m4_,1,(ROWS($B$16:C18)-1)*7+COLUMNS($B$16:C18)) -> 44662 | D18: =INDEX(m4_,1,(ROWS($B$16:D18)-1)*7+COLUMNS($B$16:D18)) -> 44663 | E18: =INDEX(m4_,1,(ROWS($B$16:E18)-1)*7+COLUMNS($B$16:E18)) -> 44664 | F18: =INDEX(m4_,1,(ROWS($B$16:F18)-1)*7+COLUMNS($B$16:F18)) -> 44665 | G18: =INDEX(m4_,1,(ROWS($B$16:G18)-1)*7+COLUMNS($B$16:G18)) -> 44666 | H18: =INDEX(m4_,1,(ROWS($B$16:H18)-1)*7+COLUMNS($B$16:H18)) -> 44667 | J18: =INDEX(m5_,1,(ROWS($J$16:J18)-1)*7+COLUMNS($J$16:J18)) -> 44689 | K18: =INDEX(m5_,1,(ROWS($J$16:K18)-1)*7+COLUMNS($J$16:K18)) -> 44690 | L18: =INDEX(m5_,1,(ROWS($J$16:L18)-1)*7+COLUMNS($J$16:L18)) -> 44691 | M18: =INDEX(m5_,1,(ROWS($J$16:M18)-1)*7+COLUMNS($J$16:M18)) -> 44692 | N18: =INDEX(m5_,1,(ROWS($J$16:N18)-1)*7+COLUMNS($J$16:N18)) -> 44693 | O18: =INDEX(m5_,1,(ROWS($J$16:O18)-1)*7+COLUMNS($J$16:O18)) -> 44694 | P18: =INDEX(m5_,1,(ROWS($J$16:P18)-1)*7+COLUMNS($J$16:P18)) -> 44695 | R18: =INDEX(m6_,1,(ROWS($R$16:R18)-1)*7+COLUMNS($R$16:R18)) -> 44724 | S18: =INDEX(m6_,1,(ROWS($R$16:S18)-1)*7+COLUMNS($R$16:S18)) -> 44725 | T18: =INDEX(m6_,1,(ROWS($R$16:T18)-1)*7+COLUMNS($R$16:T18)) -> 44726 | U18: =INDEX(m6_,1,(ROWS($R$16:U18)-1)*7+COLUMNS($R$16:U18)) -> 44727 | V18: =INDEX(m6_,1,(ROWS($R$16:V18)-1)*7+COLUMNS($R$16:V18)) -> 44728 | W18: =INDEX(m6_,1,(ROWS($R$16:W18)-1)*7+COLUMNS($R$16:W18)) -> 44729 | X18: =INDEX(m6_,1,(ROWS($R$16:X18)-1)*7+COLUMNS($R$16:X18)) -> 44730
B19: =INDEX(m4_,1,(ROWS($B$16:B19)-1)*7+COLUMNS($B$16:B19)) -> 44668 | C19: =INDEX(m4_,1,(ROWS($B$16:C19)-1)*7+COLUMNS($B$16:C19)) -> 44669 | D19: =INDEX(m4_,1,(ROWS($B$16:D19)-1)*7+COLUMNS($B$16:D19)) -> 44670 | E19: =INDEX(m4_,1,(ROWS($B$16:E19)-1)*7+COLUMNS($B$16:E19)) -> 44671 | F19: =INDEX(m4_,1,(ROWS($B$16:F19)-1)*7+COLUMNS($B$16:F19)) -> 44672 | G19: =INDEX(m4_,1,(ROWS($B$16:G19)-1)*7+COLUMNS($B$16:G19)) -> 44673 | H19: =INDEX(m4_,1,(ROWS($B$16:H19)-1)*7+COLUMNS($B$16:H19)) -> 44674 | J19: =INDEX(m5_,1,(ROWS($J$16:J19)-1)*7+COLUMNS($J$16:J19)) -> 44696 | K19: =INDEX(m5_,1,(ROWS($J$16:K19)-1)*7+COLUMNS($J$16:K19)) -> 44697 | L19: =INDEX(m5_,1,(ROWS($J$16:L19)-1)*7+COLUMNS($J$16:L19)) -> 44698 | M19: =INDEX(m5_,1,(ROWS($J$16:M19)-1)*7+COLUMNS($J$16:M19)) -> 44699 | N19: =INDEX(m5_,1,(ROWS($J$16:N19)-1)*7+COLUMNS($J$16:N19)) -> 44700 | O19: =INDEX(m5_,1,(ROWS($J$16:O19)-1)*7+COLUMNS($J$16:O19)) -> 44701 | P19: =INDEX(m5_,1,(ROWS($J$16:P19)-1)*7+COLUMNS($J$16:P19)) -> 44702 | R19: =INDEX(m6_,1,(ROWS($R$16:R19)-1)*7+COLUMNS($R$16:R19)) -> 44731 | S19: =INDEX(m6_,1,(ROWS($R$16:S19)-1)*7+COLUMNS($R$16:S19)) -> 44732 | T19: =INDEX(m6_,1,(ROWS($R$16:T19)-1)*7+COLUMNS($R$16:T19)) -> 44733 | U19: =INDEX(m6_,1,(ROWS($R$16:U19)-1)*7+COLUMNS($R$16:U19)) -> 44734 | V19: =INDEX(m6_,1,(ROWS($R$16:V19)-1)*7+COLUMNS($R$16:V19)) -> 44735 | W19: =INDEX(m6_,1,(ROWS($R$16:W19)-1)*7+COLUMNS($R$16:W19)) -> 44736 | X19: =INDEX(m6_,1,(ROWS($R$16:X19)-1)*7+COLUMNS($R$16:X19)) -> 44737
B20: =INDEX(m4_,1,(ROWS($B$16:B20)-1)*7+COLUMNS($B$16:B20)) -> 44675 | C20: =INDEX(m4_,1,(ROWS($B$16:C20)-1)*7+COLUMNS($B$16:C20)) -> 44676 | D20: =INDEX(m4_,1,(ROWS($B$16:D20)-1)*7+COLUMNS($B$16:D20)) -> 44677 | E20: =INDEX(m4_,1,(ROWS($B$16:E20)-1)*7+COLUMNS($B$16:E20)) -> 44678 | F20: =INDEX(m4_,1,(ROWS($B$16:F20)-1)*7+COLUMNS($B$16:F20)) -> 44679 | G20: =INDEX(m4_,1,(ROWS($B$16:G20)-1)*7+COLUMNS($B$16:G20)) -> 44680 | H20: =INDEX(m4_,1,(ROWS($B$16:H20)-1)*7+COLUMNS($B$16:H20)) -> 44681 | J20: =INDEX(m5_,1,(ROWS($J$16:J20)-1)*7+COLUMNS($J$16:J20)) -> 44703 | K20: =INDEX(m5_,1,(ROWS($J$16:K20)-1)*7+COLUMNS($J$16:K20)) -> 44704 | L20: =INDEX(m5_,1,(ROWS($J$16:L20)-1)*7+COLUMNS($J$16:L20)) -> 44705 | M20: =INDEX(m5_,1,(ROWS($J$16:M20)-1)*7+COLUMNS($J$16:M20)) -> 44706 | N20: =INDEX(m5_,1,(ROWS($J$16:N20)-1)*7+COLUMNS($J$16:N20)) -> 44707 | O20: =INDEX(m5_,1,(ROWS($J$16:O20)-1)*7+COLUMNS($J$16:O20)) -> 44708 | P20: =INDEX(m5_,1,(ROWS($J$16:P20)-1)*7+COLUMNS($J$16:P20)) -> 44709 | R20: =INDEX(m6_,1,(ROWS($R$16:R20)-1)*7+COLUMNS($R$16:R20)) -> 44738 | S20: =INDEX(m6_,1,(ROWS($R$16:S20)-1)*7+COLUMNS($R$16:S20)) -> 44739 | T20: =INDEX(m6_,1,(ROWS($R$16:T20)-1)*7+COLUMNS($R$16:T20)) -> 44740 | U20: =INDEX(m6_,1,(ROWS($R$16:U20)-1)*7+COLUMNS($R$16:U20)) -> 44741 | V20: =INDEX(m6_,1,(ROWS($R$16:V20)-1)*7+COLUMNS($R$16:V20)) -> 44742 | W20: =INDEX(m6_,1,(ROWS($R$16:W20)-1)*7+COLUMNS($R$16:W20)) -> 44743 | X20: =INDEX(m6_,1,(ROWS($R$16:X20)-1)*7+COLUMNS($R$16:X20)) -> 44744
B21: =INDEX(m4_,1,(ROWS($B$16:B21)-1)*7+COLUMNS($B$16:B21)) -> 44682 | C21: =INDEX(m4_,1,(ROWS($B$16:C21)-1)*7+COLUMNS($B$16:C21)) -> 44683 | D21: =INDEX(m4_,1,(ROWS($B$16:D21)-1)*7+COLUMNS($B$16:D21)) -> 44684 | E21: =INDEX(m4_,1,(ROWS($B$16:E21)-1)*7+COLUMNS($B$16:E21)) -> 44685 | F21: =INDEX(m4_,1,(ROWS($B$16:F21)-1)*7+COLUMNS($B$16:F21)) -> 44686 | G21: =INDEX(m4_,1,(ROWS($B$16:G21)-1)*7+COLUMNS($B$16:G21)) -> 44687 | H21: =INDEX(m4_,1,(ROWS($B$16:H21)-1)*7+COLUMNS($B$16:H21)) -> 44688 | J21: =INDEX(m5_,1,(ROWS($J$16:J21)-1)*7+COLUMNS($J$16:J21)) -> 44710 | K21: =INDEX(m5_,1,(ROWS($J$16:K21)-1)*7+COLUMNS($J$16:K21)) -> 44711 | L21: =INDEX(m5_,1,(ROWS($J$16:L21)-1)*7+COLUMNS($J$16:L21)) -> 44712 | M21: =INDEX(m5_,1,(ROWS($J$16:M21)-1)*7+COLUMNS($J$16:M21)) -> 44713 | N21: =INDEX(m5_,1,(ROWS($J$16:N21)-1)*7+COLUMNS($J$16:N21)) -> 44714 | O21: =INDEX(m5_,1,(ROWS($J$16:O21)-1)*7+COLUMNS($J$16:O21)) -> 44715 | P21: =INDEX(m5_,1,(ROWS($J$16:P21)-1)*7+COLUMNS($J$16:P21)) -> 44716 | R21: =INDEX(m6_,1,(ROWS($R$16:R21)-1)*7+COLUMNS($R$16:R21)) -> 44745 | S21: =INDEX(m6_,1,(ROWS($R$16:S21)-1)*7+COLUMNS($R$16:S21)) -> 44746 | T21: =INDEX(m6_,1,(ROWS($R$16:T21)-1)*7+COLUMNS($R$16:T21)) -> 44747 | U21: =INDEX(m6_,1,(ROWS($R$16:U21)-1)*7+COLUMNS($R$16:U21)) -> 44748 | V21: =INDEX(m6_,1,(ROWS($R$16:V21)-1)*7+COLUMNS($R$16:V21)) -> 44749 | W21: =INDEX(m6_,1,(ROWS($R$16:W21)-1)*7+COLUMNS($R$16:W21)) -> 44750 | X21: =INDEX(m6_,1,(ROWS($R$16:X21)-1)*7+COLUMNS($R$16:X21)) -> 44751
B23: =Mini!B12 -> 44743 | J23: =Mini!B13 -> 44774 | R23: =Mini!B14 -> 44805
B24: Do | C24: Lu | D24: Ma | E24: Mi | F24: Ju | G24: Vi | H24: Sa | J24: Do | K24: Lu | L24: Ma | M24: Mi | N24: Ju | O24: Vi | P24: Sa | R24: Do | S24: Lu | T24: Ma | U24: Mi | V24: Ju | W24: Vi | X24: Sa
B25: =INDEX(m7_,1,(ROWS($B$25:B25)-1)*7+COLUMNS($B$25:B25)) -> 44738 | C25: =INDEX(m7_,1,(ROWS($B$25:C25)-1)*7+COLUMNS($B$25:C25)) -> 44739 | D25: =INDEX(m7_,1,(ROWS($B$25:D25)-1)*7+COLUMNS($B$25:D25)) -> 44740 | E25: =INDEX(m7_,1,(ROWS($B$25:E25)-1)*7+COLUMNS($B$25:E25)) -> 44741 | F25: =INDEX(m7_,1,(ROWS($B$25:F25)-1)*7+COLUMNS($B$25:F25)) -> 44742 | G25: =INDEX(m7_,1,(ROWS($B$25:G25)-1)*7+COLUMNS($B$25:G25)) -> 44743 | H25: =INDEX(m7_,1,(ROWS($B$25:H25)-1)*7+COLUMNS($B$25:H25)) -> 44744 | J25: =INDEX(m8_,1,(ROWS($J$25:J25)-1)*7+COLUMNS($J$25:J25)) -> 44773 | K25: =INDEX(m8_,1,(ROWS($J$25:K25)-1)*7+COLUMNS($J$25:K25)) -> 44774 | L25: =INDEX(m8_,1,(ROWS($J$25:L25)-1)*7+COLUMNS($J$25:L25)) -> 44775 | M25: =INDEX(m8_,1,(ROWS($J$25:M25)-1)*7+COLUMNS($J$25:M25)) -> 44776 | N25: =INDEX(m8_,1,(ROWS($J$25:N25)-1)*7+COLUMNS($J$25:N25)) -> 44777 | O25: =INDEX(m8_,1,(ROWS($J$25:O25)-1)*7+COLUMNS($J$25:O25)) -> 44778 | P25: =INDEX(m8_,1,(ROWS($J$25:P25)-1)*7+COLUMNS($J$25:P25)) -> 44779 | R25: =INDEX(m9_,1,(ROWS($R$25:R25)-1)*7+COLUMNS($R$25:R25)) -> 44801 | S25: =INDEX(m9_,1,(ROWS($R$25:S25)-1)*7+COLUMNS($R$25:S25)) -> 44802 | T25: =INDEX(m9_,1,(ROWS($R$25:T25)-1)*7+COLUMNS($R$25:T25)) -> 44803 | U25: =INDEX(m9_,1,(ROWS($R$25:U25)-1)*7+COLUMNS($R$25:U25)) -> 44804 | V25: =INDEX(m9_,1,(ROWS($R$25:V25)-1)*7+COLUMNS($R$25:V25)) -> 44805 | W25: =INDEX(m9_,1,(ROWS($R$25:W25)-1)*7+COLUMNS($R$25:W25)) -> 44806 | X25: =INDEX(m9_,1,(ROWS($R$25:X25)-1)*7+COLUMNS($R$25:X25)) -> 44807
B26: =INDEX(m7_,1,(ROWS($B$25:B26)-1)*7+COLUMNS($B$25:B26)) -> 44745 | C26: =INDEX(m7_,1,(ROWS($B$25:C26)-1)*7+COLUMNS($B$25:C26)) -> 44746 | D26: =INDEX(m7_,1,(ROWS($B$25:D26)-1)*7+COLUMNS($B$25:D26)) -> 44747 | E26: =INDEX(m7_,1,(ROWS($B$25:E26)-1)*7+COLUMNS($B$25:E26)) -> 44748 | F26: =INDEX(m7_,1,(ROWS($B$25:F26)-1)*7+COLUMNS($B$25:F26)) -> 44749 | G26: =INDEX(m7_,1,(ROWS($B$25:G26)-1)*7+COLUMNS($B$25:G26)) -> 44750 | H26: =INDEX(m7_,1,(ROWS($B$25:H26)-1)*7+COLUMNS($B$25:H26)) -> 44751 | J26: =INDEX(m8_,1,(ROWS($J$25:J26)-1)*7+COLUMNS($J$25:J26)) -> 44780 | K26: =INDEX(m8_,1,(ROWS($J$25:K26)-1)*7+COLUMNS($J$25:K26)) -> 44781 | L26: =INDEX(m8_,1,(ROWS($J$25:L26)-1)*7+COLUMNS($J$25:L26)) -> 44782 | M26: =INDEX(m8_,1,(ROWS($J$25:M26)-1)*7+COLUMNS($J$25:M26)) -> 44783 | N26: =INDEX(m8_,1,(ROWS($J$25:N26)-1)*7+COLUMNS($J$25:N26)) -> 44784 | O26: =INDEX(m8_,1,(ROWS($J$25:O26)-1)*7+COLUMNS($J$25:O26)) -> 44785 | P26: =INDEX(m8_,1,(ROWS($J$25:P26)-1)*7+COLUMNS($J$25:P26)) -> 44786 | R26: =INDEX(m9_,1,(ROWS($R$25:R26)-1)*7+COLUMNS($R$25:R26)) -> 44808 | S26: =INDEX(m9_,1,(ROWS($R$25:S26)-1)*7+COLUMNS($R$25:S26)) -> 44809 | T26: =INDEX(m9_,1,(ROWS($R$25:T26)-1)*7+COLUMNS($R$25:T26)) -> 44810 | U26: =INDEX(m9_,1,(ROWS($R$25:U26)-1)*7+COLUMNS($R$25:U26)) -> 44811 | V26: =INDEX(m9_,1,(ROWS($R$25:V26)-1)*7+COLUMNS($R$25:V26)) -> 44812 | W26: =INDEX(m9_,1,(ROWS($R$25:W26)-1)*7+COLUMNS($R$25:W26)) -> 44813 | X26: =INDEX(m9_,1,(ROWS($R$25:X26)-1)*7+COLUMNS($R$25:X26)) -> 44814
B27: =INDEX(m7_,1,(ROWS($B$25:B27)-1)*7+COLUMNS($B$25:B27)) -> 44752 | C27: =INDEX(m7_,1,(ROWS($B$25:C27)-1)*7+COLUMNS($B$25:C27)) -> 44753 | D27: =INDEX(m7_,1,(ROWS($B$25:D27)-1)*7+COLUMNS($B$25:D27)) -> 44754 | E27: =INDEX(m7_,1,(ROWS($B$25:E27)-1)*7+COLUMNS($B$25:E27)) -> 44755 | F27: =INDEX(m7_,1,(ROWS($B$25:F27)-1)*7+COLUMNS($B$25:F27)) -> 44756 | G27: =INDEX(m7_,1,(ROWS($B$25:G27)-1)*7+COLUMNS($B$25:G27)) -> 44757 | H27: =INDEX(m7_,1,(ROWS($B$25:H27)-1)*7+COLUMNS($B$25:H27)) -> 44758 | J27: =INDEX(m8_,1,(ROWS($J$25:J27)-1)*7+COLUMNS($J$25:J27)) -> 44787 | K27: =INDEX(m8_,1,(ROWS($J$25:K27)-1)*7+COLUMNS($J$25:K27)) -> 44788 | L27: =INDEX(m8_,1,(ROWS($J$25:L27)-1)*7+COLUMNS($J$25:L27)) -> 44789 | M27: =INDEX(m8_,1,(ROWS($J$25:M27)-1)*7+COLUMNS($J$25:M27)) -> 44790 | N27: =INDEX(m8_,1,(ROWS($J$25:N27)-1)*7+COLUMNS($J$25:N27)) -> 44791 | O27: =INDEX(m8_,1,(ROWS($J$25:O27)-1)*7+COLUMNS($J$25:O27)) -> 44792 | P27: =INDEX(m8_,1,(ROWS($J$25:P27)-1)*7+COLUMNS($J$25:P27)) -> 44793 | R27: =INDEX(m9_,1,(ROWS($R$25:R27)-1)*7+COLUMNS($R$25:R27)) -> 44815 | S27: =INDEX(m9_,1,(ROWS($R$25:S27)-1)*7+COLUMNS($R$25:S27)) -> 44816 | T27: =INDEX(m9_,1,(ROWS($R$25:T27)-1)*7+COLUMNS($R$25:T27)) -> 44817 | U27: =INDEX(m9_,1,(ROWS($R$25:U27)-1)*7+COLUMNS($R$25:U27)) -> 44818 | V27: =INDEX(m9_,1,(ROWS($R$25:V27)-1)*7+COLUMNS($R$25:V27)) -> 44819 | W27: =INDEX(m9_,1,(ROWS($R$25:W27)-1)*7+COLUMNS($R$25:W27)) -> 44820 | X27: =INDEX(m9_,1,(ROWS($R$25:X27)-1)*7+COLUMNS($R$25:X27)) -> 44821
B28: =INDEX(m7_,1,(ROWS($B$25:B28)-1)*7+COLUMNS($B$25:B28)) -> 44759 | C28: =INDEX(m7_,1,(ROWS($B$25:C28)-1)*7+COLUMNS($B$25:C28)) -> 44760 | D28: =INDEX(m7_,1,(ROWS($B$25:D28)-1)*7+COLUMNS($B$25:D28)) -> 44761 | E28: =INDEX(m7_,1,(ROWS($B$25:E28)-1)*7+COLUMNS($B$25:E28)) -> 44762 | F28: =INDEX(m7_,1,(ROWS($B$25:F28)-1)*7+COLUMNS($B$25:F28)) -> 44763 | G28: =INDEX(m7_,1,(ROWS($B$25:G28)-1)*7+COLUMNS($B$25:G28)) -> 44764 | H28: =INDEX(m7_,1,(ROWS($B$25:H28)-1)*7+COLUMNS($B$25:H28)) -> 44765 | J28: =INDEX(m8_,1,(ROWS($J$25:J28)-1)*7+COLUMNS($J$25:J28)) -> 44794 | K28: =INDEX(m8_,1,(ROWS($J$25:K28)-1)*7+COLUMNS($J$25:K28)) -> 44795 | L28: =INDEX(m8_,1,(ROWS($J$25:L28)-1)*7+COLUMNS($J$25:L28)) -> 44796 | M28: =INDEX(m8_,1,(ROWS($J$25:M28)-1)*7+COLUMNS($J$25:M28)) -> 44797 | N28: =INDEX(m8_,1,(ROWS($J$25:N28)-1)*7+COLUMNS($J$25:N28)) -> 44798 | O28: =INDEX(m8_,1,(ROWS($J$25:O28)-1)*7+COLUMNS($J$25:O28)) -> 44799 | P28: =INDEX(m8_,1,(ROWS($J$25:P28)-1)*7+COLUMNS($J$25:P28)) -> 44800 | R28: =INDEX(m9_,1,(ROWS($R$25:R28)-1)*7+COLUMNS($R$25:R28)) -> 44822 | S28: =INDEX(m9_,1,(ROWS($R$25:S28)-1)*7+COLUMNS($R$25:S28)) -> 44823 | T28: =INDEX(m9_,1,(ROWS($R$25:T28)-1)*7+COLUMNS($R$25:T28)) -> 44824 | U28: =INDEX(m9_,1,(ROWS($R$25:U28)-1)*7+COLUMNS($R$25:U28)) -> 44825 | V28: =INDEX(m9_,1,(ROWS($R$25:V28)-1)*7+COLUMNS($R$25:V28)) -> 44826 | W28: =INDEX(m9_,1,(ROWS($R$25:W28)-1)*7+COLUMNS($R$25:W28)) -> 44827 | X28: =INDEX(m9_,1,(ROWS($R$25:X28)-1)*7+COLUMNS($R$25:X28)) -> 44828
B29: =INDEX(m7_,1,(ROWS($B$25:B29)-1)*7+COLUMNS($B$25:B29)) -> 44766 | C29: =INDEX(m7_,1,(ROWS($B$25:C29)-1)*7+COLUMNS($B$25:C29)) -> 44767 | D29: =INDEX(m7_,1,(ROWS($B$25:D29)-1)*7+COLUMNS($B$25:D29)) -> 44768 | E29: =INDEX(m7_,1,(ROWS($B$25:E29)-1)*7+COLUMNS($B$25:E29)) -> 44769 | F29: =INDEX(m7_,1,(ROWS($B$25:F29)-1)*7+COLUMNS($B$25:F29)) -> 44770 | G29: =INDEX(m7_,1,(ROWS($B$25:G29)-1)*7+COLUMNS($B$25:G29)) -> 44771 | H29: =INDEX(m7_,1,(ROWS($B$25:H29)-1)*7+COLUMNS($B$25:H29)) -> 44772 | J29: =INDEX(m8_,1,(ROWS($J$25:J29)-1)*7+COLUMNS($J$25:J29)) -> 44801 | K29: =INDEX(m8_,1,(ROWS($J$25:K29)-1)*7+COLUMNS($J$25:K29)) -> 44802 | L29: =INDEX(m8_,1,(ROWS($J$25:L29)-1)*7+COLUMNS($J$25:L29)) -> 44803 | M29: =INDEX(m8_,1,(ROWS($J$25:M29)-1)*7+COLUMNS($J$25:M29)) -> 44804 | N29: =INDEX(m8_,1,(ROWS($J$25:N29)-1)*7+COLUMNS($J$25:N29)) -> 44805 | O29: =INDEX(m8_,1,(ROWS($J$25:O29)-1)*7+COLUMNS($J$25:O29)) -> 44806 | P29: =INDEX(m8_,1,(ROWS($J$25:P29)-1)*7+COLUMNS($J$25:P29)) -> 44807 | R29: =INDEX(m9_,1,(ROWS($R$25:R29)-1)*7+COLUMNS($R$25:R29)) -> 44829 | S29: =INDEX(m9_,1,(ROWS($R$25:S29)-1)*7+COLUMNS($R$25:S29)) -> 44830 | T29: =INDEX(m9_,1,(ROWS($R$25:T29)-1)*7+COLUMNS($R$25:T29)) -> 44831 | U29: =INDEX(m9_,1,(ROWS($R$25:U29)-1)*7+COLUMNS($R$25:U29)) -> 44832 | V29: =INDEX(m9_,1,(ROWS($R$25:V29)-1)*7+COLUMNS($R$25:V29)) -> 44833 | W29: =INDEX(m9_,1,(ROWS($R$25:W29)-1)*7+COLUMNS($R$25:W29)) -> 44834 | X29: =INDEX(m9_,1,(ROWS($R$25:X29)-1)*7+COLUMNS($R$25:X29)) -> 44835
B30: =INDEX(m7_,1,(ROWS($B$25:B30)-1)*7+COLUMNS($B$25:B30)) -> 44773 | C30: =INDEX(m7_,1,(ROWS($B$25:C30)-1)*7+COLUMNS($B$25:C30)) -> 44774 | D30: =INDEX(m7_,1,(ROWS($B$25:D30)-1)*7+COLUMNS($B$25:D30)) -> 44775 | E30: =INDEX(m7_,1,(ROWS($B$25:E30)-1)*7+COLUMNS($B$25:E30)) -> 44776 | F30: =INDEX(m7_,1,(ROWS($B$25:F30)-1)*7+COLUMNS($B$25:F30)) -> 44777 | G30: =INDEX(m7_,1,(ROWS($B$25:G30)-1)*7+COLUMNS($B$25:G30)) -> 44778 | H30: =INDEX(m7_,1,(ROWS($B$25:H30)-1)*7+COLUMNS($B$25:H30)) -> 44779 | J30: =INDEX(m8_,1,(ROWS($J$25:J30)-1)*7+COLUMNS($J$25:J30)) -> 44808 | K30: =INDEX(m8_,1,(ROWS($J$25:K30)-1)*7+COLUMNS($J$25:K30)) -> 44809 | L30: =INDEX(m8_,1,(ROWS($J$25:L30)-1)*7+COLUMNS($J$25:L30)) -> 44810 | M30: =INDEX(m8_,1,(ROWS($J$25:M30)-1)*7+COLUMNS($J$25:M30)) -> 44811 | N30: =INDEX(m8_,1,(ROWS($J$25:N30)-1)*7+COLUMNS($J$25:N30)) -> 44812 | O30: =INDEX(m8_,1,(ROWS($J$25:O30)-1)*7+COLUMNS($J$25:O30)) -> 44813 | P30: =INDEX(m8_,1,(ROWS($J$25:P30)-1)*7+COLUMNS($J$25:P30)) -> 44814 | R30: =INDEX(m9_,1,(ROWS($R$25:R30)-1)*7+COLUMNS($R$25:R30)) -> 44836 | S30: =INDEX(m9_,1,(ROWS($R$25:S30)-1)*7+COLUMNS($R$25:S30)) -> 44837 | T30: =INDEX(m9_,1,(ROWS($R$25:T30)-1)*7+COLUMNS($R$25:T30)) -> 44838 | U30: =INDEX(m9_,1,(ROWS($R$25:U30)-1)*7+COLUMNS($R$25:U30)) -> 44839 | V30: =INDEX(m9_,1,(ROWS($R$25:V30)-1)*7+COLUMNS($R$25:V30)) -> 44840 | W30: =INDEX(m9_,1,(ROWS($R$25:W30)-1)*7+COLUMNS($R$25:W30)) -> 44841 | X30: =INDEX(m9_,1,(ROWS($R$25:X30)-1)*7+COLUMNS($R$25:X30)) -> 44842
B32: =Mini!B15 -> 44835 | J32: =Mini!B16 -> 44866 | R32: =Mini!B17 -> 44896
B33: Do | C33: Lu | D33: Ma | E33: Mi | F33: Ju | G33: Vi | H33: Sa | J33: Do | K33: Lu | L33: Ma | M33: Mi | N33: Ju | O33: Vi | P33: Sa | R33: Do | S33: Lu | T33: Ma | U33: Mi | V33: Ju | W33: Vi | X33: Sa
B34: =INDEX(m10_,1,(ROWS($B$34:B34)-1)*7+COLUMNS($B$34:B34)) -> 44829 | C34: =INDEX(m10_,1,(ROWS($B$34:C34)-1)*7+COLUMNS($B$34:C34)) -> 44830 | D34: =INDEX(m10_,1,(ROWS($B$34:D34)-1)*7+COLUMNS($B$34:D34)) -> 44831 | E34: =INDEX(m10_,1,(ROWS($B$34:E34)-1)*7+COLUMNS($B$34:E34)) -> 44832 | F34: =INDEX(m10_,1,(ROWS($B$34:F34)-1)*7+COLUMNS($B$34:F34)) -> 44833 | G34: =INDEX(m10_,1,(ROWS($B$34:G34)-1)*7+COLUMNS($B$34:G34)) -> 44834 | H34: =INDEX(m10_,1,(ROWS($B$34:H34)-1)*7+COLUMNS($B$34:H34)) -> 44835 | J34: =INDEX(m11_,1,(ROWS($J$34:J34)-1)*7+COLUMNS($J$34:J34)) -> 44864 | K34: =INDEX(m11_,1,(ROWS($J$34:K34)-1)*7+COLUMNS($J$34:K34)) -> 44865 | L34: =INDEX(m11_,1,(ROWS($J$34:L34)-1)*7+COLUMNS($J$34:L34)) -> 44866 | M34: =INDEX(m11_,1,(ROWS($J$34:M34)-1)*7+COLUMNS($J$34:M34)) -> 44867 | N34: =INDEX(m11_,1,(ROWS($J$34:N34)-1)*7+COLUMNS($J$34:N34)) -> 44868 | O34: =INDEX(m11_,1,(ROWS($J$34:O34)-1)*7+COLUMNS($J$34:O34)) -> 44869 | P34: =INDEX(m11_,1,(ROWS($J$34:P34)-1)*7+COLUMNS($J$34:P34)) -> 44870 | R34: =INDEX(m12_,1,(ROWS($R$34:R34)-1)*7+COLUMNS($R$34:R34)) -> 44892 | S34: =INDEX(m12_,1,(ROWS($R$34:S34)-1)*7+COLUMNS($R$34:S34)) -> 44893 | T34: =INDEX(m12_,1,(ROWS($R$34:T34)-1)*7+COLUMNS($R$34:T34)) -> 44894 | U34: =INDEX(m12_,1,(ROWS($R$34:U34)-1)*7+COLUMNS($R$34:U34)) -> 44895 | V34: =INDEX(m12_,1,(ROWS($R$34:V34)-1)*7+COLUMNS($R$34:V34)) -> 44896 | W34: =INDEX(m12_,1,(ROWS($R$34:W34)-1)*7+COLUMNS($R$34:W34)) -> 44897 | X34: =INDEX(m12_,1,(ROWS($R$34:X34)-1)*7+COLUMNS($R$34:X34)) -> 44898
B35: =INDEX(m10_,1,(ROWS($B$34:B35)-1)*7+COLUMNS($B$34:B35)) -> 44836 | C35: =INDEX(m10_,1,(ROWS($B$34:C35)-1)*7+COLUMNS($B$34:C35)) -> 44837 | D35: =INDEX(m10_,1,(ROWS($B$34:D35)-1)*7+COLUMNS($B$34:D35)) -> 44838 | E35: =INDEX(m10_,1,(ROWS($B$34:E35)-1)*7+COLUMNS($B$34:E35)) -> 44839 | F35: =INDEX(m10_,1,(ROWS($B$34:F35)-1)*7+COLUMNS($B$34:F35)) -> 44840 | G35: =INDEX(m10_,1,(ROWS($B$34:G35)-1)*7+COLUMNS($B$34:G35)) -> 44841 | H35: =INDEX(m10_,1,(ROWS($B$34:H35)-1)*7+COLUMNS($B$34:H35)) -> 44842 | J35: =INDEX(m11_,1,(ROWS($J$34:J35)-1)*7+COLUMNS($J$34:J35)) -> 44871 | K35: =INDEX(m11_,1,(ROWS($J$34:K35)-1)*7+COLUMNS($J$34:K35)) -> 44872 | L35: =INDEX(m11_,1,(ROWS($J$34:L35)-1)*7+COLUMNS($J$34:L35)) -> 44873 | M35: =INDEX(m11_,1,(ROWS($J$34:M35)-1)*7+COLUMNS($J$34:M35)) -> 44874 | N35: =INDEX(m11_,1,(ROWS($J$34:N35)-1)*7+COLUMNS($J$34:N35)) -> 44875 | O35: =INDEX(m11_,1,(ROWS($J$34:O35)-1)*7+COLUMNS($J$34:O35)) -> 44876 | P35: =INDEX(m11_,1,(ROWS($J$34:P35)-1)*7+COLUMNS($J$34:P35)) -> 44877 | R35: =INDEX(m12_,1,(ROWS($R$34:R35)-1)*7+COLUMNS($R$34:R35)) -> 44899 | S35: =INDEX(m12_,1,(ROWS($R$34:S35)-1)*7+COLUMNS($R$34:S35)) -> 44900 | T35: =INDEX(m12_,1,(ROWS($R$34:T35)-1)*7+COLUMNS($R$34:T35)) -> 44901 | U35: =INDEX(m12_,1,(ROWS($R$34:U35)-1)*7+COLUMNS($R$34:U35)) -> 44902 | V35: =INDEX(m12_,1,(ROWS($R$34:V35)-1)*7+COLUMNS($R$34:V35)) -> 44903 | W35: =INDEX(m12_,1,(ROWS($R$34:W35)-1)*7+COLUMNS($R$34:W35)) -> 44904 | X35: =INDEX(m12_,1,(ROWS($R$34:X35)-1)*7+COLUMNS($R$34:X35)) -> 44905
B36: =INDEX(m10_,1,(ROWS($B$34:B36)-1)*7+COLUMNS($B$34:B36)) -> 44843 | C36: =INDEX(m10_,1,(ROWS($B$34:C36)-1)*7+COLUMNS($B$34:C36)) -> 44844 | D36: =INDEX(m10_,1,(ROWS($B$34:D36)-1)*7+COLUMNS($B$34:D36)) -> 44845 | E36: =INDEX(m10_,1,(ROWS($B$34:E36)-1)*7+COLUMNS($B$34:E36)) -> 44846 | F36: =INDEX(m10_,1,(ROWS($B$34:F36)-1)*7+COLUMNS($B$34:F36)) -> 44847 | G36: =INDEX(m10_,1,(ROWS($B$34:G36)-1)*7+COLUMNS($B$34:G36)) -> 44848 | H36: =INDEX(m10_,1,(ROWS($B$34:H36)-1)*7+COLUMNS($B$34:H36)) -> 44849 | J36: =INDEX(m11_,1,(ROWS($J$34:J36)-1)*7+COLUMNS($J$34:J36)) -> 44878 | K36: =INDEX(m11_,1,(ROWS($J$34:K36)-1)*7+COLUMNS($J$34:K36)) -> 44879 | L36: =INDEX(m11_,1,(ROWS($J$34:L36)-1)*7+COLUMNS($J$34:L36)) -> 44880 | M36: =INDEX(m11_,1,(ROWS($J$34:M36)-1)*7+COLUMNS($J$34:M36)) -> 44881 | N36: =INDEX(m11_,1,(ROWS($J$34:N36)-1)*7+COLUMNS($J$34:N36)) -> 44882 | O36: =INDEX(m11_,1,(ROWS($J$34:O36)-1)*7+COLUMNS($J$34:O36)) -> 44883 | P36: =INDEX(m11_,1,(ROWS($J$34:P36)-1)*7+COLUMNS($J$34:P36)) -> 44884 | R36: =INDEX(m12_,1,(ROWS($R$34:R36)-1)*7+COLUMNS($R$34:R36)) -> 44906 | S36: =INDEX(m12_,1,(ROWS($R$34:S36)-1)*7+COLUMNS($R$34:S36)) -> 44907 | T36: =INDEX(m12_,1,(ROWS($R$34:T36)-1)*7+COLUMNS($R$34:T36)) -> 44908 | U36: =INDEX(m12_,1,(ROWS($R$34:U36)-1)*7+COLUMNS($R$34:U36)) -> 44909 | V36: =INDEX(m12_,1,(ROWS($R$34:V36)-1)*7+COLUMNS($R$34:V36)) -> 44910 | W36: =INDEX(m12_,1,(ROWS($R$34:W36)-1)*7+COLUMNS($R$34:W36)) -> 44911 | X36: =INDEX(m12_,1,(ROWS($R$34:X36)-1)*7+COLUMNS($R$34:X36)) -> 44912
B37: =INDEX(m10_,1,(ROWS($B$34:B37)-1)*7+COLUMNS($B$34:B37)) -> 44850 | C37: =INDEX(m10_,1,(ROWS($B$34:C37)-1)*7+COLUMNS($B$34:C37)) -> 44851 | D37: =INDEX(m10_,1,(ROWS($B$34:D37)-1)*7+COLUMNS($B$34:D37)) -> 44852 | E37: =INDEX(m10_,1,(ROWS($B$34:E37)-1)*7+COLUMNS($B$34:E37)) -> 44853 | F37: =INDEX(m10_,1,(ROWS($B$34:F37)-1)*7+COLUMNS($B$34:F37)) -> 44854 | G37: =INDEX(m10_,1,(ROWS($B$34:G37)-1)*7+COLUMNS($B$34:G37)) -> 44855 | H37: =INDEX(m10_,1,(ROWS($B$34:H37)-1)*7+COLUMNS($B$34:H37)) -> 44856 | J37: =INDEX(m11_,1,(ROWS($J$34:J37)-1)*7+COLUMNS($J$34:J37)) -> 44885 | K37: =INDEX(m11_,1,(ROWS($J$34:K37)-1)*7+COLUMNS($J$34:K37)) -> 44886 | L37: =INDEX(m11_,1,(ROWS($J$34:L37)-1)*7+COLUMNS($J$34:L37)) -> 44887 | M37: =INDEX(m11_,1,(ROWS($J$34:M37)-1)*7+COLUMNS($J$34:M37)) -> 44888 | N37: =INDEX(m11_,1,(ROWS($J$34:N37)-1)*7+COLUMNS($J$34:N37)) -> 44889 | O37: =INDEX(m11_,1,(ROWS($J$34:O37)-1)*7+COLUMNS($J$34:O37)) -> 44890 | P37: =INDEX(m11_,1,(ROWS($J$34:P37)-1)*7+COLUMNS($J$34:P37)) -> 44891 | R37: =INDEX(m12_,1,(ROWS($R$34:R37)-1)*7+COLUMNS($R$34:R37)) -> 44913 | S37: =INDEX(m12_,1,(ROWS($R$34:S37)-1)*7+COLUMNS($R$34:S37)) -> 44914 | T37: =INDEX(m12_,1,(ROWS($R$34:T37)-1)*7+COLUMNS($R$34:T37)) -> 44915 | U37: =INDEX(m12_,1,(ROWS($R$34:U37)-1)*7+COLUMNS($R$34:U37)) -> 44916 | V37: =INDEX(m12_,1,(ROWS($R$34:V37)-1)*7+COLUMNS($R$34:V37)) -> 44917 | W37: =INDEX(m12_,1,(ROWS($R$34:W37)-1)*7+COLUMNS($R$34:W37)) -> 44918 | X37: =INDEX(m12_,1,(ROWS($R$34:X37)-1)*7+COLUMNS($R$34:X37)) -> 44919
B38: =INDEX(m10_,1,(ROWS($B$34:B38)-1)*7+COLUMNS($B$34:B38)) -> 44857 | C38: =INDEX(m10_,1,(ROWS($B$34:C38)-1)*7+COLUMNS($B$34:C38)) -> 44858 | D38: =INDEX(m10_,1,(ROWS($B$34:D38)-1)*7+COLUMNS($B$34:D38)) -> 44859 | E38: =INDEX(m10_,1,(ROWS($B$34:E38)-1)*7+COLUMNS($B$34:E38)) -> 44860 | F38: =INDEX(m10_,1,(ROWS($B$34:F38)-1)*7+COLUMNS($B$34:F38)) -> 44861 | G38: =INDEX(m10_,1,(ROWS($B$34:G38)-1)*7+COLUMNS($B$34:G38)) -> 44862 | H38: =INDEX(m10_,1,(ROWS($B$34:H38)-1)*7+COLUMNS($B$34:H38)) -> 44863 | J38: =INDEX(m11_,1,(ROWS($J$34:J38)-1)*7+COLUMNS($J$34:J38)) -> 44892 | K38: =INDEX(m11_,1,(ROWS($J$34:K38)-1)*7+COLUMNS($J$34:K38)) -> 44893 | L38: =INDEX(m11_,1,(ROWS($J$34:L38)-1)*7+COLUMNS($J$34:L38)) -> 44894 | M38: =INDEX(m11_,1,(ROWS($J$34:M38)-1)*7+COLUMNS($J$34:M38)) -> 44895 | N38: =INDEX(m11_,1,(ROWS($J$34:N38)-1)*7+COLUMNS($J$34:N38)) -> 44896 | O38: =INDEX(m11_,1,(ROWS($J$34:O38)-1)*7+COLUMNS($J$34:O38)) -> 44897 | P38: =INDEX(m11_,1,(ROWS($J$34:P38)-1)*7+COLUMNS($J$34:P38)) -> 44898 | R38: =INDEX(m12_,1,(ROWS($R$34:R38)-1)*7+COLUMNS($R$34:R38)) -> 44920 | S38: =INDEX(m12_,1,(ROWS($R$34:S38)-1)*7+COLUMNS($R$34:S38)) -> 44921 | T38: =INDEX(m12_,1,(ROWS($R$34:T38)-1)*7+COLUMNS($R$34:T38)) -> 44922 | U38: =INDEX(m12_,1,(ROWS($R$34:U38)-1)*7+COLUMNS($R$34:U38)) -> 44923 | V38: =INDEX(m12_,1,(ROWS($R$34:V38)-1)*7+COLUMNS($R$34:V38)) -> 44924 | W38: =INDEX(m12_,1,(ROWS($R$34:W38)-1)*7+COLUMNS($R$34:W38)) -> 44925 | X38: =INDEX(m12_,1,(ROWS($R$34:X38)-1)*7+COLUMNS($R$34:X38)) -> 44926
B39: =INDEX(m10_,1,(ROWS($B$34:B39)-1)*7+COLUMNS($B$34:B39)) -> 44864 | C39: =INDEX(m10_,1,(ROWS($B$34:C39)-1)*7+COLUMNS($B$34:C39)) -> 44865 | D39: =INDEX(m10_,1,(ROWS($B$34:D39)-1)*7+COLUMNS($B$34:D39)) -> 44866 | E39: =INDEX(m10_,1,(ROWS($B$34:E39)-1)*7+COLUMNS($B$34:E39)) -> 44867 | F39: =INDEX(m10_,1,(ROWS($B$34:F39)-1)*7+COLUMNS($B$34:F39)) -> 44868 | G39: =INDEX(m10_,1,(ROWS($B$34:G39)-1)*7+COLUMNS($B$34:G39)) -> 44869 | H39: =INDEX(m10_,1,(ROWS($B$34:H39)-1)*7+COLUMNS($B$34:H39)) -> 44870 | J39: =INDEX(m11_,1,(ROWS($J$34:J39)-1)*7+COLUMNS($J$34:J39)) -> 44899 | K39: =INDEX(m11_,1,(ROWS($J$34:K39)-1)*7+COLUMNS($J$34:K39)) -> 44900 | L39: =INDEX(m11_,1,(ROWS($J$34:L39)-1)*7+COLUMNS($J$34:L39)) -> 44901 | M39: =INDEX(m11_,1,(ROWS($J$34:M39)-1)*7+COLUMNS($J$34:M39)) -> 44902 | N39: =INDEX(m11_,1,(ROWS($J$34:N39)-1)*7+COLUMNS($J$34:N39)) -> 44903 | O39: =INDEX(m11_,1,(ROWS($J$34:O39)-1)*7+COLUMNS($J$34:O39)) -> 44904 | P39: =INDEX(m11_,1,(ROWS($J$34:P39)-1)*7+COLUMNS($J$34:P39)) -> 44905 | R39: =INDEX(m12_,1,(ROWS($R$34:R39)-1)*7+COLUMNS($R$34:R39)) -> 44927 | S39: =INDEX(m12_,1,(ROWS($R$34:S39)-1)*7+COLUMNS($R$34:S39)) -> 44928 | T39: =INDEX(m12_,1,(ROWS($R$34:T39)-1)*7+COLUMNS($R$34:T39)) -> 44929 | U39: =INDEX(m12_,1,(ROWS($R$34:U39)-1)*7+COLUMNS($R$34:U39)) -> 44930 | V39: =INDEX(m12_,1,(ROWS($R$34:V39)-1)*7+COLUMNS($R$34:V39)) -> 44931 | W39: =INDEX(m12_,1,(ROWS($R$34:W39)-1)*7+COLUMNS($R$34:W39)) -> 44932 | X39: =INDEX(m12_,1,(ROWS($R$34:X39)-1)*7+COLUMNS($R$34:X39)) -> 44933 | Z39: https://aplicaexcelcontable.com/blog

Sheet Mensual
B3: =Mini!B6 -> 44562
B4: Do | C4: Lu | D4: Ma | E4: Mi | F4: Ju | G4: Vi | H4: Sa
A5: =$B$3 -> 44562 | B5: =INDEX(m1_,1,(ROWS($B$5:B5)-1)*7+COLUMNS($B$5:B5)) -> 44556 | C5: =INDEX(m1_,1,(ROWS($B$5:C5)-1)*7+COLUMNS($B$5:C5)) -> 44557 | D5: =INDEX(m1_,1,(ROWS($B$5:D5)-1)*7+COLUMNS($B$5:D5)) -> 44558 | E5: =INDEX(m1_,1,(ROWS($B$5:E5)-1)*7+COLUMNS($B$5:E5)) -> 44559 | F5: =INDEX(m1_,1,(ROWS($B$5:F5)-1)*7+COLUMNS($B$5:F5)) -> 44560 | G5: =INDEX(m1_,1,(ROWS($B$5:G5)-1)*7+COLUMNS($B$5:G5)) -> 44561 | H5: =INDEX(m1_,1,(ROWS($B$5:H5)-1)*7+COLUMNS($B$5:H5)) -> 44562
A6: =$B$3 -> 44562 | B6: =INDEX(m1_,1,(ROWS($B$5:B6)-1)*7+COLUMNS($B$5:B6)) -> 44563 | C6: =INDEX(m1_,1,(ROWS($B$5:C6)-1)*7+COLUMNS($B$5:C6)) -> 44564 | D6: =INDEX(m1_,1,(ROWS($B$5:D6)-1)*7+COLUMNS($B$5:D6)) -> 44565 | E6: =INDEX(m1_,1,(ROWS($B$5:E6)-1)*7+COLUMNS($B$5:E6)) -> 44566 | F6: =INDEX(m1_,1,(ROWS($B$5:F6)-1)*7+COLUMNS($B$5:F6)) -> 44567 | G6: =INDEX(m1_,1,(ROWS($B$5:G6)-1)*7+COLUMNS($B$5:G6)) -> 44568 | H6: =INDEX(m1_,1,(ROWS($B$5:H6)-1)*7+COLUMNS($B$5:H6)) -> 44569
A7: =$B$3 -> 44562 | B7: =INDEX(m1_,1,(ROWS($B$5:B7)-1)*7+COLUMNS($B$5:B7)) -> 44570 | C7: =INDEX(m1_,1,(ROWS($B$5:C7)-1)*7+COLUMNS($B$5:C7)) -> 44571 | D7: =INDEX(m1_,1,(ROWS($B$5:D7)-1)*7+COLUMNS($B$5:D7)) -> 44572 | E7: =INDEX(m1_,1,(ROWS($B$5:E7)-1)*7+COLUMNS($B$5:E7)) -> 44573 | F7: =INDEX(m1_,1,(ROWS($B$5:F7)-1)*7+COLUMNS($B$5:F7)) -> 44574 | G7: =INDEX(m1_,1,(ROWS($B$5:G7)-1)*7+COLUMNS($B$5:G7)) -> 44575 | H7: =INDEX(m1_,1,(ROWS($B$5:H7)-1)*7+COLUMNS($B$5:H7)) -> 44576
A8: =$B$3 -> 44562 | B8: =INDEX(m1_,1,(ROWS($B$5:B8)-1)*7+COLUMNS($B$5:B8)) -> 44577 | C8: =INDEX(m1_,1,(ROWS($B$5:C8)-1)*7+COLUMNS($B$5:C8)) -> 44578 | D8: =INDEX(m1_,1,(ROWS($B$5:D8)-1)*7+COLUMNS($B$5:D8)) -> 44579 | E8: =INDEX(m1_,1,(ROWS($B$5:E8)-1)*7+COLUMNS($B$5:E8)) -> 44580 | F8: =INDEX(m1_,1,(ROWS($B$5:F8)-1)*7+COLUMNS($B$5:F8)) -> 44581 | G8: =INDEX(m1_,1,(ROWS($B$5:G8)-1)*7+COLUMNS($B$5:G8)) -> 44582 | H8: =INDEX(m1_,1,(ROWS($B$5:H8)-1)*7+COLUMNS($B$5:H8)) -> 44583
A9: =$B$3 -> 44562 | B9: =INDEX(m1_,1,(ROWS($B$5:B9)-1)*7+COLUMNS($B$5:B9)) -> 44584 | C9: =INDEX(m1_,1,(ROWS($B$5:C9)-1)*7+COLUMNS($B$5:C9)) -> 44585 | D9: =INDEX(m1_,1,(ROWS($B$5:D9)-1)*7+COLUMNS($B$5:D9)) -> 44586 | E9: =INDEX(m1_,1,(ROWS($B$5:E9)-1)*7+COLUMNS($B$5:E9)) -> 44587 | F9: =INDEX(m1_,1,(ROWS($B$5:F9)-1)*7+COLUMNS($B$5:F9)) -> 44588 | G9: =INDEX(m1_,1,(ROWS($B$5:G9)-1)*7+COLUMNS($B$5:G9)) -> 44589 | H9: =INDEX(m1_,1,(ROWS($B$5:H9)-1)*7+COLUMNS($B$5:H9)) -> 44590
A10: =$B$3 -> 44562 | B10: =INDEX(m1_,1,(ROWS($B$5:B10)-1)*7+COLUMNS($B$5:B10)) -> 44591 | C10: =INDEX(m1_,1,(ROWS($B$5:C10)-1)*7+COLUMNS($B$5:C10)) -> 44592 | D10: =INDEX(m1_,1,(ROWS($B$5:D10)-1)*7+COLUMNS($B$5:D10)) -> 44593 | E10: =INDEX(m1_,1,(ROWS($B$5:E10)-1)*7+COLUMNS($B$5:E10)) -> 44594 | F10: =INDEX(m1_,1,(ROWS($B$5:F10)-1)*7+COLUMNS($B$5:F10)) -> 44595 | G10: =INDEX(m1_,1,(ROWS($B$5:G10)-1)*7+COLUMNS($B$5:G10)) -> 44596 | H10: =INDEX(m1_,1,(ROWS($B$5:H10)-1)*7+COLUMNS($B$5:H10)) -> 44597 | J10: 6
B12: =Mini!B7 -> 44593 | J12: 4
B13: Do | C13: Lu | D13: Ma | E13: Mi | F13: Ju | G13: Vi | H13: Sa
A14: =$B$12 -> 44593 | B14: =INDEX(m2_,1,(ROWS($B$14:B14)-1)*7+COLUMNS($B$14:B14)) -> 44591 | C14: =INDEX(m2_,1,(ROWS($B$14:C14)-1)*7+COLUMNS($B$14:C14)) -> 44592 | D14: =INDEX(m2_,1,(ROWS($B$14:D14)-1)*7+COLUMNS($B$14:D14)) -> 44593 | E14: =INDEX(m2_,1,(ROWS($B$14:E14)-1)*7+COLUMNS($B$14:E14)) -> 44594 | F14: =INDEX(m2_,1,(ROWS($B$14:F14)-1)*7+COLUMNS($B$14:F14)) -> 44595 | G14: =INDEX(m2_,1,(ROWS($B$14:G14)-1)*7+COLUMNS($B$14:G14)) -> 44596 | H14: =INDEX(m2_,1,(ROWS($B$14:H14)-1)*7+COLUMNS($B$14:H14)) -> 44597 | J14: 5
A15: =$B$12 -> 44593 | B15: =INDEX(m2_,1,(ROWS($B$14:B15)-1)*7+COLUMNS($B$14:B15)) -> 44598 | C15: =INDEX(m2_,1,(ROWS($B$14:C15)-1)*7+COLUMNS($B$14:C15)) -> 44599 | D15: =INDEX(m2_,1,(ROWS($B$14:D15)-1)*7+COLUMNS($B$14:D15)) -> 44600 | E15: =INDEX(m2_,1,(ROWS($B$14:E15)-1)*7+COLUMNS($B$14:E15)) -> 44601 | F15: =INDEX(m2_,1,(ROWS($B$14:F15)-1)*7+COLUMNS($B$14:F15)) -> 44602 | G15: =INDEX(m2_,1,(ROWS($B$14:G15)-1)*7+COLUMNS($B$14:G15)) -> 44603 | H15: =INDEX(m2_,1,(ROWS($B$14:H15)-1)*7+COLUMNS($B$14:H15)) -> 44604
A16: =$B$12 -> 44593 | B16: =INDEX(m2_,1,(ROWS($B$14:B16)-1)*7+COLUMNS($B$14:B16)) -> 44605 | C16: =INDEX(m2_,1,(ROWS($B$14:C16)-1)*7+COLUMNS($B$14:C16)) -> 44606 | D16: =INDEX(m2_,1,(ROWS($B$14:D16)-1)*7+COLUMNS($B$14:D16)) -> 44607 | E16: =INDEX(m2_,1,(ROWS($B$14:E16)-1)*7+COLUMNS($B$14:E16)) -> 44608 | F16: =INDEX(m2_,1,(ROWS($B$14:F16)-1)*7+COLUMNS($B$14:F16)) -> 44609 | G16: =INDEX(m2_,1,(ROWS($B$14:G16)-1)*7+COLUMNS($B$14:G16)) -> 44610 | H16: =INDEX(m2_,1,(ROWS($B$14:H16)-1)*7+COLUMNS($B$14:H16)) -> 44611
A17: =$B$12 -> 44593 | B17: =INDEX(m2_,1,(ROWS($B$14:B17)-1)*7+COLUMNS($B$14:B17)) -> 44612 | C17: =INDEX(m2_,1,(ROWS($B$14:C17)-1)*7+COLUMNS($B$14:C17)) -> 44613 | D17: =INDEX(m2_,1,(ROWS($B$14:D17)-1)*7+COLUMNS($B$14:D17)) -> 44614 | E17: =INDEX(m2_,1,(ROWS($B$14:E17)-1)*7+COLUMNS($B$14:E17)) -> 44615 | F17: =INDEX(m2_,1,(ROWS($B$14:F17)-1)*7+COLUMNS($B$14:F17)) -> 44616 | G17: =INDEX(m2_,1,(ROWS($B$14:G17)-1)*7+COLUMNS($B$14:G17)) -> 44617 | H17: =INDEX(m2_,1,(ROWS($B$14:H17)-1)*7+COLUMNS($B$14:H17)) -> 44618
A18: =$B$12 -> 44593 | B18: =INDEX(m2_,1,(ROWS($B$14:B18)-1)*7+COLUMNS($B$14:B18)) -> 44619 | C18: =INDEX(m2_,1,(ROWS($B$14:C18)-1)*7+COLUMNS($B$14:C18)) -> 44620 | D18: =INDEX(m2_,1,(ROWS($B$14:D18)-1)*7+COLUMNS($B$14:D18)) -> 44621 | E18: =INDEX(m2_,1,(ROWS($B$14:E18)-1)*7+COLUMNS($B$14:E18)) -> 44622 | F18: =INDEX(m2_,1,(ROWS($B$14:F18)-1)*7+COLUMNS($B$14:F18)) -> 44623 | G18: =INDEX(m2_,1,(ROWS($B$14:G18)-1)*7+COLUMNS($B$14:G18)) -> 44624 | H18: =INDEX(m2_,1,(ROWS($B$14:H18)-1)*7+COLUMNS($B$14:H18)) -> 44625
A19: =$B$12 -> 44593 | B19: =INDEX(m2_,1,(ROWS($B$14:B19)-1)*7+COLUMNS($B$14:B19)) -> 44626 | C19: =INDEX(m2_,1,(ROWS($B$14:C19)-1)*7+COLUMNS($B$14:C19)) -> 44627 | D19: =INDEX(m2_,1,(ROWS($B$14:D19)-1)*7+COLUMNS($B$14:D19)) -> 44628 | E19: =INDEX(m2_,1,(ROWS($B$14:E19)-1)*7+COLUMNS($B$14:E19)) -> 44629 | F19: =INDEX(m2_,1,(ROWS($B$14:F19)-1)*7+COLUMNS($B$14:F19)) -> 44630 | G19: =INDEX(m2_,1,(ROWS($B$14:G19)-1)*7+COLUMNS($B$14:G19)) -> 44631 | H19: =INDEX(m2_,1,(ROWS($B$14:H19)-1)*7+COLUMNS($B$14:H19)) -> 44632 | J19: 6
B21: =Mini!B8 -> 44621
B22: Do | C22: Lu | D22: Ma | E22: Mi | F22: Ju | G22: Vi | H22: Sa
A23: =$B$21 -> 44621 | B23: =INDEX(m3_,1,(ROWS($B$23:B23)-1)*7+COLUMNS($B$23:B23)) -> 44619 | C23: =INDEX(m3_,1,(ROWS($B$23:C23)-1)*7+COLUMNS($B$23:C23)) -> 44620 | D23: =INDEX(m3_,1,(ROWS($B$23:D23)-1)*7+COLUMNS($B$23:D23)) -> 44621 | E23: =INDEX(m3_,1,(ROWS($B$23:E23)-1)*7+COLUMNS($B$23:E23)) -> 44622 | F23: =INDEX(m3_,1,(ROWS($B$23:F23)-1)*7+COLUMNS($B$23:F23)) -> 44623 | G23: =INDEX(m3_,1,(ROWS($B$23:G23)-1)*7+COLUMNS($B$23:G23)) -> 44624 | H23: =INDEX(m3_,1,(ROWS($B$23:H23)-1)*7+COLUMNS($B$23:H23)) -> 44625 | J23: 5
A24: =$B$21 -> 44621 | B24: =INDEX(m3_,1,(ROWS($B$23:B24)-1)*7+COLUMNS($B$23:B24)) -> 44626 | C24: =INDEX(m3_,1,(ROWS($B$23:C24)-1)*7+COLUMNS($B$23:C24)) -> 44627 | D24: =INDEX(m3_,1,(ROWS($B$23:D24)-1)*7+COLUMNS($B$23:D24)) -> 44628 | E24: =INDEX(m3_,1,(ROWS($B$23:E24)-1)*7+COLUMNS($B$23:E24)) -> 44629 | F24: =INDEX(m3_,1,(ROWS($B$23:F24)-1)*7+COLUMNS($B$23:F24)) -> 44630 | G24: =INDEX(m3_,1,(ROWS($B$23:G24)-1)*7+COLUMNS($B$23:G24)) -> 44631 | H24: =INDEX(m3_,1,(ROWS($B$23:H24)-1)*7+COLUMNS($B$23:H24)) -> 44632
A25: =$B$21 -> 44621 | B25: =INDEX(m3_,1,(ROWS($B$23:B25)-1)*7+COLUMNS($B$23:B25)) -> 44633 | C25: =INDEX(m3_,1,(ROWS($B$23:C25)-1)*7+COLUMNS($B$23:C25)) -> 44634 | D25: =INDEX(m3_,1,(ROWS($B$23:D25)-1)*7+COLUMNS($B$23:D25)) -> 44635 | E25: =INDEX(m3_,1,(ROWS($B$23:E25)-1)*7+COLUMNS($B$23:E25)) -> 44636 | F25: =INDEX(m3_,1,(ROWS($B$23:F25)-1)*7+COLUMNS($B$23:F25)) -> 44637 | G25: =INDEX(m3_,1,(ROWS($B$23:G25)-1)*7+COLUMNS($B$23:G25)) -> 44638 | H25: =INDEX(m3_,1,(ROWS($B$23:H25)-1)*7+COLUMNS($B$23:H25)) -> 44639
A26: =$B$21 -> 44621 | B26: =INDEX(m3_,1,(ROWS($B$23:B26)-1)*7+COLUMNS($B$23:B26)) -> 44640 | C26: =INDEX(m3_,1,(ROWS($B$23:C26)-1)*7+COLUMNS($B$23:C26)) -> 44641 | D26: =INDEX(m3_,1,(ROWS($B$23:D26)-1)*7+COLUMNS($B$23:D26)) -> 44642 | E26: =INDEX(m3_,1,(ROWS($B$23:E26)-1)*7+COLUMNS($B$23:E26)) -> 44643 | F26: =INDEX(m3_,1,(ROWS($B$23:F26)-1)*7+COLUMNS($B$23:F26)) -> 44644 | G26: =INDEX(m3_,1,(ROWS($B$23:G26)-1)*7+COLUMNS($B$23:G26)) -> 44645 | H26: =INDEX(m3_,1,(ROWS($B$23:H26)-1)*7+COLUMNS($B$23:H26)) -> 44646
A27: =$B$21 -> 44621 | B27: =INDEX(m3_,1,(ROWS($B$23:B27)-1)*7+COLUMNS($B$23:B27)) -> 44647 | C27: =INDEX(m3_,1,(ROWS($B$23:C27)-1)*7+COLUMNS($B$23:C27)) -> 44648 | D27: =INDEX(m3_,1,(ROWS($B$23:D27)-1)*7+COLUMNS($B$23:D27)) -> 44649 | E27: =INDEX(m3_,1,(ROWS($B$23:E27)-1)*7+COLUMNS($B$23:E27)) -> 44650 | F27: =INDEX(m3_,1,(ROWS($B$23:F27)-1)*7+COLUMNS($B$23:F27)) -> 44651 | G27: =INDEX(m3_,1,(ROWS($B$23:G27)-1)*7+COLUMNS($B$23:G27)) -> 44652 | H27: =INDEX(m3_,1,(ROWS($B$23:H27)-1)*7+COLUMNS($B$23:H27)) -> 44653
A28: =$B$21 -> 44621 | B28: =INDEX(m3_,1,(ROWS($B$23:B28)-1)*7+COLUMNS($B$23:B28)) -> 44654 | C28: =INDEX(m3_,1,(ROWS($B$23:C28)-1)*7+COLUMNS($B$23:C28)) -> 44655 | D28: =INDEX(m3_,1,(ROWS($B$23:D28)-1)*7+COLUMNS($B$23:D28)) -> 44656 | E28: =INDEX(m3_,1,(ROWS($B$23:E28)-1)*7+COLUMNS($B$23:E28)) -> 44657 | F28: =INDEX(m3_,1,(ROWS($B$23:F28)-1)*7+COLUMNS($B$23:F28)) -> 44658 | G28: =INDEX(m3_,1,(ROWS($B$23:G28)-1)*7+COLUMNS($B$23:G28)) -> 44659 | H28: =INDEX(m3_,1,(ROWS($B$23:H28)-1)*7+COLUMNS($B$23:H28)) -> 44660 | J28: 6
B30: =Mini!B9 -> 44652
B31: Do | C31: Lu | D31: Ma | E31: Mi | F31: Ju | G31: Vi | H31: Sa
A32: =$B$30 -> 44652 | B32: =INDEX(m4_,1,(ROWS($B$32:B32)-1)*7+COLUMNS($B$32:B32)) -> 44647 | C32: =INDEX(m4_,1,(ROWS($B$32:C32)-1)*7+COLUMNS($B$32:C32)) -> 44648 | D32: =INDEX(m4_,1,(ROWS($B$32:D32)-1)*7+COLUMNS($B$32:D32)) -> 44649 | E32: =INDEX(m4_,1,(ROWS($B$32:E32)-1)*7+COLUMNS($B$32:E32)) -> 44650 | F32: =INDEX(m4_,1,(ROWS($B$32:F32)-1)*7+COLUMNS($B$32:F32)) -> 44651 | G32: =INDEX(m4_,1,(ROWS($B$32:G32)-1)*7+COLUMNS($B$32:G32)) -> 44652 | H32: =INDEX(m4_,1,(ROWS($B$32:H32)-1)*7+COLUMNS($B$32:H32)) -> 44653 | J32: 5
A33: =$B$30 -> 44652 | B33: =INDEX(m4_,1,(ROWS($B$32:B33)-1)*7+COLUMNS($B$32:B33)) -> 44654 | C33: =INDEX(m4_,1,(ROWS($B$32:C33)-1)*7+COLUMNS($B$32:C33)) -> 44655 | D33: =INDEX(m4_,1,(ROWS($B$32:D33)-1)*7+COLUMNS($B$32:D33)) -> 44656 | E33: =INDEX(m4_,1,(ROWS($B$32:E33)-1)*7+COLUMNS($B$32:E33)) -> 44657 | F33: =INDEX(m4_,1,(ROWS($B$32:F33)-1)*7+COLUMNS($B$32:F33)) -> 44658 | G33: =INDEX(m4_,1,(ROWS($B$32:G33)-1)*7+COLUMNS($B$32:G33)) -> 44659 | H33: =INDEX(m4_,1,(ROWS($B$32:H33)-1)*7+COLUMNS($B$32:H33)) -> 44660
A34: =$B$30 -> 44652 | B34: =INDEX(m4_,1,(ROWS($B$32:B34)-1)*7+COLUMNS($B$32:B34)) -> 44661 | C34: =INDEX(m4_,1,(ROWS($B$32:C34)-1)*7+COLUMNS($B$32:C34)) -> 44662 | D34: =INDEX(m4_,1,(ROWS($B$32:D34)-1)*7+COLUMNS($B$32:D34)) -> 44663 | E34: =INDEX(m4_,1,(ROWS($B$32:E34)-1)*7+COLUMNS($B$32:E34)) -> 44664 | F34: =INDEX(m4_,1,(ROWS($B$32:F34)-1)*7+COLUMNS($B$32:F34)) -> 44665 | G34: =INDEX(m4_,1,(ROWS($B$32:G34)-1)*7+COLUMNS($B$32:G34)) -> 44666 | H34: =INDEX(m4_,1,(ROWS($B$32:H34)-1)*7+COLUMNS($B$32:H34)) -> 44667
A35: =$B$30 -> 44652 | B35: =INDEX(m4_,1,(ROWS($B$32:B35)-1)*7+COLUMNS($B$32:B35)) -> 44668 | C35: =INDEX(m4_,1,(ROWS($B$32:C35)-1)*7+COLUMNS($B$32:C35)) -> 44669 | D35: =INDEX(m4_,1,(ROWS($B$32:D35)-1)*7+COLUMNS($B$32:D35)) -> 44670 | E35: =INDEX(m4_,1,(ROWS($B$32:E35)-1)*7+COLUMNS($B$32:E35)) -> 44671 | F35: =INDEX(m4_,1,(ROWS($B$32:F35)-1)*7+COLUMNS($B$32:F35)) -> 44672 | G35: =INDEX(m4_,1,(ROWS($B$32:G35)-1)*7+COLUMNS($B$32:G35)) -> 44673 | H35: =INDEX(m4_,1,(ROWS($B$32:H35)-1)*7+COLUMNS($B$32:H35)) -> 44674
A36: =$B$30 -> 44652 | B36: =INDEX(m4_,1,(ROWS($B$32:B36)-1)*7+COLUMNS($B$32:B36)) -> 44675 | C36: =INDEX(m4_,1,(ROWS($B$32:C36)-1)*7+COLUMNS($B$32:C36)) -> 44676 | D36: =INDEX(m4_,1,(ROWS($B$32:D36)-1)*7+COLUMNS($B$32:D36)) -> 44677 | E36: =INDEX(m4_,1,(ROWS($B$32:E36)-1)*7+COLUMNS($B$32:E36)) -> 44678 | F36: =INDEX(m4_,1,(ROWS($B$32:F36)-1)*7+COLUMNS($B$32:F36)) -> 44679 | G36: =INDEX(m4_,1,(ROWS($B$32:G36)-1)*7+COLUMNS($B$32:G36)) -> 44680 | H36: =INDEX(m4_,1,(ROWS($B$32:H36)-1)*7+COLUMNS($B$32:H36)) -> 44681
A37: =$B$30 -> 44652 | B37: =INDEX(m4_,1,(ROWS($B$32:B37)-1)*7+COLUMNS($B$32:B37)) -> 44682 | C37: =INDEX(m4_,1,(ROWS($B$32:C37)-1)*7+COLUMNS($B$32:C37)) -> 44683 | D37: =INDEX(m4_,1,(ROWS($B$32:D37)-1)*7+COLUMNS($B$32:D37)) -> 44684 | E37: =INDEX(m4_,1,(ROWS($B$32:E37)-1)*7+COLUMNS($B$32:E37)) -> 44685 | F37: =INDEX(m4_,1,(ROWS($B$32:F37)-1)*7+COLUMNS($B$32:F37)) -> 44686 | G37: =INDEX(m4_,1,(ROWS($B$32:G37)-1)*7+COLUMNS($B$32:G37)) -> 44687 | H37: =INDEX(m4_,1,(ROWS($B$32:H37)-1)*7+COLUMNS($B$32:H37)) -> 44688 | J37: 6
B39: =Mini!B10 -> 44682
B40: Do | C40: Lu | D40: Ma | E40: Mi | F40: Ju | G40: Vi | H40: Sa
A41: =$B$39 -> 44682 | B41: =INDEX(m5_,1,(ROWS($B$41:B41)-1)*7+COLUMNS($B$41:B41)) -> 44675 | C41: =INDEX(m5_,1,(ROWS($B$41:C41)-1)*7+COLUMNS($B$41:C41)) -> 44676 | D41: =INDEX(m5_,1,(ROWS($B$41:D41)-1)*7+COLUMNS($B$41:D41)) -> 44677 | E41: =INDEX(m5_,1,(ROWS($B$41:E41)-1)*7+COLUMNS($B$41:E41)) -> 44678 | F41: =INDEX(m5_,1,(ROWS($B$41:F41)-1)*7+COLUMNS($B$41:F41)) -> 44679 | G41: =INDEX(m5_,1,(ROWS($B$41:G41)-1)*7+COLUMNS($B$41:G41)) -> 44680 | H41: =INDEX(m5_,1,(ROWS($B$41:H41)-1)*7+COLUMNS($B$41:H41)) -> 44681 | J41: 5
A42: =$B$39 -> 44682 | B42: =INDEX(m5_,1,(ROWS($B$41:B42)-1)*7+COLUMNS($B$41:B42)) -> 44682 | C42: =INDEX(m5_,1,(ROWS($B$41:C42)-1)*7+COLUMNS($B$41:C42)) -> 44683 | D42: =INDEX(m5_,1,(ROWS($B$41:D42)-1)*7+COLUMNS($B$41:D42)) -> 44684 | E42: =INDEX(m5_,1,(ROWS($B$41:E42)-1)*7+COLUMNS($B$41:E42)) -> 44685 | F42: =INDEX(m5_,1,(ROWS($B$41:F42)-1)*7+COLUMNS($B$41:F42)) -> 44686 | G42: =INDEX(m5_,1,(ROWS($B$41:G42)-1)*7+COLUMNS($B$41:G42)) -> 44687 | H42: =INDEX(m5_,1,(ROWS($B$41:H42)-1)*7+COLUMNS($B$41:H42)) -> 44688
A43: =$B$39 -> 44682 | B43: =INDEX(m5_,1,(ROWS($B$41:B43)-1)*7+COLUMNS($B$41:B43)) -> 44689 | C43: =INDEX(m5_,1,(ROWS($B$41:C43)-1)*7+COLUMNS($B$41:C43)) -> 44690 | D43: =INDEX(m5_,1,(ROWS($B$41:D43)-1)*7+COLUMNS($B$41:D43)) -> 44691 | E43: =INDEX(m5_,1,(ROWS($B$41:E43)-1)*7+COLUMNS($B$41:E43)) -> 44692 | F43: =INDEX(m5_,1,(ROWS($B$41:F43)-1)*7+COLUMNS($B$41:F43)) -> 44693 | G43: =INDEX(m5_,1,(ROWS($B$41:G43)-1)*7+COLUMNS($B$41:G43)) -> 44694 | H43: =INDEX(m5_,1,(ROWS($B$41:H43)-1)*7+COLUMNS($B$41:H43)) -> 44695
A44: =$B$39 -> 44682 | B44: =INDEX(m5_,1,(ROWS($B$41:B44)-1)*7+COLUMNS($B$41:B44)) -> 44696 | C44: =INDEX(m5_,1,(ROWS($B$41:C44)-1)*7+COLUMNS($B$41:C44)) -> 44697 | D44: =INDEX(m5_,1,(ROWS($B$41:D44)-1)*7+COLUMNS($B$41:D44)) -> 44698 | E44: =INDEX(m5_,1,(ROWS($B$41:E44)-1)*7+COLUMNS($B$41:E44)) -> 44699 | F44: =INDEX(m5_,1,(ROWS($B$41:F44)-1)*7+COLUMNS($B$41:F44)) -> 44700 | G44: =INDEX(m5_,1,(ROWS($B$41:G44)-1)*7+COLUMNS($B$41:G44)) -> 44701 | H44: =INDEX(m5_,1,(ROWS($B$41:H44)-1)*7+COLUMNS($B$41:H44)) -> 44702
A45: =$B$39 -> 44682 | B45: =INDEX(m5_,1,(ROWS($B$41:B45)-1)*7+COLUMNS($B$41:B45)) -> 44703 | C45: =INDEX(m5_,1,(ROWS($B$41:C45)-1)*7+COLUMNS($B$41:C45)) -> 44704 | D45: =INDEX(m5_,1,(ROWS($B$41:D45)-1)*7+COLUMNS($B$41:D45)) -> 44705 | E45: =INDEX(m5_,1,(ROWS($B$41:E45)-1)*7+COLUMNS($B$41:E45)) -> 44706 | F45: =INDEX(m5_,1,(ROWS($B$41:F45)-1)*7+COLUMNS($B$41:F45)) -> 44707 | G45: =INDEX(m5_,1,(ROWS($B$41:G45)-1)*7+COLUMNS($B$41:G45)) -> 44708 | H45: =INDEX(m5_,1,(ROWS($B$41:H45)-1)*7+COLUMNS($B$41:H45)) -> 44709
A46: =$B$39 -> 44682 | B46: =INDEX(m5_,1,(ROWS($B$41:B46)-1)*7+COLUMNS($B$41:B46)) -> 44710 | C46: =INDEX(m5_,1,(ROWS($B$41:C46)-1)*7+COLUMNS($B$41:C46)) -> 44711 | D46: =INDEX(m5_,1,(ROWS($B$41:D46)-1)*7+COLUMNS($B$41:D46)) -> 44712 | E46: =INDEX(m5_,1,(ROWS($B$41:E46)-1)*7+COLUMNS($B$41:E46)) -> 44713 | F46: =INDEX(m5_,1,(ROWS($B$41:F46)-1)*7+COLUMNS($B$41:F46)) -> 44714 | G46: =INDEX(m5_,1,(ROWS($B$41:G46)-1)*7+COLUMNS($B$41:G46)) -> 44715 | H46: =INDEX(m5_,1,(ROWS($B$41:H46)-1)*7+COLUMNS($B$41:H46)) -> 44716 | J46: 6
...

Sheet Diario
C1: Diario Calendiario & Notas
C4: Fecha | D4: Especial? | E4: Notas
B5: =VLOOKUP(D5,$N$5:$O$10,2,FALSE) -> = | C5: =DATE(year,1,1) -> 44562 | D5: Fiestas | E5: Si!, Hoy es Dia de Fiesta. Hagamos algo Divertido! | J5: =MONTH(C5) -> 1 | K5: =WEEKDAY(C5,2) -> 6 | L5: =VLOOKUP(D5,$N$5:$P$10,3,FALSE) -> 3 | N5: Importante | O5: i | P5: 1 | Q5: =COUNTIF(lstDailyEvents,P5) -> 5 | R5: =REPT(Q5&" Dias", Q5>0) -> 5 Dias | S5: =R5&CHAR(10)&R6&CHAR(10)&R7 -> 5 Dias 4 Dias 15 Dias
B6: =VLOOKUP(D6,$N$5:$O$10,2,FALSE) | C6: =C5+1 -> 44563 | J6: =MONTH(C6) -> 1 | K6: =WEEKDAY(C6,2) -> 7 | L6: =VLOOKUP(D6,$N$5:$P$10,3,FALSE) -> 5 | N6: Aniversario | O6: ¦ | P6: 2 | Q6: =COUNTIF(lstDailyEvents,P6) -> 4 | R6: =REPT(Q6&" Dias", Q6>0) -> 4 Dias
B7: =VLOOKUP(D7,$N$5:$O$10,2,FALSE) -> ¦ | C7: =C6+1 -> 44564 | D7: Aniversario | J7: =MONTH(C7) -> 1 | K7: =WEEKDAY(C7,2) -> 1 | L7: =VLOOKUP(D7,$N$5:$P$10,3,FALSE) -> 2 | N7: Fiestas | O7: = | P7: 3 | Q7: =COUNTIF(lstDailyEvents,P7) -> 3 | R7: =REPT((Q7+Q8)&" Dias", (Q7+Q8)>0) -> 15 Dias
B8: =VLOOKUP(D8,$N$5:$O$10,2,FALSE) -> = | C8: =C7+1 -> 44565 | D8: Vacaciones | J8: =MONTH(C8) -> 1 | K8: =WEEKDAY(C8,2) -> 2 | L8: =VLOOKUP(D8,$N$5:$P$10,3,FALSE) -> 4 | N8: Vacaciones | O8: = | P8: 4 | Q8: =COUNTIF(lstDailyEvents,P8) -> 12 | R8: =Q8&" Dias" -> 12 Dias
B9: =VLOOKUP(D9,$N$5:$O$10,2,FALSE) -> = | C9: =C8+1 -> 44566 | D9: Vacaciones | J9: =MONTH(C9) -> 1 | K9: =WEEKDAY(C9,2) -> 3 | L9: =VLOOKUP(D9,$N$5:$P$10,3,FALSE) -> 4 | N9: 0 | O9: ="" | P9: 5 | Q9: =COUNTIF(lstDailyEvents,P9) -> 342
B10: =VLOOKUP(D10,$N$5:$O$10,2,FALSE) -> = | C10: =C9+1 -> 44567 | D10: Vacaciones | J10: =MONTH(C10) -> 1 | K10: =WEEKDAY(C10,2) -> 4 | L10: =VLOOKUP(D10,$N$5:$P$10,3,FALSE) -> 4 | N10: ="" | O10: ="" | P10: 6
B11: =VLOOKUP(D11,$N$5:$O$10,2,FALSE) -> i | C11: =C10+1 -> 44568 | D11: Importante | J11: =MONTH(C11) -> 1 | K11: =WEEKDAY(C11,2) -> 5 | L11: =VLOOKUP(D11,$N$5:$P$10,3,FALSE) -> 1
B12: =VLOOKUP(D12,$N$5:$O$10,2,FALSE) -> i | C12: =C11+1 -> 44569 | D12: Importante | E12: Llamar al Dr. Calmor y Discutir acerca del Problema. | J12: =MONTH(C12) -> 1 | K12: =WEEKDAY(C12,2) -> 6 | L12: =VLOOKUP(D12,$N$5:$P$10,3,FALSE) -> 1
B13: =VLOOKUP(D13,$N$5:$O$10,2,FALSE) -> i | C13: =C12+1 -> 44570 | D13: Importante | E13: Horario de Lanzamiento Producto 1 | J13: =MONTH(C13) -> 1 | K13: =WEEKDAY(C13,2) -> 7 | L13: =VLOOKUP(D13,$N$5:$P$10,3,FALSE) -> 1
B14: =VLOOKUP(D14,$N$5:$O$10,2,FALSE) | C14: =C13+1 -> 44571 | J14: =MONTH(C14) -> 1 | K14: =WEEKDAY(C14,2) -> 1 | L14: =VLOOKUP(D14,$N$5:$P$10,3,FALSE) -> 5
B15: =VLOOKUP(D15,$N$5:$O$10,2,FALSE) | C15: =C14+1 -> 44572 | J15: =MONTH(C15) -> 1 | K15: =WEEKDAY(C15,2) -> 2 | L15: =VLOOKUP(D15,$N$5:$P$10,3,FALSE) -> 5
B16: =VLOOKUP(D16,$N$5:$O$10,2,FALSE) | C16: =C15+1 -> 44573 | J16: =MONTH(C16) -> 1 | K16: =WEEKDAY(C16,2) -> 3 | L16: =VLOOKUP(D16,$N$5:$P$10,3,FALSE) -> 5
B17: =VLOOKUP(D17,$N$5:$O$10,2,FALSE) | C17: =C16+1 -> 44574 | J17: =MONTH(C17) -> 1 | K17: =WEEKDAY(C17,2) -> 4 | L17: =VLOOKUP(D17,$N$5:$P$10,3,FALSE) -> 5
B18: =VLOOKUP(D18,$N$5:$O$10,2,FALSE) -> = | C18: =C17+1 -> 44575 | D18: Vacaciones | E18: Consigase Vacaciones en Marzo! | J18: =MONTH(C18) -> 1 | K18: =WEEKDAY(C18,2) -> 5 | L18: =VLOOKUP(D18,$N$5:$P$10,3,FALSE) -> 4
B19: =VLOOKUP(D19,$N$5:$O$10,2,FALSE) -> = | C19: =C18+1 -> 44576 | D19: Vacaciones | J19: =MONTH(C19) -> 1 | K19: =WEEKDAY(C19,2) -> 6 | L19: =VLOOKUP(D19,$N$5:$P$10,3,FALSE) -> 4
B20: =VLOOKUP(D20,$N$5:$O$10,2,FALSE) -> = | C20: =C19+1 -> 44577 | D20: Vacaciones | J20: =MONTH(C20) -> 1 | K20: =WEEKDAY(C20,2) -> 7 | L20: =VLOOKUP(D20,$N$5:$P$10,3,FALSE) -> 4
B21: =VLOOKUP(D21,$N$5:$O$10,2,FALSE) | C21: =C20+1 -> 44578 | J21: =MONTH(C21) -> 1 | K21: =WEEKDAY(C21,2) -> 1 | L21: =VLOOKUP(D21,$N$5:$P$10,3,FALSE) -> 5
B22: =VLOOKUP(D22,$N$5:$O$10,2,FALSE) | C22: =C21+1 -> 44579 | J22: =MONTH(C22) -> 1 | K22: =WEEKDAY(C22,2) -> 2 | L22: =VLOOKUP(D22,$N$5:$P$10,3,FALSE) -> 5
B23: =VLOOKUP(D23,$N$5:$O$10,2,FALSE) | C23: =C22+1 -> 44580 | J23: =MONTH(C23) -> 1 | K23: =WEEKDAY(C23,2) -> 3 | L23: =VLOOKUP(D23,$N$5:$P$10,3,FALSE) -> 5
B24: =VLOOKUP(D24,$N$5:$O$10,2,FALSE) | C24: =C23+1 -> 44581 | J24: =MONTH(C24) -> 1 | K24: =WEEKDAY(C24,2) -> 4 | L24: =VLOOKUP(D24,$N$5:$P$10,3,FALSE) -> 5
B25: =VLOOKUP(D25,$N$5:$O$10,2,FALSE) -> ¦ | C25: =C24+1 -> 44582 | D25: Aniversario | J25: =MONTH(C25) -> 1 | K25: =WEEKDAY(C25,2) -> 5 | L25: =VLOOKUP(D25,$N$5:$P$10,3,FALSE) -> 2
B26: =VLOOKUP(D26,$N$5:$O$10,2,FALSE) | C26: =C25+1 -> 44583 | J26: =MONTH(C26) -> 1 | K26: =WEEKDAY(C26,2) -> 6 | L26: =VLOOKUP(D26,$N$5:$P$10,3,FALSE) -> 5
B27: =VLOOKUP(D27,$N$5:$O$10,2,FALSE) | C27: =C26+1 -> 44584 | J27: =MONTH(C27) -> 1 | K27: =WEEKDAY(C27,2) -> 7 | L27: =VLOOKUP(D27,$N$5:$P$10,3,FALSE) -> 5
B28: =VLOOKUP(D28,$N$5:$O$10,2,FALSE) | C28: =C27+1 -> 44585 | J28: =MONTH(C28) -> 1 | K28: =WEEKDAY(C28,2) -> 1 | L28: =VLOOKUP(D28,$N$5:$P$10,3,FALSE) -> 5
B29: =VLOOKUP(D29,$N$5:$O$10,2,FALSE) -> i | C29: =C28+1 -> 44586 | D29: Importante | J29: =MONTH(C29) -> 1 | K29: =WEEKDAY(C29,2) -> 2 | L29: =VLOOKUP(D29,$N$5:$P$10,3,FALSE) -> 1
B30: =VLOOKUP(D30,$N$5:$O$10,2,FALSE) | C30: =C29+1 -> 44587 | J30: =MONTH(C30) -> 1 | K30: =WEEKDAY(C30,2) -> 3 | L30: =VLOOKUP(D30,$N$5:$P$10,3,FALSE) -> 5
B31: =VLOOKUP(D31,$N$5:$O$10,2,FALSE) | C31: =C30+1 -> 44588 | J31: =MONTH(C31) -> 1 | K31: =WEEKDAY(C31,2) -> 4 | L31: =VLOOKUP(D31,$N$5:$P$10,3,FALSE) -> 5
B32: =VLOOKUP(D32,$N$5:$O$10,2,FALSE) | C32: =C31+1 -> 44589 | J32: =MONTH(C32) -> 1 | K32: =WEEKDAY(C32,2) -> 5 | L32: =VLOOKUP(D32,$N$5:$P$10,3,FALSE) -> 5
B33: =VLOOKUP(D33,$N$5:$O$10,2,FALSE) | C33: =C32+1 -> 44590 | J33: =MONTH(C33) -> 1 | K33: =WEEKDAY(C33,2) -> 6 | L33: =VLOOKUP(D33,$N$5:$P$10,3,FALSE) -> 5
B34: =VLOOKUP(D34,$N$5:$O$10,2,FALSE) | C34: =C33+1 -> 44591 | J34: =MONTH(C34) -> 1 | K34: =WEEKDAY(C34,2) -> 7 | L34: =VLOOKUP(D34,$N$5:$P$10,3,FALSE) -> 5
